Workbook

Sheet regression & correlation
B1: Regression coefficients (normalized data): | G1: Individual correlations:
B2: political right | C2: age | D2: female | E2: effectiveAltruist | G2: political right | H2: age | I2: female | J2: effectiveAltruist
A3: That god is pleased with me (5p79zt1) | B3: 0.061994598 | C3: 0.07293951 | D3: 0.053546857 | E3: -0.12669891 | G3: 0.22441525 | H3: 0.41710435 | I3: 0.23693524 | J3: -0.47040247
A4: That humanity worships god (r10kvni) | B4: 0.057986419 | C4: 0.068362326 | D4: 0.037036733 | E4: -0.064212299 | G4: 0.25511708 | H4: 0.41095808 | I4: 0.21725758 | J4: -0.3897568
A5: That those who do bad things are punished (cwljlbf) | B5: 0.052563897 | C5: 0.027722133 | D5: -0.019800959 | E5: -0.074571948 | G5: 0.21353968 | H5: 0.20973178 | I5: -0.009075168 | J5: -0.2885478
A6: That people are religious (loyblsl) | B6: 0.04934409 | C6: 0.030201811 | D6: 0.04345159 | E6: -0.071753553 | G6: 0.21897157 | H6: 0.30936357 | I6: 0.21895661 | J6: -0.36585147
A7: That humanity is not replaced by another, more intelligent life form (ycvqx2r) | B7: 0.045790368 | C7: 0.0022578653 | D7: 0.0075017415 | E7: -0.047486747 | G7: 0.14316608 | H7: 0.095622713 | I7: 0.035571926 | J7: -0.15438787
A8: That my values do not change to something different than they are right now (7a2hyb1) | B8: 0.034816138 | C8: 0.076630605 | D8: 0.013024261 | E8: -0.077495339 | G8: 0.15476152 | H8: 0.34467002 | I8: 0.12602639 | J8: -0.34183212
A9: That I have children (higviv5) | B9: 0.033573865 | C9: 0.047641509 | D9: 0.048663082 | E9: -0.093532511 | G9: 0.13143068 | H9: 0.29703259 | I9: 0.19828798 | J9: -0.34214392
A10: That humanity becomes more moral than it is right now (yn9dzzq) | B10: 0.028086235 | C10: 0.10596828 | D10: -0.0020773485 | E10: -0.021595516 | G10: 0.10012368 | H10: 0.25919961 | I10: 0.063776958 | J10: -0.16994903
A11: That the people I know *personally* live longer than they normally would (whml14c) | B11: 0.020536655 | C11: 0.0027105827 | D11: 0.080985138 | E11: -0.048415835 | G11: 0.048029736 | H11: 0.11582077 | I11: 0.19331999 | J11: -0.14542479
A12: That I myself feel happy (ks3khiy) | B12: 0.018331056 | C12: 0.00087803359 | D12: 0.022593119 | E12: 0.035154536 | G12: 0.027881329 | H12: -0.018659286 | I12: 0.036549399 | J12: 0.066609014
A13: That I am not socially rejected by other people (33ksqp9) | B13: 0.018116018 | C13: -0.0064762605 | D13: 0.024501187 | E13: -0.015332522 | G13: 0.045609652 | H13: 0.027993237 | I13: 0.062137427 | J13: -0.04881854
A14: That the animals that are currently alive live longer than they normally would (uxw5h8v) | B14: 0.013267175 | C14: -0.042808392 | D14: 0.051877369 | E14: -0.075649076 | G14: 0.035778817 | H14: 0.030372121 | I14: 0.13038343 | J14: -0.16304793
... A62: That animals (non-humans) feel happy (rqiszcv) | B62: -0.107382 | C62: 0.011151706 | D62: -0.021730159 | E62: 0.088260269 | G62: -0.25065969 | H62: -0.11808716 | I62: -0.055821691 | J62: 0.21818206

Sheet sorted
A1: Percent who claim they find it intrinsically valuable
A2: people were removed before analysis if they:
A3: (a) didn't finish the survey
A4: (b) failed more than 1 of the 3 quiz questions on what an "intrinsic value" is, or
A5: (c) the definition for "intrinsic value" they wrote is not compatible with the given definition
A6: EA vs. partial EA vs. non-EA for Facebook audience is self-report of which people identify as (all mechanical turk workers assumed to be non-EA)
A7: total (n=215) | B7: non-EAs from FB + mturk (n=68) | C7: partial EAs from FB (n=66) | D7: EAs from FB (n=81) | E7: EA - non-EA difference | G7: Universal?
A8: 0.56744186 | B8: 0.30882353 | C8: 0.51515152 | D8: 0.82716049 | E8: =D8-B8 -> 0.51833696 | F8: That people I don't know experience more pleasure than they do normally (9seol1h) | G8: 1
A9: 0.72093023 | B9: 0.48529412 | C9: 0.77272727 | D9: 0.87654321 | E9: =D9-B9 -> 0.39124909 | F9: That people I don't know suffer less than they do normally (7fbh60h) | G9: 1
A10: 0.70232558 | B10: 0.5 | C10: 0.68181818 | D10: 0.88888889 | E10: =D10-B10 -> 0.38888889 | F10: That people I don't know feel happy (6z35kho) | G10: 1
A11: 0.69767442 | B11: 0.51470588 | C11: 0.68181818 | D11: 0.86419753 | E11: =D11-B11 -> 0.34949165 | F11: That animals (non-humans) suffer less than they do normally (chphkqo) | G11: 1
A12: 0.68372093 | B12: 0.57352941 | C12: 0.63636364 | D12: 0.81481481 | E12: =D12-B12 -> 0.2412854 | F12: That animals (non-humans) feel happy (rqiszcv) | G12: 1
A13: 0.35348837 | B13: 0.30882353 | C13: 0.34848485 | D13: 0.39506173 | E13: =D13-B13 -> 0.086238199 | F13: That people I don't know are able to get the things that they want (ve67ryu) | G13: 1
A14: 0.32093023 | B14: 0.29411765 | C14: 0.28787879 | D14: 0.37037037 | E14: =D14-B14 -> 0.076252723 | F14: That animals are able to get the things that they want (d1rdeyt) | G14: 1
A15: 0.26046512 | B15: 0.20588235 | C15: 0.31818182 | D15: 0.25925926 | E15: =D15-B15 -> 0.053376906 | F15: That humanity does not go extinct as quickly as it would normally (b6so6w4) | G15: 1
A16: 0.2744186 | B16: 0.26470588 | C16: 0.25757576 | D16: 0.2962963 | E16: =D16-B16 -> 0.031590414 | F16: That people I don't know live longer than they normally would (3mo7qil) | G16: 1
A17: 0.19069767 | B17: 0.17647059 | C17: 0.22727273 | D17: 0.17283951 | E17: =D17-B17 -> -0.0036310821 | F17: That not all humans have the same experiences as each other (cnktu1l) | G17: 1
A18: 0.36744186 | B18: 0.36764706 | C18: 0.40909091 | D18: 0.33333333 | E18: =D18-B18 -> -0.034313725 | F18: That humanity does not engage in immoral acts (zqv8d37) | G18: 1
A19: 0.35348837 | B19: 0.36764706 | C19: 0.39393939 | D19: 0.30864198 | E19: =D19-B19 -> -0.059005084 | F19: That humanity continues to makes progress discovering things that weren't previously known (sjyi06d) | G19: 1
... A67: 0.55813953 | B67: 0.82352941 | C67: 0.53030303 | D67: 0.35802469 | E67: =D67-B67 -> -0.46550472 | F67: That I love other people (ieuyv2e) | G67: 0

Sheet all data
X1: Intrinsic value = 2, value but not intrinsic = 1, non-value = 0
X2: % who rated it an intrinsic value:
X3: EAs from FB | Y3: =COUNTIF(Y8:Y88, "=2")/COUNTIF(Y8:Y88, ">=0") -> 0.2962963 | Z3: =COUNTIF(Z8:Z88, "=2")/COUNTIF(Z8:Z88, ">=0") -> 0.38271605 | AA3: =COUNTIF(AA8:AA88, "=2")/COUNTIF(AA8:AA88, ">=0") -> 0.19753086 | AB3: =COUNTIF(AB8:AB88, "=2")/COUNTIF(AB8:AB88, ">=0") -> 0.30864198 | AC3: =COUNTIF(AC8:AC88, "=2")/COUNTIF(AC8:AC88, ">=0") -> 0.2345679 | AD3: =COUNTIF(AD8:AD88, "=2")/COUNTIF(AD8:AD88, ">=0") -> 0.024691358 | AE3: =COUNTIF(AE8:AE88, "=2")/COUNTIF(AE8:AE88, ">=0") -> 0.80246914 | AF3: =COUNTIF(AF8:AF88, "=2")/COUNTIF(AF8:AF88, ">=0") -> 0.32098765 | ... CF3: =COUNTIF(CF8:CF88, "=2")/COUNTIF(CF8:CF88, ">=0") -> 0.74074074 | CG3: correl EA to partial EA %'s | CH3: =CORREL(Y3:CF3, Y4:CF4) -> 0.90872668
X4: partial EAs from FB | Y4: =COUNTIF(Y89:Y154, "=2")/COUNTIF(Y89:Y154, ">=0") -> 0.25757576 | Z4: =COUNTIF(Z89:Z154, "=2")/COUNTIF(Z89:Z154, ">=0") -> 0.51515152 | AA4: =COUNTIF(AA89:AA154, "=2")/COUNTIF(AA89:AA154, ">=0") -> 0.22727273 | AB4: =COUNTIF(AB89:AB154, "=2")/COUNTIF(AB89:AB154, ">=0") -> 0.39393939 | AC4: =COUNTIF(AC89:AC154, "=2")/COUNTIF(AC89:AC154, ">=0") -> 0.37878788 | AD4: =COUNTIF(AD89:AD154, "=2")/COUNTIF(AD89:AD154, ">=0") -> 0.090909091 | AE4: =COUNTIF(AE89:AE154, "=2")/COUNTIF(AE89:AE154, ">=0") -> 0.65151515 | AF4: =COUNTIF(AF89:AF154, "=2")/COUNTIF(AF89:AF154, ">=0") -> 0.45454545 | ... CF4: =COUNTIF(CF89:CF154, "=2")/COUNTIF(CF89:CF154, ">=0") -> 0.57575758 | CG4: correl EA to non-EA %'s | CH4: =CORREL(Y3:CF3, Y5:CF5) -> 0.4321778
X5: non-EAs from FB + mturk | Y5: =COUNTIF(Y155:Y222, "=2")/COUNTIF(Y155:Y222, ">=0") -> 0.26470588 | Z5: =COUNTIF(Z155:Z222, "=2")/COUNTIF(Z155:Z222, ">=0") -> 0.57352941 | AA5: =COUNTIF(AA155:AA222, "=2")/COUNTIF(AA155:AA222, ">=0") -> 0.27941176 | AB5: =COUNTIF(AB155:AB222, "=2")/COUNTIF(AB155:AB222, ">=0") -> 0.36764706 | AC5: =COUNTIF(AC155:AC222, "=2")/COUNTIF(AC155:AC222, ">=0") -> 0.47058824 | AD5: =COUNTIF(AD155:AD222, "=2")/COUNTIF(AD155:AD222, ">=0") -> 0.23529412 | AE5: =COUNTIF(AE155:AE222, "=2")/COUNTIF(AE155:AE222, ">=0") -> 0.55882353 | AF5: =COUNTIF(AF155:AF222, "=2")/COUNTIF(AF155:AF222, ">=0") -> 0.73529412 | ... CF5: =COUNTIF(CF155:CF222, "=2")/COUNTIF(CF155:CF222, ">=0") -> 0.51470588 | CG5: correl partial EA to non-EA %'s | CH5: =CORREL(Y4:CF4, Y5:CF5) -> 0.62903148
X6: total | Y6: =COUNTIF(Y8:Y222, "=2")/COUNTIF(Y8:Y222, ">=0") -> 0.2744186 | Z6: =COUNTIF(Z8:Z222, "=2")/COUNTIF(Z8:Z222, ">=0") -> 0.48372093 | AA6: =COUNTIF(AA8:AA222, "=2")/COUNTIF(AA8:AA222, ">=0") -> 0.23255814 | AB6: =COUNTIF(AB8:AB222, "=2")/COUNTIF(AB8:AB222, ">=0") -> 0.35348837 | AC6: =COUNTIF(AC8:AC222, "=2")/COUNTIF(AC8:AC222, ">=0") -> 0.35348837 | AD6: =COUNTIF(AD8:AD222, "=2")/COUNTIF(AD8:AD222, ">=0") -> 0.11162791 | AE6: =COUNTIF(AE8:AE222, "=2")/COUNTIF(AE8:AE222, ">=0") -> 0.67906977 | AF6: =COUNTIF(AF8:AF222, "=2")/COUNTIF(AF8:AF222, ">=0") -> 0.49302326 | ... CF6: =COUNTIF(CF8:CF222, "=2")/COUNTIF(CF8:CF222, ">=0") -> 0.61860465
A7: Run | B7: Program Version | C7: Time Started (UTC) | D7: Minutes Spent | E7: Position | F7: In your own words, what is an *intrinsic value*? Complete the sentence (ws9gyzl) | G7: Points | H7: age | I7: year_of_birth | J7: education | K7: educationScore | L7: gender | M7: femaleAs1MaleAs0 | N7: income | O7: incomeScore | P7: householdIncomeEstimate | Q7: computer_country | R7: device | S7: started_at | T7: theirDefinitionOfIntrinsicValue | U7: Please make a list of all the things that you can think of that you *value intrinsically*, that is, the things that you would still value even if *nothing else whatsoever* occured as a result of that thing occuring. (yoft53f) | V7: whatTheyListedAsIntrinsicValues | W7: scale | X7: Randomize (gjom1df) | Y7: That people I don't know live longer than they normally would (3mo7qil) | Z7: That I increase my understanding of the nature of reality beyond my current understanding (rytm9f6) | AA7: That I myself live longer than I normally would (q2ws20f) | AB7: That humanity continues to makes progress discovering things that weren't previously known (sjyi06d) | AC7: That I don't become less intelligent than I am now (f6aoczu) | AD7: That the nature of what humans are is not one day radically altered by advanced technology (cl3xz2o) | AE7: That I myself suffer less than I do normally (p7miry7) | AF7: That I continue to care about other people (duvf5i5) | AG7: That the people I know *personally* are able to get the things that they want (rvjclrh) | AH7: That I have children (higviv5) | AI7: That beautiful things continue to exist (nnnikwl) | AJ7: That humanity becomes more moral than it is right now (yn9dzzq) | AK7: That I myself feel happy (ks3khiy) | AL7: That humans are kind to each other (oqwzncg) | AM7: That I avoid saying things that are false (tv60egf) | AN7: That animals (non-humans) feel happy (rqiszcv) | AO7: That I love other people (ieuyv2e) | AP7: That animals are able to get the things that they want (d1rdeyt) | AQ7: That humans all have equal opportunity (9pj3mvf) | AR7: That nature is protected from damage by humans (8ztjo6s) | AS7: That I improve the lives of other people during my life (bz15rxo) | AT7: That people are religious (loyblsl) | AU7: That the people I know *personally* live longer than they normally would (whml14c) | AV7: That humanity is not replaced by another, more intelligent life form (ycvqx2r) | AW7: That animals (non-humans) suffer less than they do normally (chphkqo) | AX7: That people I don't know feel happy (6z35kho) | AY7: That god is pleased with me (5p79zt1) | AZ7: That I believe true things rather than false things (m4j75ti) | BA7: That there are lots of different kinds of humans (yjwwrlq) | BB7: That humanity does not engage in immoral acts (zqv8d37) | BC7: That other people continue to care about me (8lc2rp7) | BD7: That people I don't know are able to get the things that they want (ve67ryu) | BE7: That people I don't know experience more pleasure than they do normally (9seol1h) | BF7: That people trust me (tfys9nh) | BG7: That the world is a fair place (tpc0o1f) | BH7: That animals (non-humans) experience more pleasure than they do normally (e98cezb) | BI7: That those who do good things are rewarded (6ye7hrk) | BJ7: That those who do bad things are punished (cwljlbf) | BK7: That I do not suddenly die painlessly in my sleep tomorrow night (we9zef6) | BL7: That humanity does not go extinct as quickly as it would normally (b6so6w4) | BM7: That animal species do not go extinct as soon as they would normally (dy2r65d) | BN7: That people I don't know suffer less than they do normally (7fbh60h) | BO7: That I myself am able to get the things that I want (ze3j4yw) | BP7: That I am not socially rejected by other people (33ksqp9) | BQ7: That I continue to learn new things (p0pattz) | BR7: That humanity believes true things rather than false things (tap7yp7) | BS7: That I am remembered after I am dead (4udr0wf) | BT7: That other people love me (s1ygz8e) | BU7: That humanity worships god (r10kvni) | BV7: That I become *more* intelligent than I am now (prkoiue) | BW7: That the people I know *personally* suffer less than they do normally (g7x30fr) | BX7: That the people I know *personally* experience more pleasure than they do normally (b3kxzzi) | BY7: That the animals that are currently alive live longer than they normally would (uxw5h8v) | BZ7: That not all humans have the same experiences as each other (cnktu1l) | CA7: That my values do not change to something different than they are right now (7a2hyb1) | CB7: That the people I know *personally* feel happy (lp32tzz) | CC7: That I am admired by other people (th6zdg0) | CD7: That I get to experience a wide variety of different things during my life (eynzxu6) | CE7: That humans have the freedom to pursue what they choose to pursue (yv4sxs9) | CF7: That I myself experience more pleasure than I do normally (pbg7jqy) | CG7: Time Finished (UTC) | CH7: Is cash an intrinsic value? (8kf32e5) | CI7: Is *food* an intrinsic value? (ku0mhnm) | CJ7: numQuizQuestionsRight | CK7: numQuizQuestionsTaken | CL7: Is cash an *intrinsic* value? (zk3lrlo) | CM7: Is *food* an intrinsic value? (sa0mkd3) | CN7: Is cash (i.e. money) something that people *intrinsic* value? (zmugd0n) | CO7: In political matters, where do your views generally fall on the scale from "left" (progressive) to "right" (conservative)? (r9rosdj) | CP7: Politics_PoliticalSelfPosition | CQ7: Politics_PoliticalSelfPosition_Score | CR7: url_params | CS7: In your own words, please write the definition of what an *intrinsic value* is. Complete the sentence: (9sban9y) | CT7: I think definition they gave is compatible with correct answer | CU7: Is cash (i.e. money) something that people *intrinsic* value? (914bs9z) | CV7: Is *food* an intrinsic value? (weln04f) | CW7: Are pleasurable experiences an *intrinsic* value for many people? (skw1d5t) | CX7: Is cash (i.e. money) something that people *intrinsic* value? (d0ficpj) | CY7: firstQuizQuestionRight | CZ7: Is *food* an intrinsic value? (56rvqao) | DA7: secondQuizQuestionRight | DB7: Are pleasurable experiences an *intrinsic* value for many people? (b0k788b) | DC7: thirdQuizQuestionRight | DD7: Is cash (i.e. money) an *intrinsic* value? (m2hv80s) | DE7: Randomize (3e5diq6) | DF7: Gold (the type of metal) (9r1t3rh) | DG7: Toothbrushes (x34naaq) | DH7: facebook | DI7: How old are you? (r7g8j53) | DJ7: What gender do you identify with? (prmix5v) | DK7: Are you familiar with the phrase "Effective Altruist"? (zuq0yvy) | DL7: knowsWhatEffectiveAltruistMeans | DM7: Do you consider yourself an "Effective Altruist"? (716j4xd) | DN7: effectiveAltruist
A8: 3187277 | B8: 73 | C8: 43211.805 | D8: 17.93 | E8: b5cslrl | G8: 1 | H8: 22 | L8: female | M8: 1 | T8: something that valued in and of itself not because it has an actual effect | U8: music,animals | V8: [music, animals] | W8: [[Not something I value, 0], [A value of mine, but not an intrinisic value (I value it only because of what it causes), 1], [An intrinsic value of mine (I value it even if it causes nothing else), 2]] | Y8: 1 | Z8: 2 | AA8: 2 | AB8: 1 | AC8: 2 | AD8: 0 | AE8: 2 | AF8: 2 | AG8: 1 | AH8: 0 | AI8: 2 | AJ8: 1 | AK8: 1 | AL8: 2 | AM8: 1 | AN8: 1 | AO8: 2 | AP8: 1 | AQ8: 1 | AR8: 1 | AS8: 1 | AT8: 0 | AU8: 1 | AV8: 0 | AW8: 1 | AX8: 2 | AY8: 0 | AZ8: 2 | BA8: 2 | BB8: 2 | BC8: 2 | BD8: 1 | BE8: 1 | BF8: 2 | BG8: 2 | BH8: 2 | BI8: 1 | BJ8: 1 | BK8: 1 | BL8: 1 | BM8: 0 | BN8: 1 | BO8: 2 | BP8: 2 | BQ8: 1 | BR8: 2 | BS8: 0 | BT8: 2 | BU8: 0 | BV8: 1 | BW8: 1 | BX8: 1 | BY8: 1 | BZ8: 2 | CA8: 0 | CB8: 1 | CC8: 1 | CD8: 2 | CE8: 1 | CF8: 1 | CG8: 43211.818 | CJ8: 2 | CK8: 0 | CO8: Very Left | CP8: Very Left | CQ8: 2 | CR8: &Politics_PoliticalSelfPosition_Score=2 | CS8: something that valued in and of itself not because it has an actual effect | CT8: 1 | CY8: 1 | CZ8: Yes | DA8: 0 | DB8: Yes | DC8: 1 | DD8: No | DE8: dy2r65d,zqv8d37,tv60egf,prkoiue,higviv5,ieuyv2e,oqwzncg,loyblsl,rytm9f6,3mo7qil,q2ws20f,s1ygz8e,ze3j4yw,cwljlbf,5p79zt1,4udr0wf,33ksqp9,tpc0o1f,whml14c,th6zdg0,cl3xz2o,b3kxzzi,tfys9nh,e98cezb,9r1t3rh,ve67ryu,x34naaq,b6so6w4,d1rdeyt,r10kvni,yv4sxs9,6ye7hrk,6z35kho,9pj3mvf,7fbh60h,lp32tzz,uxw5h8v,m4j75ti,cnktu1l,9seol1h,rvjclrh,sjyi06d,8lc2rp7,p7miry7,7a2hyb1,pbg7jqy,8ztjo6s,p0pattz,f6aoczu,yn9dzzq,we9zef6,eynzxu6,duvf5i5,g7x30fr,ycvqx2r,tap7yp7,yjwwrlq,nnnikwl,rqiszcv,ks3khiy,bz15rxo,chphkqo | DF8: 0 | DG8: 1 | DH8: 1 | DI8: 22 | DJ8: female | DK8: Yes, I have heard that phrase used on multiple occasions | DL8: 1 | DM8: Yes, I am one | DN8: 1
A9: 3187479 | B9: 73 | C9: 43211.915 | D9: 14.72 | E9: b5cslrl | G9: 1 | H9: 26 | L9: female | M9: 1 | T9: something that you value in and of itself, regardless of any knock on effects | U9: existence of (very) intelligent life,happy experiences occurring to intelligent lifeforms,the priorities of intelligent lifeforms being fulfilled,the universe being understood,existence of notable possible structures, such as beautiful, elegant and complex objects,the wellbeing of specific people and animals I know,the/a universe continuing to exist,absence of strongly negative experiences occurring to intelligent lifeforms | V9: [existence of (very) intelligent life, happy experiences occurring to intelligent lifeforms, the priorities of intelligent lifeforms being fulfilled, the universe being understood, existence of notable possible structures, such as beautiful, elegant and complex objects, the wellbeing of specific people and animals I know, the/a universe continuing to exist, absence of strongly negative experiences occurring to intelligent lifeforms] | W9: [[Not something I value, 0], [A value of mine, but not an intrinisic value (I value it only because of what it causes), 1], [An intrinsic value of mine (I value it even if it causes nothing else), 2]] | Y9: 2 | Z9: 2 | AA9: 2 | AB9: 2 | AC9: 2 | AD9: 0 | AE9: 2 | AF9: 1 | AG9: 2 | AH9: 0 | AI9: 2 | AJ9: 1 | AK9: 2 | AL9: 2 | AM9: 1 | AN9: 2 | AO9: 2 | AP9: 2 | AQ9: 0 | AR9: 2 | AS9: 2 | AT9: 0 | AU9: 2 | AV9: 0 | AW9: 2 | AX9: 2 | AY9: 0 | AZ9: 2 | BA9: 2 | BB9: 1 | BC9: 1 | BD9: 2 | BE9: 2 | BF9: 1 | BG9: 0 | BH9: 2 | BI9: 1 | BJ9: 0 | BK9: 2 | BL9: 2 | BM9: 2 | BN9: 2 | BO9: 2 | BP9: 1 | BQ9: 2 | BR9: 2 | BS9: 1 | BT9: 1 | BU9: 0 | BV9: 2 | BW9: 2 | BX9: 2 | BY9: 2 | BZ9: 2 | CA9: 0 | CB9: 2 | CC9: 1 | CD9: 2 | CE9: 2 | CF9: 2 | CG9: 43211.925 | CJ9: 2 | CK9: 0 | CO9: Very Left | CP9: Very Left | CQ9: 2 | CR9: &Politics_PoliticalSelfPosition_Score=2 | CS9: something that you value in and of itself, regardless of any knock on effects | CT9: 1 | CY9: 1 | CZ9: Yes | DA9: 0 | DB9: Yes | DC9: 1 | DD9: No | DE9: f6aoczu,tv60egf,yjwwrlq,6ye7hrk,8ztjo6s,ieuyv2e,9r1t3rh,yv4sxs9,pbg7jqy,b3kxzzi,yn9dzzq,oqwzncg,9seol1h,tfys9nh,6z35kho,cl3xz2o,ve67ryu,3mo7qil,r10kvni,q2ws20f,loyblsl,th6zdg0,9pj3mvf,g7x30fr,prkoiue,whml14c,7a2hyb1,chphkqo,sjyi06d,higviv5,33ksqp9,rqiszcv,tap7yp7,zqv8d37,duvf5i5,e98cezb,s1ygz8e,d1rdeyt,5p79zt1,ks3khiy,b6so6w4,m4j75ti,cnktu1l,rvjclrh,x34naaq,nnnikwl,ze3j4yw,p7miry7,rytm9f6,7fbh60h,4udr0wf,8lc2rp7,uxw5h8v,we9zef6,cwljlbf,lp32tzz,ycvqx2r,p0pattz,tpc0o1f,eynzxu6,bz15rxo,dy2r65d | DF9: 1 | DG9: 0 | DH9: 1 | DI9: 26 | DJ9: female | DK9: Yes, I have heard that phrase used on multiple occasions | DL9: 1 | DM9: Yes, I am one | DN9: 1
A10: 3187646 | B10: 73 | C10: 43212.028 | D10: 15.62 | E10: b5cslrl | G10: 1 | H10: 25 | L10: male | M10: 0 | T10: something that has a value in itself, regardless of the surrounding world. | U10: Freedom,Thought,Good relationships,Development,Flow mode,Happiness,Purpose | V10: [Freedom, Thought, Good relationships, Development, Flow mode, Happiness, Purpose] | W10: [[Not something I value, 0], [A value of mine, but not an intrinisic value (I value it only because of what it causes), 1], [An intrinsic value of mine (I value it even if it causes nothing else), 2]] | Y10: 1 | Z10: 2 | AA10: 0 | AB10: 1 | AC10: 2 | AD10: 0 | AE10: 1 | AF10: 1 | AG10: 0 | AH10: 0 | AI10: 1 | AJ10: 1 | AK10: 2 | AL10: 2 | AM10: 2 | AN10: 2 | AO10: 1 | AP10: 0 | AQ10: 1 | AR10: 2 | AS10: 2 | AT10: 0 | AU10: 1 | AV10: 0 | AW10: 2 | AX10: 2 | AY10: 0 | AZ10: 2 | BA10: 1 | BB10: 2 | BC10: 2 | BD10: 0 | BE10: 0 | BF10: 1 | BG10: 1 | BH10: 1 | BI10: 1 | BJ10: 0 | BK10: 1 | BL10: 1 | BM10: 1 | BN10: 2 | BO10: 1 | BP10: 1 | BQ10: 2 | BR10: 0 | BS10: 0 | BT10: 1 | BU10: 0 | BV10: 1 | BW10: 2 | BX10: 1 | BY10: 1 | BZ10: 1 | CA10: 0 | CB10: 1 | CC10: 1 | CD10: 1 | CE10: 1 | CF10: 0 | CG10: 43212.039 | CJ10: 2 | CK10: 0 | CO10: Left | CP10: Left | CQ10: 3 | CR10: &Politics_PoliticalSelfPosition_Score=3 | CS10: something that has a value in itself, regardless of the surrounding world. | CT10: 1 | CY10: 1 | CZ10: Yes | DA10: 0 | DB10: Yes | DC10: 1 | DD10: No | DE10: ks3khiy,x34naaq,3mo7qil,7a2hyb1,r10kvni,ycvqx2r,cwljlbf,e98cezb,nnnikwl,oqwzncg,6ye7hrk,bz15rxo,ve67ryu,b3kxzzi,ze3j4yw,7fbh60h,rvjclrh,tpc0o1f,6z35kho,g7x30fr,s1ygz8e,uxw5h8v,whml14c,zqv8d37,tfys9nh,tap7yp7,33ksqp9,9r1t3rh,pbg7jqy,4udr0wf,higviv5,lp32tzz,f6aoczu,dy2r65d,yjwwrlq,8ztjo6s,th6zdg0,d1rdeyt,cnktu1l,9pj3mvf,rqiszcv,prkoiue,m4j75ti,tv60egf,p0pattz,rytm9f6,yn9dzzq,chphkqo,cl3xz2o,q2ws20f,5p79zt1,eynzxu6,p7miry7,8lc2rp7,sjyi06d,loyblsl,we9zef6,duvf5i5,9seol1h,yv4sxs9,ieuyv2e,b6so6w4 | DF10: 0 | DG10: 1 | DH10: 1 | DI10: 25 | DJ10: male | DK10: Yes, I have heard that phrase used on multiple occasions | DL10: 1 | DM10: Yes, I am one | DN10: 1
A11: 3187772 | B11: 73 | C11: 43212.126 | D11: 14.1 | E11: b5cslrl | G11: 1 | H11: 30 | L11: female | M11: 1 | T11: Something that I value even if it gives me nothing in return | U11: Kindness,Pleasure,Beauty | V11: [Kindness, Pleasure, Beauty] | W11: [[Not something I value, 0], [A value of mine, but not an intrinisic value (I value it only because of what it causes), 1], [An intrinsic value of mine (I value it even if it causes nothing else), 2]] | Y11: 1 | Z11: 1 | AA11: 1 | AB11: 1 | AC11: 1 | AD11: 0 | AE11: 1 | AF11: 2 | AG11: 0 | AH11: 0 | AI11: 2 | AJ11: 1 | AK11: 1 | AL11: 2 | AM11: 1 | AN11: 1 | AO11: 2 | AP11: 1 | AQ11: 1 | AR11: 1 | AS11: 1 | AT11: 0 | AU11: 1 | AV11: 1 | AW11: 1 | AX11: 1 | AY11: 0 | AZ11: 1 | BA11: 1 | BB11: 1 | BC11: 1 | BD11: 1 | BE11: 2 | BF11: 0 | BG11: 1 | BH11: 0 | BI11: 0 | BJ11: 1 | BK11: 1 | BL11: 1 | BM11: 1 | BN11: 1 | BO11: 0 | BP11: 1 | BQ11: 1 | BR11: 1 | BS11: 0 | BT11: 1 | BU11: 0 | BV11: 1 | BW11: 1 | BX11: 0 | BY11: 1 | BZ11: 1 | CA11: 0 | CB11: 1 | CC11: 1 | CD11: 1 | CE11: 1 | CF11: 1 | CG11: 43212.136 | CJ11: 2 | CK11: 0 | CO11: Center | CP11: Center | CQ11: 5.5 | CR11: &Politics_PoliticalSelfPosition_Score=5.5 | CS11: Something that I value even if it gives me nothing in return | CT11: 1 | CY11: 1 | CZ11: Yes | DA11: 0 | DB11: Yes | DC11: 1 | DD11: No | DE11: yn9dzzq,m4j75ti,9seol1h,6z35kho,sjyi06d,b3kxzzi,cl3xz2o,oqwzncg,bz15rxo,rvjclrh,pbg7jqy,6ye7hrk,ieuyv2e,zqv8d37,th6zdg0,ycvqx2r,nnnikwl,ks3khiy,8lc2rp7,yjwwrlq,3mo7qil,whml14c,9pj3mvf,tap7yp7,g7x30fr,prkoiue,cnktu1l,chphkqo,q2ws20f,rqiszcv,p7miry7,8ztjo6s,r10kvni,p0pattz,d1rdeyt,e98cezb,yv4sxs9,x34naaq,lp32tzz,duvf5i5,ze3j4yw,33ksqp9,s1ygz8e,loyblsl,rytm9f6,ve67ryu,eynzxu6,tv60egf,7fbh60h,f6aoczu,b6so6w4,4udr0wf,cwljlbf,tfys9nh,5p79zt1,tpc0o1f,dy2r65d,9r1t3rh,we9zef6,higviv5,7a2hyb1,uxw5h8v | DF11: 0 | DG11: 1 | DH11: 1 | DI11: 30 | DJ11: female | DK11: Yes, I have heard that phrase used on multiple occasions | DL11: 1 | DM11: Yes, I am one | DN11: 1
A12: 3187769 | B12: 73 | C12: 43212.122 | D12: 64.3 | E12: b5cslrl | G12: 1 | H12: 19 | L12: other | T12: something you value for its own sake. | U12: Life Eternal,Sentience,Sapience,Love,Eudaimonia,Happiness,Friendship,Souful union (sexual or otherwise),My Little Pony,Harmonious music | V12: [Life Eternal, Sentience, Sapience, Love, Eudaimonia, Happiness, Friendship, Souful union (sexual or otherwise), My Little Pony, Harmonious music] | W12: [[Not something I value, 0], [A value of mine, but not an intrinisic value (I value it only because of what it causes), 1], [An intrinsic value of mine (I value it even if it causes nothing else), 2]] | Y12: 2 | Z12: 2 | AA12: 2 | AB12: 2 | AC12: 2 | AD12: 0 | AE12: 2 | AF12: 2 | AG12: 2 | AH12: 1 | AI12: 2 | AJ12: 2 | AK12: 2 | AL12: 2 | AM12: 2 | AN12: 2 | AO12: 2 | AP12: 1 | AQ12: 2 | AR12: 1 | AS12: 2 | AT12: 0 | AU12: 2 | AV12: 1 | AW12: 2 | AX12: 2 | AY12: 0 | AZ12: 2 | BA12: 2 | BB12: 2 | BC12: 2 | BD12: 2 | BE12: 2 | BF12: 1 | BG12: 1 | BH12: 2 | BI12: 1 | BJ12: 1 | BK12: 2 | BL12: 2 | BM12: 2 | BN12: 2 | BO12: 1 | BP12: 2 | BQ12: 2 | BR12: 2 | BS12: 1 | BT12: 1 | BU12: 0 | BV12: 1 | BW12: 2 | BX12: 2 | BY12: 1 | BZ12: 1 | CA12: 1 | CB12: 2 | CC12: 2 | CD12: 2 | CE12: 2 | CF12: 2 | CG12: 43212.167 | CJ12: 2 | CK12: 0 | CO12: Far Left | CP12: Far Left | CQ12: 1 | CR12: &Politics_PoliticalSelfPosition_Score=1 | CS12: something you value for its own sake. | CT12: 1 | CY12: 1 | CZ12: Yes | DA12: 0 | DB12: Yes | DC12: 1 | DD12: No | DE12: 9seol1h,bz15rxo,chphkqo,ve67ryu,uxw5h8v,q2ws20f,higviv5,p0pattz,yv4sxs9,6ye7hrk,tv60egf,b6so6w4,cl3xz2o,p7miry7,pbg7jqy,33ksqp9,x34naaq,th6zdg0,8ztjo6s,nnnikwl,cwljlbf,loyblsl,rqiszcv,9pj3mvf,b3kxzzi,lp32tzz,6z35kho,4udr0wf,g7x30fr,we9zef6,cnktu1l,m4j75ti,rvjclrh,oqwzncg,7a2hyb1,s1ygz8e,yn9dzzq,3mo7qil,ieuyv2e,8lc2rp7,f6aoczu,rytm9f6,prkoiue,sjyi06d,dy2r65d,ks3khiy,e98cezb,tpc0o1f,7fbh60h,tfys9nh,ze3j4yw,ycvqx2r,9r1t3rh,r10kvni,d1rdeyt,whml14c,zqv8d37,tap7yp7,5p79zt1,yjwwrlq,eynzxu6,duvf5i5 | DF12: 0 | DG12: 1 | DH12: 1 | DI12: 19 | DJ12: other | DK12: Yes, I have heard that phrase used on multiple occasions | DL12: 1 | DM12: Yes, I am one | DN12: 1
A13: 3187947 | B13: 73 | C13: 43212.29 | D13: 11.38 | E13: b5cslrl | G13: 1 | H13: 26 | L13: female | M13: 1 | T13: Soemthing that is valuable for itself and not because of any of its effects | U13: Pleasure/happiness,Connection with others,Knowledge/understanding | V13: [Pleasure/happiness, Connection with others, Knowledge/understanding] | W13: [[Not something I value, 0], [A value of mine, but not an intrinisic value (I value it only because of what it causes), 1], [An intrinsic value of mine (I value it even if it causes nothing else), 2]] | Y13: 1 | Z13: 2 | AA13: 2 | AB13: 2 | AC13: 2 | AD13: 0 | AE13: 2 | AF13: 2 | AG13: 1 | AH13: 1 | AI13: 1 | AJ13: 2 | AK13: 2 | AL13: 2 | AM13: 2 | AN13: 2 | AO13: 2 | AP13: 1 | AQ13: 2 | AR13: 0 | AS13: 2 | AT13: 0 | AU13: 2 | AV13: 0 | AW13: 2 | AX13: 2 | AY13: 2 | AZ13: 2 | BA13: 0 | BB13: 2 | BC13: 2 | BD13: 1 | BE13: 2 | BF13: 2 | BG13: 2 | BH13: 2 | BI13: 2 | BJ13: 1 | BK13: 2 | BL13: 2 | BM13: 0 | BN13: 1 | BO13: 1 | BP13: 1 | BQ13: 2 | BR13: 2 | BS13: 1 | BT13: 2 | BU13: 0 | BV13: 2 | BW13: 2 | BX13: 2 | BY13: 1 | BZ13: 0 | CA13: 0 | CB13: 2 | CC13: 2 | CD13: 1 | CE13: 1 | CF13: 2 | CG13: 43212.298 | CJ13: 2 | CK13: 0 | CO13: Very Left | CP13: Very Left | CQ13: 2 | CR13: &Politics_PoliticalSelfPosition_Score=2 | CS13: Soemthing that is valuable for itself and not because of any of its effects | CT13: 1 | CY13: 1 | CZ13: Yes | DA13: 0 | DB13: Yes | DC13: 1 | DD13: No | DE13: 4udr0wf,b6so6w4,cl3xz2o,zqv8d37,b3kxzzi,we9zef6,p0pattz,rvjclrh,6z35kho,th6zdg0,yv4sxs9,9pj3mvf,uxw5h8v,r10kvni,ycvqx2r,ieuyv2e,7fbh60h,rqiszcv,s1ygz8e,9r1t3rh,6ye7hrk,whml14c,5p79zt1,cwljlbf,q2ws20f,8lc2rp7,lp32tzz,f6aoczu,bz15rxo,ve67ryu,8ztjo6s,duvf5i5,tv60egf,p7miry7,chphkqo,eynzxu6,g7x30fr,x34naaq,prkoiue,9seol1h,ze3j4yw,cnktu1l,ks3khiy,yjwwrlq,3mo7qil,7a2hyb1,tpc0o1f,oqwzncg,nnnikwl,higviv5,d1rdeyt,dy2r65d,yn9dzzq,rytm9f6,m4j75ti,e98cezb,pbg7jqy,loyblsl,tap7yp7,33ksqp9,sjyi06d,tfys9nh | DF13: 1 | DG13: 1 | DH13: 1 | DI13: 26 | DJ13: female | DK13: Yes, I have heard that phrase used on multiple occasions | DL13: 1 | DM13: Yes, I am one | DN13: 1
A14: 3187952 | B14: 73 | C14: 43212.296 | D14: 9.67 | E14: b5cslrl | G14: 1 | H14: 22 | L14: female | M14: 1 | T14: Something you would value even if nothing else occurs as a result of it | U14: Enjoying sun, talking to friends, laughing | V14: [Enjoying sun, talking to friends, laughing] | W14: [[Not something I value, 0], [A value of mine, but not an intrinisic value (I value it only because of what it causes), 1], [An intrinsic value of mine (I value it even if it causes nothing else), 2]] | Y14: 1 | Z14: 1 | AA14: 1 | AB14: 1 | AC14: 1 | AD14: 0 | AE14: 1 | AF14: 0 | AG14: 1 | AH14: 0 | AI14: 1 | AJ14: 1 | AK14: 2 | AL14: 1 | AM14: 1 | AN14: 1 | AO14: 0 | AP14: 1 | AQ14: 1 | AR14: 1 | AS14: 1 | AT14: 0 | AU14: 1 | AV14: 0 | AW14: 2 | AX14: 2 | AY14: 0 | AZ14: 1 | BA14: 0 | BB14: 1 | BC14: 2 | BD14: 1 | BE14: 2 | BF14: 0 | BG14: 1 | BH14: 1 | BI14: 1 | BJ14: 1 | BK14: 1 | BL14: 1 | BM14: 0 | BN14: 1 | BO14: 1 | BP14: 2 | BQ14: 1 | BR14: 1 | BS14: 1 | BT14: 2 | BU14: 0 | BV14: 1 | BW14: 1 | BX14: 1 | BY14: 0 | BZ14: 0 | CA14: 0 | CB14: 1 | CC14: 1 | CD14: 1 | CE14: 1 | CF14: 1 | CG14: 43212.303 | CJ14: 2 | CK14: 0 | CO14: Right of Center | CP14: Right of Center | CQ14: 6 | CR14: &Politics_PoliticalSelfPosition_Score=6 | CS14: Something you would value even if nothing else occurs as a result of it | CT14: 1 | CY14: 1 | CZ14: Yes | DA14: 0 | DB14: Yes | DC14: 1 | DD14: No | DE14: whml14c,yn9dzzq,9pj3mvf,ieuyv2e,q2ws20f,dy2r65d,uxw5h8v,zqv8d37,8ztjo6s,cnktu1l,5p79zt1,th6zdg0,duvf5i5,rvjclrh,eynzxu6,we9zef6,6z35kho,ze3j4yw,nnnikwl,x34naaq,p7miry7,prkoiue,lp32tzz,9r1t3rh,tpc0o1f,9seol1h,chphkqo,p0pattz,b6so6w4,d1rdeyt,4udr0wf,ve67ryu,7a2hyb1,tv60egf,yjwwrlq,ycvqx2r,tap7yp7,33ksqp9,7fbh60h,m4j75ti,sjyi06d,b3kxzzi,rytm9f6,s1ygz8e,e98cezb,cwljlbf,f6aoczu,yv4sxs9,cl3xz2o,8lc2rp7,3mo7qil,ks3khiy,loyblsl,tfys9nh,bz15rxo,oqwzncg,higviv5,r10kvni,pbg7jqy,6ye7hrk,rqiszcv,g7x30fr | DF14: 0 | DG14: 1 | DH14: 1 | DI14: 22 | DJ14: female | DK14: Yes, I have heard that phrase used on multiple occasions | DL14: 1 | DM14: Yes, I am one | DN14: 1
A15: 3188039 | B15: 73 | C15: 43212.393 | D15: 17.17 | E15: b5cslrl | G15: 1 | H15: 24 | L15: female | M15: 1 | T15: something which i valuable in itself. | U15: Love,relationships,knowledge,experience | V15: [Love, relationships, knowledge, experience] | W15: [[Not something I value, 0], [A value of mine, but not an intrinisic value (I value it only because of what it causes), 1], [An intrinsic value of mine (I value it even if it causes nothing else), 2]] | Y15: 2 | Z15: 1 | AA15: 1 | AB15: 2 | AC15: 1 | AD15: 0 | AE15: 2 | AF15: 2 | AG15: 1 | AH15: 1 | AI15: 1 | AJ15: 2 | AK15: 2 | AL15: 2 | AM15: 1 | AN15: 2 | AO15: 1 | AP15: 2 | AQ15: 2 | AR15: 1 | AS15: 2 | AT15: 0 | AU15: 2 | AV15: 0 | AW15: 2 | AX15: 2 | AY15: 0 | AZ15: 2 | BA15: 0 | BB15: 2 | BC15: 1 | BD15: 2 | BE15: 2 | BF15: 2 | BG15: 2 | BH15: 2 | BI15: 2 | BJ15: 2 | BK15: 1 | BL15: 2 | BM15: 0 | BN15: 2 | BO15: 1 | BP15: 2 | BQ15: 2 | BR15: 2 | BS15: 0 | BT15: 1 | BU15: 0 | BV15: 1 | BW15: 2 | BX15: 2 | BY15: 2 | BZ15: 1 | CA15: 1 | CB15: 2 | CC15: 1 | CD15: 1 | CE15: 2 | CF15: 2 | CG15: 43212.405 | CJ15: 2 | CK15: 0 | CO15: Left | CP15: Left | CQ15: 3 | CR15: &Politics_PoliticalSelfPosition_Score=3 | CS15: something which i valuable in itself. | CT15: 1 | CY15: 1 | CZ15: Yes | DA15: 0 | DB15: Yes | DC15: 1 | DD15: No | DE15: 8ztjo6s,d1rdeyt,chphkqo,cl3xz2o,p7miry7,6z35kho,ycvqx2r,duvf5i5,pbg7jqy,6ye7hrk,eynzxu6,cwljlbf,5p79zt1,yn9dzzq,ks3khiy,cnktu1l,9r1t3rh,33ksqp9,9pj3mvf,s1ygz8e,ve67ryu,p0pattz,whml14c,7fbh60h,ze3j4yw,uxw5h8v,8lc2rp7,th6zdg0,tpc0o1f,dy2r65d,rytm9f6,b6so6w4,b3kxzzi,9seol1h,we9zef6,prkoiue,4udr0wf,r10kvni,q2ws20f,rvjclrh,tfys9nh,lp32tzz,tap7yp7,nnnikwl,7a2hyb1,rqiszcv,sjyi06d,3mo7qil,f6aoczu,yjwwrlq,yv4sxs9,higviv5,e98cezb,oqwzncg,tv60egf,m4j75ti,g7x30fr,bz15rxo,loyblsl,ieuyv2e,zqv8d37,x34naaq | DF15: 0 | DG15: 1 | DH15: 1 | DI15: 24 | DJ15: female | DK15: Yes, I have heard that phrase used on multiple occasions | DL15: 1 | DM15: Yes, I am one | DN15: 1
A16: 3188205 | B16: 73 | C16: 43212.529 | D16: 9.23 | E16: b5cslrl | G16: 1 | H16: 27 | L16: male | M16: 0 | T16: something that has a value of it's one, even if nothing else results from it. | U16: Pleasure | V16: [Pleasure] | W16: [[Not something I value, 0], [A value of mine, but not an intrinisic value (I value it only because of what it causes), 1], [An intrinsic value of mine (I value it even if it causes nothing else), 2]] | Y16: 1 | Z16: 1 | AA16: 1 | AB16: 1 | AC16: 1 | AD16: 1 | AE16: 2 | AF16: 1 | AG16: 1 | AH16: 0 | AI16: 1 | AJ16: 1 | AK16: 2 | AL16: 1 | AM16: 1 | AN16: 2 | AO16: 1 | AP16: 1 | AQ16: 2 | AR16: 2 | AS16: 1 | AT16: 0 | AU16: 1 | AV16: 1 | AW16: 2 | AX16: 2 | AY16: 0 | AZ16: 1 | BA16: 1 | BB16: 1 | BC16: 1 | BD16: 1 | BE16: 2 | BF16: 1 | BG16: 2 | BH16: 2 | BI16: 1 | BJ16: 1 | BK16: 1 | BL16: 1 | BM16: 1 | BN16: 2 | BO16: 1 | BP16: 1 | BQ16: 1 | BR16: 1 | BS16: 0 | BT16: 1 | BU16: 0 | BV16: 1 | BW16: 1 | BX16: 1 | BY16: 1 | BZ16: 2 | CA16: 0 | CB16: 2 | CC16: 1 | CD16: 1 | CE16: 2 | CF16: 2 | CG16: 43212.535 | CJ16: 2 | CK16: 0 | CO16: Center | CP16: Center | CQ16: 5.5 | CR16: &Politics_PoliticalSelfPosition_Score=5.5 | CS16: something that has a value of it's one, even if nothing else results from it. | CT16: 1 | CY16: 1 | CZ16: Yes | DA16: 0 | DB16: Yes | DC16: 1 | DD16: No | DE16: pbg7jqy,5p79zt1,ieuyv2e,oqwzncg,duvf5i5,cnktu1l,th6zdg0,p7miry7,q2ws20f,d1rdeyt,sjyi06d,yjwwrlq,7fbh60h,b3kxzzi,zqv8d37,b6so6w4,33ksqp9,s1ygz8e,tv60egf,we9zef6,loyblsl,g7x30fr,yv4sxs9,tap7yp7,yn9dzzq,m4j75ti,cwljlbf,chphkqo,8lc2rp7,eynzxu6,nnnikwl,tfys9nh,rytm9f6,bz15rxo,3mo7qil,9pj3mvf,uxw5h8v,p0pattz,ycvqx2r,6ye7hrk,dy2r65d,whml14c,ks3khiy,e98cezb,ze3j4yw,higviv5,8ztjo6s,f6aoczu,r10kvni,ve67ryu,rqiszcv,lp32tzz,tpc0o1f,cl3xz2o,9seol1h,4udr0wf,prkoiue,6z35kho,9r1t3rh,7a2hyb1,rvjclrh,x34naaq | DF16: 0 | DG16: 1 | DH16: 1 | DI16: 27 | DJ16: male | DK16: Yes, I have heard that phrase used on multiple occasions | DL16: 1 | DM16: Yes, I am one | DN16: 1
A17: 3188261 | B17: 73 | C17: 43212.581 | D17: 13.88 | E17: b5cslrl | G17: 1 | H17: 24 | L17: male | M17: 0 | T17: something that has value in and of itself - its value doesn't come from the valuable things that it brings | U17: family,friends,love,politics,life | V17: [family, friends, love, politics, life] | W17: [[Not something I value, 0], [A value of mine, but not an intrinisic value (I value it only because of what it causes), 1], [An intrinsic value of mine (I value it even if it causes nothing else), 2]] | Y17: 0 | Z17: 1 | AA17: 1 | AB17: 1 | AC17: 2 | AD17: 1 | AE17: 1 | AF17: 2 | AG17: 1 | AH17: 0 | AI17: 2 | AJ17: 0 | AK17: 2 | AL17: 1 | AM17: 1 | AN17: 0 | AO17: 2 | AP17: 0 | AQ17: 2 | AR17: 1 | AS17: 1 | AT17: 0 | AU17: 1 | AV17: 2 | AW17: 0 | AX17: 0 | AY17: 0 | AZ17: 2 | BA17: 1 | BB17: 0 | BC17: 1 | BD17: 0 | BE17: 0 | BF17: 1 | BG17: 0 | BH17: 0 | BI17: 1 | BJ17: 1 | BK17: 1 | BL17: 1 | BM17: 0 | BN17: 0 | BO17: 1 | BP17: 1 | BQ17: 2 | BR17: 1 | BS17: 2 | BT17: 2 | BU17: 0 | BV17: 1 | BW17: 1 | BX17: 1 | BY17: 0 | BZ17: 2 | CA17: 0 | CB17: 2 | CC17: 1 | CD17: 2 | CE17: 2 | CF17: 1 | CG17: 43212.591 | CJ17: 2 | CK17: 0 | CO17: Moderately Right-leaning | CP17: Moderately Right-leaning | CQ17: 7 | CR17: &Politics_PoliticalSelfPosition_Score=7 | CS17: something that has value in and of itself - its value doesn't come from the valuable things that it brings | CT17: 1 | CY17: 0 | CZ17: No | DA17: 1 | DB17: Yes | DC17: 1 | DD17: Yes | DE17: yjwwrlq,cnktu1l,m4j75ti,9pj3mvf,x34naaq,oqwzncg,loyblsl,5p79zt1,tv60egf,p7miry7,rqiszcv,yn9dzzq,g7x30fr,ieuyv2e,eynzxu6,cwljlbf,lp32tzz,ze3j4yw,7a2hyb1,pbg7jqy,bz15rxo,f6aoczu,p0pattz,b3kxzzi,8lc2rp7,ve67ryu,cl3xz2o,3mo7qil,q2ws20f,nnnikwl,33ksqp9,uxw5h8v,prkoiue,tap7yp7,zqv8d37,6z35kho,th6zdg0,whml14c,sjyi06d,4udr0wf,dy2r65d,e98cezb,higviv5,b6so6w4,ycvqx2r,9seol1h,yv4sxs9,tpc0o1f,rytm9f6,s1ygz8e,ks3khiy,rvjclrh,d1rdeyt,tfys9nh,7fbh60h,r10kvni,we9zef6,9r1t3rh,chphkqo,6ye7hrk,8ztjo6s,duvf5i5 | DF17: 1 | DG17: 1 | DH17: 1 | DI17: 24 | DJ17: male | DK17: Yes, I have heard that phrase used on multiple occasions | DL17: 1 | DM17: Yes, I am one | DN17: 1
A18: 3187708 | B18: 73 | C18: 43212.069 | D18: 763.18 | E18: b5cslrl | G18: 1 | H18: 29 | L18: male | M18: 0 | T18: something that is valuable without accounting for follow on effects | U18: sex,conversation,knowledge | V18: [sex, conversation, knowledge] | W18: [[Not something I value, 0], [A value of mine, but not an intrinisic value (I value it only because of what it causes), 1], [An intrinsic value of mine (I value it even if it causes nothing else), 2]] | Y18: 2 | Z18: 1 | AA18: 1 | AB18: 2 | AC18: 1 | AD18: 0 | AE18: 2 | AF18: 1 | AG18: 2 | AH18: 1 | AI18: 2 | AJ18: 1 | AK18: 2 | AL18: 1 | AM18: 1 | AN18: 2 | AO18: 1 | AP18: 2 | AQ18: 0 | AR18: 1 | AS18: 2 | AT18: 0 | AU18: 2 | AV18: 1 | AW18: 2 | AX18: 2 | AY18: 0 | AZ18: 1 | BA18: 1 | BB18: 1 | BC18: 1 | BD18: 1 | BE18: 2 | BF18: 1 | BG18: 1 | BH18: 2 | BI18: 1 | BJ18: 1 | BK18: 1 | BL18: 2 | BM18: 1 | BN18: 2 | BO18: 2 | BP18: 1 | BQ18: 1 | BR18: 1 | BS18: 0 | BT18: 1 | BU18: 0 | BV18: 1 | BW18: 2 | BX18: 2 | BY18: 2 | BZ18: 1 | CA18: 0 | CB18: 2 | CC18: 1 | CD18: 1 | CE18: 1 | CF18: 2 | CG18: 43212.599 | CJ18: 2 | CK18: 0 | CO18: Right of Center | CP18: Right of Center | CQ18: 6 | CR18: &Politics_PoliticalSelfPosition_Score=6 | CS18: something that is valuable without accounting for follow on effects | CT18: 1 | CY18: 1 | CZ18: Yes | DA18: 0 | DB18: Yes | DC18: 1 | DD18: No | DE18: pbg7jqy,6ye7hrk,6z35kho,tfys9nh,9r1t3rh,b6so6w4,lp32tzz,ks3khiy,r10kvni,sjyi06d,7fbh60h,tpc0o1f,m4j75ti,g7x30fr,p0pattz,cnktu1l,ieuyv2e,oqwzncg,duvf5i5,bz15rxo,cwljlbf,rvjclrh,tv60egf,9seol1h,eynzxu6,cl3xz2o,q2ws20f,d1rdeyt,th6zdg0,loyblsl,yv4sxs9,rytm9f6,f6aoczu,tap7yp7,whml14c,x34naaq,ve67ryu,8ztjo6s,ycvqx2r,5p79zt1,we9zef6,chphkqo,prkoiue,yn9dzzq,9pj3mvf,nnnikwl,yjwwrlq,e98cezb,8lc2rp7,4udr0wf,b3kxzzi,33ksqp9,p7miry7,dy2r65d,zqv8d37,ze3j4yw,uxw5h8v,3mo7qil,7a2hyb1,higviv5,rqiszcv,s1ygz8e | DF18: 0 | DG18: 1 | DH18: 1 | DI18: 29 | DJ18: male | DK18: Yes, I have heard that phrase used on multiple occasions | DL18: 1 | DM18: Yes, I am one | DN18: 1
A19: 3188613 | B19: 73 | C19: 43212.806 | D19: 96.1 | E19: b5cslrl | G19: 1 | H19: 25 | L19: male | M19: 0 | T19: something that can happen without necessary consequences, or hold value without other assumptions | U19: relaxing,bonding,learning about new things,enjoying good food,having good sex,feeling proud about myself,enjoying a hobby | V19: [relaxing, bonding, learning about new things, enjoying good food, having good sex, feeling proud about myself, enjoying a hobby] | W19: [[Not something I value, 0], [A value of mine, but not an intrinisic value (I value it only because of what it causes), 1], [An intrinsic value of mine (I value it even if it causes nothing else), 2]] | Y19: 1 | Z19: 1 | AA19: 1 | AB19: 1 | AC19: 1 | AD19: 1 | AE19: 1 | AF19: 1 | AG19: 1 | AH19: 0 | AI19: 1 | AJ19: 1 | AK19: 1 | AL19: 1 | AM19: 1 | AN19: 2 | AO19: 1 | AP19: 1 | AQ19: 1 | AR19: 1 | AS19: 2 | AT19: 0 | AU19: 1 | AV19: 0 | AW19: 1 | AX19: 1 | AY19: 0 | AZ19: 1 | BA19: 1 | BB19: 2 | BC19: 1 | BD19: 1 | BE19: 1 | BF19: 1 | BG19: 2 | BH19: 1 | BI19: 1 | BJ19: 1 | BK19: 1 | BL19: 2 | BM19: 1 | BN19: 1 | BO19: 1 | BP19: 1 | BQ19: 1 | BR19: 1 | BS19: 0 | BT19: 1 | BU19: 0 | BV19: 2 | BW19: 1 | BX19: 1 | BY19: 1 | BZ19: 1 | CA19: 0 | CB19: 1 | CC19: 1 | CD19: 1 | CE19: 1 | CF19: 1 | CG19: 43212.873 | CJ19: 2 | CK19: 0 | CO19: Left | CP19: Left | CQ19: 3 | CR19: &Politics_PoliticalSelfPosition_Score=3 | CS19: something that can happen without necessary consequences, or hold value without other assumptions | CT19: 1 | CY19: 0 | CZ19: No | DA19: 1 | DB19: Yes | DC19: 1 | DD19: Yes | DE19: ze3j4yw,rvjclrh,tv60egf,bz15rxo,prkoiue,x34naaq,cnktu1l,s1ygz8e,p7miry7,8lc2rp7,th6zdg0,we9zef6,pbg7jqy,d1rdeyt,p0pattz,rqiszcv,cwljlbf,q2ws20f,9pj3mvf,r10kvni,g7x30fr,m4j75ti,6z35kho,ve67ryu,yn9dzzq,tfys9nh,9r1t3rh,nnnikwl,b3kxzzi,7fbh60h,9seol1h,yjwwrlq,loyblsl,whml14c,rytm9f6,f6aoczu,33ksqp9,8ztjo6s,ieuyv2e,tap7yp7,lp32tzz,duvf5i5,5p79zt1,dy2r65d,b6so6w4,yv4sxs9,3mo7qil,ycvqx2r,ks3khiy,sjyi06d,oqwzncg,cl3xz2o,7a2hyb1,higviv5,uxw5h8v,e98cezb,eynzxu6,6ye7hrk,tpc0o1f,chphkqo,zqv8d37,4udr0wf | DF19: 1 | DG19: 1 | DH19: 1 | DI19: 25 | DJ19: male | DK19: Yes, I have heard that phrase used on multiple occasions | DL19: 1 | DM19: Yes, I am one | DN19: 1
A20: 3187228 | B20: 73 | C20: 43211.782 | D20: 8.7 | E20: b5cslrl | G20: 3 | H20: 25 | L20: male | M20: 0 | T20: a value that gains meaning from its sole presence without further consequences. | U20: Pleasure,Interpersonal relationships (Love, friendship) | V20: [Pleasure, Interpersonal relationships (Love, friendship)] | W20: [[Not something I value, 0], [A value of mine, but not an intrinisic value (I value it only because of what it causes), 1], [An intrinsic value of mine (I value it even if it causes nothing else), 2]] | Y20: 1 | Z20: 1 | AA20: 1 | AB20: 1 | AC20: 1 | AD20: 1 | AE20: 2 | AF20: 2 | AG20: 2 | AH20: 0 | AI20: 1 | AJ20: 1 | AK20: 2 | AL20: 2 | AM20: 1 | AN20: 2 | AO20: 2 | AP20: 2 | AQ20: 1 | AR20: 1 | AS20: 2 | AT20: 0 | AU20: 1 | AV20: 0 | AW20: 2 | AX20: 2 | AY20: 0 | AZ20: 1 | BA20: 1 | BB20: 2 | BC20: 2 | BD20: 2 | BE20: 2 | BF20: 1 | BG20: 1 | BH20: 2 | BI20: 1 | BJ20: 1 | BK20: 1 | BL20: 1 | BM20: 1 | BN20: 2 | BO20: 2 | BP20: 2 | BQ20: 1 | BR20: 1 | BS20: 0 | BT20: 2 | BU20: 0 | BV20: 1 | BW20: 2 | BX20: 2 | BY20: 0 | BZ20: 0 | CA20: 0 | CB20: 2 | CC20: 1 | CD20: 1 | CE20: 2 | CF20: 2 | CG20: 43211.788 | CJ20: 3 | CK20: 0 | CO20: Moderately Left-leaning | CP20: Moderately Left-leaning | CQ20: 4 | CR20: &Politics_PoliticalSelfPosition_Score=4 | CS20: a value that gains meaning from its sole presence without further consequences. | CT20: 1 | CY20: 1 | CZ20: No | DA20: 1 | DB20: Yes | DC20: 1 | DD20: No | DE20: prkoiue,dy2r65d,yjwwrlq,yn9dzzq,nnnikwl,p7miry7,9seol1h,ks3khiy,cnktu1l,higviv5,m4j75ti,bz15rxo,cl3xz2o,3mo7qil,tv60egf,lp32tzz,chphkqo,e98cezb,f6aoczu,33ksqp9,rytm9f6,8lc2rp7,eynzxu6,th6zdg0,tfys9nh,q2ws20f,yv4sxs9,p0pattz,s1ygz8e,ieuyv2e,b3kxzzi,9pj3mvf,ycvqx2r,7a2hyb1,d1rdeyt,ze3j4yw,we9zef6,ve67ryu,5p79zt1,rqiszcv,b6so6w4,loyblsl,zqv8d37,whml14c,x34naaq,6z35kho,8ztjo6s,g7x30fr,9r1t3rh,tap7yp7,r10kvni,rvjclrh,4udr0wf,uxw5h8v,cwljlbf,7fbh60h,tpc0o1f,6ye7hrk,duvf5i5,oqwzncg,sjyi06d,pbg7jqy | DF20: 1 | DG20: 1 | DH20: 1 | DI20: 25 | DJ20: male | DK20: Yes, I have heard that phrase used on multiple occasions | DL20: 1 | DM20: Yes, I am one | DN20: 1
A21: 3187221 | B21: 73 | C21: 43211.779 | D21: 12.73 | E21: b5cslrl | G21: 3 | H21: 39 | L21: female | M21: 1 | T21: Something that has value because of what it is, not what it does | U21: Happiness of beings,Reduction of suffering,Rrichness of life | V21: [Happiness of beings, Reduction of suffering, Rrichness of life] | W21: [[Not something I value, 0], [A value of mine, but not an intrinisic value (I value it only because of what it causes), 1], [An intrinsic value of mine (I value it even if it causes nothing else), 2]] | Y21: 2 | Z21: 1 | AA21: 2 | AB21: 1 | AC21: 1 | AD21: 0 | AE21: 2 | AF21: 1 | AG21: 2 | AH21: 0 | AI21: 2 | AJ21: 1 | AK21: 2 | AL21: 2 | AM21: 1 | AN21: 2 | AO21: 2 | AP21: 2 | AQ21: 1 | AR21: 2 | AS21: 1 | AT21: 0 | AU21: 1 | AV21: 1 | AW21: 2 | AX21: 2 | AY21: 0 | AZ21: 1 | BA21: 2 | BB21: 1 | BC21: 2 | BD21: 2 | BE21: 2 | BF21: 2 | BG21: 1 | BH21: 2 | BI21: 1 | BJ21: 1 | BK21: 2 | BL21: 2 | BM21: 2 | BN21: 2 | BO21: 2 | BP21: 1 | BQ21: 2 | BR21: 1 | BS21: 0 | BT21: 2 | BU21: 0 | BV21: 1 | BW21: 2 | BX21: 2 | BY21: 1 | BZ21: 1 | CA21: 0 | CB21: 2 | CC21: 1 | CD21: 1 | CE21: 2 | CF21: 2 | CG21: 43211.788 | CJ21: 3 | CK21: 0 | CO21: Left | CP21: Left | CQ21: 3 | CR21: &Politics_PoliticalSelfPosition_Score=3 | CS21: Something that has value because of what it is, not what it does | CT21: 1 | CY21: 1 | CZ21: No | DA21: 1 | DB21: Yes | DC21: 1 | DD21: No | DE21: 8ztjo6s,whml14c,yjwwrlq,tfys9nh,x34naaq,uxw5h8v,rvjclrh,b6so6w4,b3kxzzi,we9zef6,6ye7hrk,e98cezb,ycvqx2r,q2ws20f,ks3khiy,cnktu1l,dy2r65d,pbg7jqy,4udr0wf,5p79zt1,p0pattz,ieuyv2e,7a2hyb1,tpc0o1f,tap7yp7,prkoiue,ve67ryu,9pj3mvf,sjyi06d,g7x30fr,6z35kho,m4j75ti,3mo7qil,7fbh60h,duvf5i5,r10kvni,bz15rxo,th6zdg0,nnnikwl,tv60egf,eynzxu6,9r1t3rh,chphkqo,cwljlbf,9seol1h,f6aoczu,yv4sxs9,zqv8d37,oqwzncg,ze3j4yw,lp32tzz,33ksqp9,yn9dzzq,s1ygz8e,loyblsl,p7miry7,higviv5,rqiszcv,cl3xz2o,8lc2rp7,d1rdeyt,rytm9f6 | DF21: 1 | DG21: 1 | DH21: 1 | DI21: 39 | DJ21: female | DK21: Yes, I have heard that phrase used on multiple occasions | DL21: 1 | DM21: Yes, I am one | DN21: 1
A22: 3187226 | B22: 73 | C22: 43211.78 | D22: 15.07 | E22: b5cslrl | G22: 3 | H22: 32 | L22: male | M22: 0 | T22: That which is valued with no further context. | U22: Social good,Pleasure,Honesty,Humility,Time | V22: [Social good, Pleasure, Honesty, Humility, Time] | W22: [[Not something I value, 0], [A value of mine, but not an intrinisic value (I value it only because of what it causes), 1], [An intrinsic value of mine (I value it even if it causes nothing else), 2]] | Y22: 2 | Z22: 2 | AA22: 1 | AB22: 2 | AC22: 2 | AD22: 0 | AE22: 1 | AF22: 1 | AG22: 1 | AH22: 1 | AI22: 2 | AJ22: 2 | AK22: 0 | AL22: 1 | AM22: 1 | AN22: 0 | AO22: 0 | AP22: 0 | AQ22: 1 | AR22: 1 | AS22: 2 | AT22: 0 | AU22: 1 | AV22: 1 | AW22: 0 | AX22: 1 | AY22: 1 | AZ22: 2 | BA22: 1 | BB22: 1 | BC22: 1 | BD22: 1 | BE22: 1 | BF22: 1 | BG22: 2 | BH22: 0 | BI22: 1 | BJ22: 1 | BK22: 1 | BL22: 2 | BM22: 0 | BN22: 2 | BO22: 1 | BP22: 1 | BQ22: 2 | BR22: 2 | BS22: 1 | BT22: 1 | BU22: 0 | BV22: 2 | BW22: 1 | BX22: 2 | BY22: 0 | BZ22: 1 | CA22: 1 | CB22: 1 | CC22: 1 | CD22: 2 | CE22: 2 | CF22: 0 | CG22: 43211.791 | CJ22: 3 | CK22: 0 | CO22: Right of Center | CP22: Right of Center | CQ22: 6 | CR22: &Politics_PoliticalSelfPosition_Score=6 | CS22: That which is valued with no further context. | CT22: 1 | CY22: 1 | CZ22: No | DA22: 1 | DB22: Yes | DC22: 1 | DD22: No | DE22: eynzxu6,s1ygz8e,oqwzncg,f6aoczu,7fbh60h,prkoiue,chphkqo,duvf5i5,whml14c,bz15rxo,nnnikwl,p0pattz,cwljlbf,8lc2rp7,yn9dzzq,e98cezb,lp32tzz,rvjclrh,ks3khiy,pbg7jqy,ze3j4yw,d1rdeyt,9pj3mvf,we9zef6,uxw5h8v,5p79zt1,th6zdg0,p7miry7,yjwwrlq,m4j75ti,6ye7hrk,higviv5,dy2r65d,33ksqp9,7a2hyb1,b3kxzzi,r10kvni,4udr0wf,ve67ryu,cnktu1l,tap7yp7,x34naaq,q2ws20f,8ztjo6s,3mo7qil,9r1t3rh,loyblsl,b6so6w4,yv4sxs9,ycvqx2r,g7x30fr,tpc0o1f,9seol1h,ieuyv2e,rqiszcv,cl3xz2o,6z35kho,sjyi06d,tv60egf,tfys9nh,rytm9f6,zqv8d37 | DF22: 0 | DG22: 1 | DH22: 1 | DI22: 32 | DJ22: male | DK22: Yes, I have heard that phrase used on multiple occasions | DL22: 1 | DM22: Yes, I am one | DN22: 1
A23: 3187242 | B23: 73 | C23: 43211.788 | D23: 15.68 | E23: b5cslrl | G23: 3 | H23: 20 | L23: female | M23: 1 | T23: something we value even if nothing else happens as a result of it | U23: physical pleasure,humour,knowledge and understanding of the universe,collaboration with people,unexpected turns of events,improving at skills,desire to live,meaningful emotions,perceiving a lot of meaning around me,expressing the inner world,perceiving things | V23: [physical pleasure, humour, knowledge and understanding of the universe, collaboration with people, unexpected turns of events, improving at skills, desire to live, meaningful emotions, perceiving a lot of meaning around me, expressing the inner world, perceiving things] | W23: [[Not something I value, 0], [A value of mine, but not an intrinisic value (I value it only because of what it causes), 1], [An intrinsic value of mine (I value it even if it causes nothing else), 2]] | Y23: 2 | Z23: 2 | AA23: 0 | AB23: 2 | AC23: 2 | AD23: 0 | AE23: 2 | AF23: 2 | AG23: 1 | AH23: 0 | AI23: 2 | AJ23: 2 | AK23: 2 | AL23: 1 | AM23: 2 | AN23: 2 | AO23: 1 | AP23: 0 | AQ23: 1 | AR23: 1 | AS23: 1 | AT23: 0 | AU23: 2 | AV23: 1 | AW23: 2 | AX23: 2 | AY23: 0 | AZ23: 2 | BA23: 2 | BB23: 2 | BC23: 1 | BD23: 0 | BE23: 2 | BF23: 1 | BG23: 0 | BH23: 2 | BI23: 1 | BJ23: 1 | BK23: 0 | BL23: 2 | BM23: 2 | BN23: 2 | BO23: 1 | BP23: 1 | BQ23: 2 | BR23: 2 | BS23: 0 | BT23: 1 | BU23: 0 | BV23: 2 | BW23: 2 | BX23: 2 | BY23: 2 | BZ23: 2 | CA23: 1 | CB23: 2 | CC23: 0 | CD23: 2 | CE23: 2 | CF23: 2 | CG23: 43211.799 | CJ23: 3 | CK23: 0 | CO23: Moderately Left-leaning | CP23: Moderately Left-leaning | CQ23: 4 | CR23: &Politics_PoliticalSelfPosition_Score=4 | CS23: something we value even if nothing else happens as a result of it | CT23: 1 | CY23: 1 | CZ23: No | DA23: 1 | DB23: Yes | DC23: 1 | DD23: No | DE23: x34naaq,tv60egf,whml14c,loyblsl,yn9dzzq,dy2r65d,lp32tzz,8lc2rp7,cnktu1l,m4j75ti,q2ws20f,zqv8d37,eynzxu6,cwljlbf,8ztjo6s,tpc0o1f,d1rdeyt,yjwwrlq,rqiszcv,f6aoczu,rytm9f6,5p79zt1,7fbh60h,chphkqo,4udr0wf,p0pattz,oqwzncg,9seol1h,prkoiue,p7miry7,9pj3mvf,ks3khiy,ve67ryu,bz15rxo,ieuyv2e,duvf5i5,sjyi06d,we9zef6,s1ygz8e,tap7yp7,g7x30fr,tfys9nh,uxw5h8v,7a2hyb1,nnnikwl,3mo7qil,33ksqp9,higviv5,cl3xz2o,ze3j4yw,b6so6w4,ycvqx2r,pbg7jqy,e98cezb,9r1t3rh,th6zdg0,b3kxzzi,6ye7hrk,yv4sxs9,6z35kho,r10kvni,rvjclrh | DF23: 0 | DG23: 1 | DH23: 1 | DI23: 20 | DJ23: female | DK23: Yes, I have heard that phrase used on multiple occasions | DL23: 1 | DM23: Yes, I am one | DN23: 1
A24: 3187273 | B24: 73 | C24: 43211.803 | D24: 9.43 | E24: b5cslrl | G24: 3 | H24: 32 | L24: male | M24: 0 | T24: something I'd value even if nothing else causally flowed from its occurrence. | U24: conscious pleasure,absence of conscious suffering | V24: [conscious pleasure, absence of conscious suffering] | W24: [[Not something I value, 0], [A value of mine, but not an intrinisic value (I value it only because of what it causes), 1], [An intrinsic value of mine (I value it even if it causes nothing else), 2]] | Y24: 1 | Z24: 1 | AA24: 1 | AB24: 1 | AC24: 1 | AD24: 0 | AE24: 2 | AF24: 1 | AG24: 1 | AH24: 0 | AI24: 1 | AJ24: 1 | AK24: 2 | AL24: 1 | AM24: 1 | AN24: 2 | AO24: 1 | AP24: 1 | AQ24: 1 | AR24: 0 | AS24: 1 | AT24: 0 | AU24: 1 | AV24: 1 | AW24: 2 | AX24: 2 | AY24: 0 | AZ24: 1 | BA24: 1 | BB24: 1 | BC24: 1 | BD24: 1 | BE24: 2 | BF24: 1 | BG24: 1 | BH24: 2 | BI24: 1 | BJ24: 1 | BK24: 2 | BL24: 1 | BM24: 1 | BN24: 2 | BO24: 1 | BP24: 1 | BQ24: 1 | BR24: 1 | BS24: 1 | BT24: 1 | BU24: 0 | BV24: 1 | BW24: 2 | BX24: 2 | BY24: 0 | BZ24: 1 | CA24: 0 | CB24: 2 | CC24: 1 | CD24: 1 | CE24: 1 | CF24: 2 | CG24: 43211.81 | CJ24: 3 | CK24: 0 | CO24: Left of Center | CP24: Left of Center | CQ24: 5 | CR24: &Politics_PoliticalSelfPosition_Score=5 | CS24: something I'd value even if nothing else causally flowed from its occurrence. | CT24: 1 | CY24: 1 | CZ24: No | DA24: 1 | DB24: Yes | DC24: 1 | DD24: No | DE24: p0pattz,ze3j4yw,th6zdg0,9pj3mvf,r10kvni,pbg7jqy,tpc0o1f,ks3khiy,rytm9f6,d1rdeyt,yv4sxs9,prkoiue,6z35kho,oqwzncg,ieuyv2e,5p79zt1,g7x30fr,cnktu1l,duvf5i5,6ye7hrk,uxw5h8v,tv60egf,we9zef6,eynzxu6,4udr0wf,p7miry7,8ztjo6s,8lc2rp7,rvjclrh,7a2hyb1,e98cezb,ycvqx2r,cl3xz2o,b6so6w4,cwljlbf,yn9dzzq,q2ws20f,tap7yp7,bz15rxo,3mo7qil,nnnikwl,higviv5,lp32tzz,tfys9nh,x34naaq,m4j75ti,b3kxzzi,9r1t3rh,s1ygz8e,f6aoczu,dy2r65d,yjwwrlq,whml14c,9seol1h,chphkqo,33ksqp9,7fbh60h,loyblsl,zqv8d37,ve67ryu,sjyi06d,rqiszcv | DF24: 1 | DG24: 1 | DH24: 1 | DI24: 32 | DJ24: male | DK24: Yes, I have heard that phrase used on multiple occasions | DL24: 1 | DM24: Yes, I am one | DN24: 1
... A79: 3188427 | B79: 73 | C79: 43212.705 | D79: 5.35 | E79: b5cslrl | G79: 3 | H79: 25 | L79: male | M79: 0 | T79: something that matters morally regardless of its effects on other things. | U79: Happiness/suffering | V79: [Happiness/suffering] | W79: [[Not something I value, 0], [A value of mine, but not an intrinisic value (I value it only because of what it causes), 1], [An intrinsic value of mine (I value it even if it causes nothing else), 2]] | Y79: 0 | Z79: 1 | AA79: 1 | AB79: 0 | AC79: 1 | AD79: 0 | AE79: 2 | AF79: 1 | AG79: 1 | AH79: 0 | AI79: 0 | AJ79: 1 | AK79: 2 | AL79: 1 | AM79: 1 | AN79: 2 | AO79: 1 | AP79: 1 | AQ79: 1 | AR79: 0 | AS79: 2 | AT79: 0 | AU79: 1 | AV79: 0 | AW79: 2 | AX79: 2 | AY79: 0 | AZ79: 1 | BA79: 1 | BB79: 2 | BC79: 1 | BD79: 1 | BE79: 2 | BF79: 1 | BG79: 1 | BH79: 2 | BI79: 1 | BJ79: 1 | BK79: 1 | BL79: 0 | BM79: 0 | BN79: 2 | BO79: 1 | BP79: 1 | BQ79: 1 | BR79: 0 | BS79: 1 | BT79: 1 | BU79: 0 | BV79: 1 | BW79: 2 | BX79: 2 | BY79: 0 | BZ79: 0 | CA79: 1 | CB79: 2 | CC79: 1 | CD79: 1 | CE79: 1 | CF79: 2 | CG79: 43212.708 | CJ79: 3 | CK79: 0 | CO79: Left of Center | CP79: Left of Center | CQ79: 5 | CR79: &Politics_PoliticalSelfPosition_Score=5 | CS79: something that matters morally regardless of its effects on other things. | CT79: 1 | CY79: 1 | CZ79: No | DA79: 1 | DB79: Yes | DC79: 1 | DD79: No | DE79: yn9dzzq,33ksqp9,b3kxzzi,oqwzncg,uxw5h8v,yv4sxs9,rytm9f6,9pj3mvf,loyblsl,dy2r65d,higviv5,tap7yp7,7fbh60h,d1rdeyt,whml14c,ks3khiy,4udr0wf,f6aoczu,6ye7hrk,m4j75ti,ycvqx2r,prkoiue,7a2hyb1,cl3xz2o,zqv8d37,rvjclrh,b6so6w4,e98cezb,s1ygz8e,9seol1h,duvf5i5,tv60egf,rqiszcv,nnnikwl,bz15rxo,9r1t3rh,th6zdg0,chphkqo,5p79zt1,p7miry7,q2ws20f,8ztjo6s,cwljlbf,ieuyv2e,pbg7jqy,ze3j4yw,eynzxu6,3mo7qil,p0pattz,lp32tzz,6z35kho,g7x30fr,sjyi06d,yjwwrlq,we9zef6,cnktu1l,tpc0o1f,8lc2rp7,tfys9nh,x34naaq,ve67ryu,r10kvni | DF79: 1 | DG79: 1 | DH79: 1 | DI79: 25 | DJ79: male | DK79: Yes, I have heard that phrase used on multiple occasions | DL79: 1 | DM79: Yes, I am one | DN79: 1
A80: 3188445 | B80: 73 | C80: 43212.715 | D80: 26.48 | E80: b5cslrl | G80: 3 | H80: 23 | L80: other | T80: what you would care about no matter it's practical use. | U80: happyness,satisfaction,lack of suffering | V80: [happyness, satisfaction, lack of suffering] | W80: [[Not something I value, 0], [A value of mine, but not an intrinisic value (I value it only because of what it causes), 1], [An intrinsic value of mine (I value it even if it causes nothing else), 2]] | Y80: 1 | Z80: 2 | AA80: 1 | AB80: 2 | AC80: 2 | AD80: 0 | AE80: 2 | AF80: 1 | AG80: 1 | AH80: 0 | AI80: 1 | AJ80: 1 | AK80: 2 | AL80: 1 | AM80: 0 | AN80: 2 | AO80: 1 | AP80: 1 | AQ80: 1 | AR80: 0 | AS80: 1 | AT80: 0 | AU80: 1 | AV80: 0 | AW80: 2 | AX80: 2 | AY80: 0 | AZ80: 1 | BA80: 0 | BB80: 1 | BC80: 1 | BD80: 1 | BE80: 2 | BF80: 1 | BG80: 1 | BH80: 2 | BI80: 1 | BJ80: 1 | BK80: 1 | BL80: 1 | BM80: 0 | BN80: 2 | BO80: 2 | BP80: 1 | BQ80: 2 | BR80: 1 | BS80: 1 | BT80: 1 | BU80: 0 | BV80: 2 | BW80: 2 | BX80: 2 | BY80: 0 | BZ80: 0 | CA80: 1 | CB80: 2 | CC80: 1 | CD80: 1 | CE80: 1 | CF80: 2 | CG80: 43212.734 | CJ80: 3 | CK80: 0 | CO80: Center | CP80: Center | CQ80: 5.5 | CR80: &Politics_PoliticalSelfPosition_Score=5.5 | CS80: what you would care about no matter it's practical use. | CT80: 1 | CY80: 1 | CZ80: No | DA80: 1 | DB80: Yes | DC80: 1 | DD80: No | DE80: 4udr0wf,r10kvni,ze3j4yw,g7x30fr,ks3khiy,tap7yp7,ieuyv2e,8lc2rp7,6z35kho,eynzxu6,th6zdg0,cl3xz2o,tv60egf,7a2hyb1,cwljlbf,9r1t3rh,f6aoczu,rqiszcv,yv4sxs9,rytm9f6,zqv8d37,lp32tzz,9pj3mvf,pbg7jqy,e98cezb,tpc0o1f,b3kxzzi,s1ygz8e,33ksqp9,b6so6w4,prkoiue,nnnikwl,whml14c,9seol1h,p7miry7,loyblsl,yjwwrlq,tfys9nh,dy2r65d,chphkqo,7fbh60h,uxw5h8v,6ye7hrk,duvf5i5,3mo7qil,rvjclrh,we9zef6,higviv5,8ztjo6s,yn9dzzq,d1rdeyt,m4j75ti,q2ws20f,sjyi06d,ycvqx2r,bz15rxo,ve67ryu,oqwzncg,cnktu1l,p0pattz,5p79zt1,x34naaq | DF80: 0 | DG80: 0 | DH80: 1 | DI80: 23 | DJ80: other | DK80: Yes, I have heard that phrase used on multiple occasions | DL80: 1 | DM80: Yes, I am one | DN80: 1
A81: 3188494 | B81: 73 | C81: 43212.742 | D81: 8.4 | E81: b5cslrl | G81: 3 | H81: 22 | L81: male | M81: 0 | T81: something that is good in of itself | U81: conscious pleasure | V81: [conscious pleasure] | W81: [[Not something I value, 0], [A value of mine, but not an intrinisic value (I value it only because of what it causes), 1], [An intrinsic value of mine (I value it even if it causes nothing else), 2]] | Y81: 1 | Z81: 1 | AA81: 1 | AB81: 1 | AC81: 1 | AD81: 0 | AE81: 2 | AF81: 1 | AG81: 1 | AH81: 1 | AI81: 1 | AJ81: 1 | AK81: 1 | AL81: 1 | AM81: 1 | AN81: 2 | AO81: 1 | AP81: 1 | AQ81: 1 | AR81: 1 | AS81: 1 | AT81: 0 | AU81: 1 | AV81: 0 | AW81: 2 | AX81: 2 | AY81: 0 | AZ81: 1 | BA81: 0 | BB81: 1 | BC81: 1 | BD81: 1 | BE81: 2 | BF81: 1 | BG81: 1 | BH81: 2 | BI81: 1 | BJ81: 0 | BK81: 1 | BL81: 1 | BM81: 0 | BN81: 2 | BO81: 1 | BP81: 1 | BQ81: 1 | BR81: 1 | BS81: 1 | BT81: 1 | BU81: 0 | BV81: 1 | BW81: 2 | BX81: 2 | BY81: 1 | BZ81: 0 | CA81: 1 | CB81: 2 | CC81: 1 | CD81: 1 | CE81: 1 | CF81: 2 | CG81: 43212.748 | CJ81: 3 | CK81: 0 | CO81: Left | CP81: Left | CQ81: 3 | CR81: &Politics_PoliticalSelfPosition_Score=3 | CS81: something that is good in of itself | CT81: 1 | CY81: 1 | CZ81: No | DA81: 1 | DB81: Yes | DC81: 1 | DD81: No | DE81: rytm9f6,eynzxu6,s1ygz8e,cl3xz2o,9seol1h,3mo7qil,tfys9nh,cwljlbf,8ztjo6s,yn9dzzq,ycvqx2r,9r1t3rh,oqwzncg,rvjclrh,r10kvni,sjyi06d,chphkqo,b6so6w4,6z35kho,ze3j4yw,8lc2rp7,33ksqp9,q2ws20f,5p79zt1,6ye7hrk,th6zdg0,x34naaq,d1rdeyt,lp32tzz,7a2hyb1,f6aoczu,we9zef6,g7x30fr,tpc0o1f,tv60egf,cnktu1l,p7miry7,loyblsl,pbg7jqy,9pj3mvf,whml14c,prkoiue,duvf5i5,yv4sxs9,p0pattz,tap7yp7,higviv5,ve67ryu,nnnikwl,7fbh60h,rqiszcv,bz15rxo,dy2r65d,zqv8d37,e98cezb,ieuyv2e,uxw5h8v,b3kxzzi,m4j75ti,4udr0wf,ks3khiy,yjwwrlq | DF81: 0 | DG81: 0 | DH81: 1 | DI81: 22 | DJ81: male | DK81: Yes, I have heard that phrase used on multiple occasions | DL81: 1 | DM81: Yes, I am one | DN81: 1
A82: 3188609 | B82: 73 | C82: 43212.805 | D82: 11.97 | E82: b5cslrl | G82: 3 | H82: 22 | L82: male | M82: 0 | T82: valuable in itself, as opposed to an instrumental value, which is valuable only because it brings other value. | U82: pleasure,fairness | V82: [pleasure, fairness] | W82: [[Not something I value, 0], [A value of mine, but not an intrinisic value (I value it only because of what it causes), 1], [An intrinsic value of mine (I value it even if it causes nothing else), 2]] | Y82: 1 | Z82: 1 | AA82: 1 | AB82: 1 | AC82: 1 | AD82: 1 | AE82: 2 | AF82: 1 | AG82: 1 | AH82: 1 | AI82: 1 | AJ82: 1 | AK82: 2 | AL82: 1 | AM82: 1 | AN82: 2 | AO82: 1 | AP82: 1 | AQ82: 2 | AR82: 1 | AS82: 1 | AT82: 0 | AU82: 1 | AV82: 0 | AW82: 2 | AX82: 2 | AY82: 0 | AZ82: 1 | BA82: 1 | BB82: 1 | BC82: 1 | BD82: 1 | BE82: 2 | BF82: 1 | BG82: 2 | BH82: 2 | BI82: 2 | BJ82: 0 | BK82: 1 | BL82: 1 | BM82: 1 | BN82: 2 | BO82: 1 | BP82: 1 | BQ82: 1 | BR82: 1 | BS82: 1 | BT82: 1 | BU82: 0 | BV82: 1 | BW82: 2 | BX82: 2 | BY82: 0 | BZ82: 1 | CA82: 0 | CB82: 2 | CC82: 1 | CD82: 1 | CE82: 1 | CF82: 2 | CG82: 43212.813 | CJ82: 3 | CK82: 0 | CO82: Left | CP82: Left | CQ82: 3 | CR82: &Politics_PoliticalSelfPosition_Score=3 | CS82: valuable in itself, as opposed to an instrumental value, which is valuable only because it brings other value. | CT82: 1 | CY82: 1 | CZ82: No | DA82: 1 | DB82: Yes | DC82: 1 | DD82: No | DE82: 4udr0wf,rytm9f6,yv4sxs9,chphkqo,r10kvni,5p79zt1,tfys9nh,bz15rxo,7fbh60h,dy2r65d,sjyi06d,g7x30fr,ze3j4yw,whml14c,9seol1h,b6so6w4,prkoiue,b3kxzzi,ycvqx2r,x34naaq,tap7yp7,6z35kho,rvjclrh,oqwzncg,d1rdeyt,tv60egf,pbg7jqy,f6aoczu,p7miry7,ks3khiy,6ye7hrk,s1ygz8e,eynzxu6,lp32tzz,tpc0o1f,8lc2rp7,loyblsl,duvf5i5,ve67ryu,33ksqp9,8ztjo6s,cl3xz2o,7a2hyb1,rqiszcv,q2ws20f,9r1t3rh,cwljlbf,m4j75ti,we9zef6,yjwwrlq,higviv5,ieuyv2e,zqv8d37,nnnikwl,3mo7qil,e98cezb,p0pattz,th6zdg0,cnktu1l,9pj3mvf,yn9dzzq,uxw5h8v | DF82: 1 | DG82: 1 | DH82: 1 | DI82: 22 | DJ82: male | DK82: Yes, I have heard that phrase used on multiple occasions | DL82: 1 | DM82: Yes, I am one | DN82: 1
