Workbook

Sheet regression & correlation
B1: Regression coefficients (normalized data): | G1: Individual correlations:
B2: political right | C2: age | D2: female | E2: effectiveAltruist | G2: political right | H2: age | I2: female | J2: effectiveAltruist
A3: That god is pleased with me (5p79zt1) | B3: 0.061994598 | C3: 0.07293951 | D3: 0.053546857 | E3: -0.12669891 | G3: 0.22441525 | H3: 0.41710435 | I3: 0.23693524 | J3: -0.47040247
A4: That humanity worships god (r10kvni) | B4: 0.057986419 | C4: 0.068362326 | D4: 0.037036733 | E4: -0.064212299 | G4: 0.25511708 | H4: 0.41095808 | I4: 0.21725758 | J4: -0.3897568
A5: That those who do bad things are punished (cwljlbf) | B5: 0.052563897 | C5: 0.027722133 | D5: -0.019800959 | E5: -0.074571948 | G5: 0.21353968 | H5: 0.20973178 | I5: -0.009075168 | J5: -0.2885478
A6: That people are religious (loyblsl) | B6: 0.04934409 | C6: 0.030201811 | D6: 0.04345159 | E6: -0.071753553 | G6: 0.21897157 | H6: 0.30936357 | I6: 0.21895661 | J6: -0.36585147
A7: That humanity is not replaced by another, more intelligent life form (ycvqx2r) | B7: 0.045790368 | C7: 0.0022578653 | D7: 0.0075017415 | E7: -0.047486747 | G7: 0.14316608 | H7: 0.095622713 | I7: 0.035571926 | J7: -0.15438787
A8: That my values do not change to something different than they are right now (7a2hyb1) | B8: 0.034816138 | C8: 0.076630605 | D8: 0.013024261 | E8: -0.077495339 | G8: 0.15476152 | H8: 0.34467002 | I8: 0.12602639 | J8: -0.34183212
A9: That I have children (higviv5) | B9: 0.033573865 | C9: 0.047641509 | D9: 0.048663082 | E9: -0.093532511 | G9: 0.13143068 | H9: 0.29703259 | I9: 0.19828798 | J9: -0.34214392
A10: That humanity becomes more moral than it is right now (yn9dzzq) | B10: 0.028086235 | C10: 0.10596828 | D10: -0.0020773485 | E10: -0.021595516 | G10: 0.10012368 | H10: 0.25919961 | I10: 0.063776958 | J10: -0.16994903
A11: That the people I know *personally* live longer than they normally would (whml14c) | B11: 0.020536655 | C11: 0.0027105827 | D11: 0.080985138 | E11: -0.048415835 | G11: 0.048029736 | H11: 0.11582077 | I11: 0.19331999 | J11: -0.14542479
A12: That I myself feel happy (ks3khiy) | B12: 0.018331056 | C12: 0.00087803359 | D12: 0.022593119 | E12: 0.035154536 | G12: 0.027881329 | H12: -0.018659286 | I12: 0.036549399 | J12: 0.066609014
A13: That I am not socially rejected by other people (33ksqp9) | B13: 0.018116018 | C13: -0.0064762605 | D13: 0.024501187 | E13: -0.015332522 | G13: 0.045609652 | H13: 0.027993237 | I13: 0.062137427 | J13: -0.04881854
A14: That the animals that are currently alive live longer than they normally would (uxw5h8v) | B14: 0.013267175 | C14: -0.042808392 | D14: 0.051877369 | E14: -0.075649076 | G14: 0.035778817 | H14: 0.030372121 | I14: 0.13038343 | J14: -0.16304793
... A62: That animals (non-humans) feel happy (rqiszcv) | B62: -0.107382 | C62: 0.011151706 | D62: -0.021730159 | E62: 0.088260269 | G62: -0.25065969 | H62: -0.11808716 | I62: -0.055821691 | J62: 0.21818206

Sheet sorted
A1: Percent who claim they find it intrinsically valuable
A2: people were removed before analysis if they:
A3: (a) didn't finish the survey
A4: (b) failed more than 1 of the 3 quiz questions on what an "intrinsic value" is, or
A5: (c) the definition for "intrinsic value" they wrote is not compatible with the given definition
A6: EA vs. partial EA vs. non-EA for Facebook audience is self-report of which people identify as (all mechanical turk workers assumed to be non-EA)
A7: total (n=215) | B7: non-EAs from FB + mturk (n=68) | C7: partial EAs from FB (n=66) | D7: EAs from FB (n=81) | E7: EA - non-EA difference | G7: Universal?
A8: 0.56744186 | B8: 0.30882353 | C8: 0.51515152 | D8: 0.82716049 | E8: =D8-B8 -> 0.51833696 | F8: That people I don't know experience more pleasure than they do normally (9seol1h) | G8: 1
A9: 0.72093023 | B9: 0.48529412 | C9: 0.77272727 | D9: 0.87654321 | E9: =D9-B9 -> 0.39124909 | F9: That people I don't know suffer less than they do normally (7fbh60h) | G9: 1
A10: 0.70232558 | B10: 0.5 | C10: 0.68181818 | D10: 0.88888889 | E10: =D10-B10 -> 0.38888889 | F10: That people I don't know feel happy (6z35kho) | G10: 1
A11: 0.69767442 | B11: 0.51470588 | C11: 0.68181818 | D11: 0.86419753 | E11: =D11-B11 -> 0.34949165 | F11: That animals (non-humans) suffer less than they do normally (chphkqo) | G11: 1
A12: 0.68372093 | B12: 0.57352941 | C12: 0.63636364 | D12: 0.81481481 | E12: =D12-B12 -> 0.2412854 | F12: That animals (non-humans) feel happy (rqiszcv) | G12: 1
A13: 0.35348837 | B13: 0.30882353 | C13: 0.34848485 | D13: 0.39506173 | E13: =D13-B13 -> 0.086238199 | F13: That people I don't know are able to get the things that they want (ve67ryu) | G13: 1
A14: 0.32093023 | B14: 0.29411765 | C14: 0.28787879 | D14: 0.37037037 | E14: =D14-B14 -> 0.076252723 | F14: That animals are able to get the things that they want (d1rdeyt) | G14: 1
A15: 0.26046512 | B15: 0.20588235 | C15: 0.31818182 | D15: 0.25925926 | E15: =D15-B15 -> 0.053376906 | F15: That humanity does not go extinct as quickly as it would normally (b6so6w4) | G15: 1
A16: 0.2744186 | B16: 0.26470588 | C16: 0.25757576 | D16: 0.2962963 | E16: =D16-B16 -> 0.031590414 | F16: That people I don't know live longer than they normally would (3mo7qil) | G16: 1
A17: 0.19069767 | B17: 0.17647059 | C17: 0.22727273 | D17: 0.17283951 | E17: =D17-B17 -> -0.0036310821 | F17: That not all humans have the same experiences as each other (cnktu1l) | G17: 1
A18: 0.36744186 | B18: 0.36764706 | C18: 0.40909091 | D18: 0.33333333 | E18: =D18-B18 -> -0.034313725 | F18: That humanity does not engage in immoral acts (zqv8d37) | G18: 1
A19: 0.35348837 | B19: 0.36764706 | C19: 0.39393939 | D19: 0.30864198 | E19: =D19-B19 -> -0.059005084 | F19: That humanity continues to makes progress discovering things that weren't previously known (sjyi06d) | G19: 1
... A67: 0.55813953 | B67: 0.82352941 | C67: 0.53030303 | D67: 0.35802469 | E67: =D67-B67 -> -0.46550472 | F67: That I love other people (ieuyv2e) | G67: 0

Sheet all data
X1: Intrinsic value = 2, value but not intrinsic = 1, non-value = 0
X2: % who rated it an intrinsic value:
X3: EAs from FB | Y3: =COUNTIF(Y8:Y88, "=2")/COUNTIF(Y8:Y88, ">=0") -> 0.2962963 | Z3: =COUNTIF(Z8:Z88, "=2")/COUNTIF(Z8:Z88, ">=0") -> 0.38271605 | AA3: =COUNTIF(AA8:AA88, "=2")/COUNTIF(AA8:AA88, ">=0") -> 0.19753086 | AB3: =COUNTIF(AB8:AB88, "=2")/COUNTIF(AB8:AB88, ">=0") -> 0.30864198 | AC3: =COUNTIF(AC8:AC88, "=2")/COUNTIF(AC8:AC88, ">=0") -> 0.2345679 | AD3: =COUNTIF(AD8:AD88, "=2")/COUNTIF(AD8:AD88, ">=0") -> 0.024691358 | AE3: =COUNTIF(AE8:AE88, "=2")/COUNTIF(AE8:AE88, ">=0") -> 0.80246914 | AF3: =COUNTIF(AF8:AF88, "=2")/COUNTIF(AF8:AF88, ">=0") -> 0.32098765 | ... CF3: =COUNTIF(CF8:CF88, "=2")/COUNTIF(CF8:CF88, ">=0") -> 0.74074074 | CG3: correl EA to partial EA %'s | CH3: =CORREL(Y3:CF3, Y4:CF4) -> 0.90872668
X4: partial EAs from FB | Y4: =COUNTIF(Y89:Y154, "=2")/COUNTIF(Y89:Y154, ">=0") -> 0.25757576 | Z4: =COUNTIF(Z89:Z154, "=2")/COUNTIF(Z89:Z154, ">=0") -> 0.51515152 | AA4: =COUNTIF(AA89:AA154, "=2")/COUNTIF(AA89:AA154, ">=0") -> 0.22727273 | AB4: =COUNTIF(AB89:AB154, "=2")/COUNTIF(AB89:AB154, ">=0") -> 0.39393939 | AC4: =COUNTIF(AC89:AC154, "=2")/COUNTIF(AC89:AC154, ">=0") -> 0.37878788 | AD4: =COUNTIF(AD89:AD154, "=2")/COUNTIF(AD89:AD154, ">=0") -> 0.090909091 | AE4: =COUNTIF(AE89:AE154, "=2")/COUNTIF(AE89:AE154, ">=0") -> 0.65151515 | AF4: =COUNTIF(AF89:AF154, "=2")/COUNTIF(AF89:AF154, ">=0") -> 0.45454545 | ... CF4: =COUNTIF(CF89:CF154, "=2")/COUNTIF(CF89:CF154, ">=0") -> 0.57575758 | CG4: correl EA to non-EA %'s | CH4: =CORREL(Y3:CF3, Y5:CF5) -> 0.4321778
X5: non-EAs from FB + mturk | Y5: =COUNTIF(Y155:Y222, "=2")/COUNTIF(Y155:Y222, ">=0") -> 0.26470588 | Z5: =COUNTIF(Z155:Z222, "=2")/COUNTIF(Z155:Z222, ">=0") -> 0.57352941 | AA5: =COUNTIF(AA155:AA222, "=2")/COUNTIF(AA155:AA222, ">=0") -> 0.27941176 | AB5: =COUNTIF(AB155:AB222, "=2")/COUNTIF(AB155:AB222, ">=0") -> 0.36764706 | AC5: =COUNTIF(AC155:AC222, "=2")/COUNTIF(AC155:AC222, ">=0") -> 0.47058824 | AD5: =COUNTIF(AD155:AD222, "=2")/COUNTIF(AD155:AD222, ">=0") -> 0.23529412 | AE5: =COUNTIF(AE155:AE222, "=2")/COUNTIF(AE155:AE222, ">=0") -> 0.55882353 | AF5: =COUNTIF(AF155:AF222, "=2")/COUNTIF(AF155:AF222, ">=0") -> 0.73529412 | ... CF5: =COUNTIF(CF155:CF222, "=2")/COUNTIF(CF155:CF222, ">=0") -> 0.51470588 | CG5: correl partial EA to non-EA %'s | CH5: =CORREL(Y4:CF4, Y5:CF5) -> 0.62903148
X6: total | Y6: =COUNTIF(Y8:Y222, "=2")/COUNTIF(Y8:Y222, ">=0") -> 0.2744186 | Z6: =COUNTIF(Z8:Z222, "=2")/COUNTIF(Z8:Z222, ">=0") -> 0.48372093 | AA6: =COUNTIF(AA8:AA222, "=2")/COUNTIF(AA8:AA222, ">=0") -> 0.23255814 | AB6: =COUNTIF(AB8:AB222, "=2")/COUNTIF(AB8:AB222, ">=0") -> 0.35348837 | AC6: =COUNTIF(AC8:AC222, "=2")/COUNTIF(AC8:AC222, ">=0") -> 0.35348837 | AD6: =COUNTIF(AD8:AD222, "=2")/COUNTIF(AD8:AD222, ">=0") -> 0.11162791 | AE6: =COUNTIF(AE8:AE222, "=2")/COUNTIF(AE8:AE222, ">=0") -> 0.67906977 | AF6: =COUNTIF(AF8:AF222, "=2")/COUNTIF(AF8:AF222, ">=0") -> 0.49302326 | ... CF6: =COUNTIF(CF8:CF222, "=2")/COUNTIF(CF8:CF222, ">=0") -> 0.61860465
A7: Run | B7: Program Version | C7: Time Started (UTC) | D7: Minutes Spent | E7: Position | F7: In your own words, what is an *intrinsic value*? Complete the sentence (ws9gyzl) | G7: Points | H7: age | I7: year_of_birth | J7: education | K7: educationScore | L7: gender | M7: femaleAs1MaleAs0 | N7: income | O7: incomeScore | P7: householdIncomeEstimate | Q7: computer_country | R7: device | S7: started_at | T7: theirDefinitionOfIntrinsicValue | U7: Please make a list of all the things that you can think of that you *value intrinsically*, that is, the things that you would still value even if *nothing else whatsoever* occured as a result of that thing occuring. (yoft53f) | V7: whatTheyListedAsIntrinsicValues | W7: scale | X7: Randomize (gjom1df) | Y7: That people I don't know live longer than they normally would (3mo7qil) | Z7: That I increase my understanding of the nature of reality beyond my current understanding (rytm9f6) | AA7: That I myself live longer than I normally would (q2ws20f) | AB7: That humanity continues to makes progress discovering things that weren't previously known (sjyi06d) | AC7: That I don't become less intelligent than I am now (f6aoczu) | AD7: That the nature of what humans are is not one day radically altered by advanced technology (cl3xz2o) | AE7: That I myself suffer less than I do normally (p7miry7) | AF7: That I continue to care about other people (duvf5i5) | AG7: That the people I know *personally* are able to get the things that they want (rvjclrh) | AH7: That I have children (higviv5) | AI7: That beautiful things continue to exist (nnnikwl) | AJ7: That humanity becomes more moral than it is right now (yn9dzzq) | AK7: That I myself feel happy (ks3khiy) | AL7: That humans are kind to each other (oqwzncg) | AM7: That I avoid saying things that are false (tv60egf) | AN7: That animals (non-humans) feel happy (rqiszcv) | AO7: That I love other people (ieuyv2e) | AP7: That animals are able to get the things that they want (d1rdeyt) | AQ7: That humans all have equal opportunity (9pj3mvf) | AR7: That nature is protected from damage by humans (8ztjo6s) | AS7: That I improve the lives of other people during my life (bz15rxo) | AT7: That people are religious (loyblsl) | AU7: That the people I know *personally* live longer than they normally would (whml14c) | AV7: That humanity is not replaced by another, more intelligent life form (ycvqx2r) | AW7: That animals (non-humans) suffer less than they do normally (chphkqo) | AX7: That people I don't know feel happy (6z35kho) | AY7: That god is pleased with me (5p79zt1) | AZ7: That I believe true things rather than false things (m4j75ti) | BA7: That there are lots of different kinds of humans (yjwwrlq) | BB7: That humanity does not engage in immoral acts (zqv8d37) | BC7: That other people continue to care about me (8lc2rp7) | BD7: That people I don't know are able to get the things that they want (ve67ryu) | BE7: That people I don't know experience more pleasure than they do normally (9seol1h) | BF7: That people trust me (tfys9nh) | BG7: That the world is a fair place (tpc0o1f) | BH7: That animals (non-humans) experience more pleasure than they do normally (e98cezb) | BI7: That those who do good things are rewarded (6ye7hrk) | BJ7: That those who do bad things are punished (cwljlbf) | BK7: That I do not suddenly die painlessly in my sleep tomorrow night (we9zef6) | BL7: That humanity does not go extinct as quickly as it would normally (b6so6w4) | BM7: That animal species do not go extinct as soon as they would normally (dy2r65d) | BN7: That people I don't know suffer less than they do normally (7fbh60h) | BO7: That I myself am able to get the things that I want (ze3j4yw) | BP7: That I am not socially rejected by other people (33ksqp9) | BQ7: That I continue to learn new things (p0pattz) | BR7: That humanity believes true things rather than false things (tap7yp7) | BS7: That I am remembered after I am dead (4udr0wf) | BT7: That other people love me (s1ygz8e) | BU7: That humanity worships god (r10kvni) | BV7: That I become *more* intelligent than I am now (prkoiue) | BW7: That the people I know *personally* suffer less than they do normally (g7x30fr) | BX7: That the people I know *personally* experience more pleasure than they do normally (b3kxzzi) | BY7: That the animals that are currently alive live longer than they normally would (uxw5h8v) | BZ7: That not all humans have the same experiences as each other (cnktu1l) | CA7: That my values do not change to something different than they are right now (7a2hyb1) | CB7: That the people I know *personally* feel happy (lp32tzz) | CC7: That I am admired by other people (th6zdg0) | CD7: That I get to experience a wide variety of different things during my life (eynzxu6) | CE7: That humans have the freedom to pursue what they choose to pursue (yv4sxs9) | CF7: That I myself experience more pleasure than I do normally (pbg7jqy) | CG7: Time Finished (UTC) | CH7: Is cash an intrinsic value? (8kf32e5) | CI7: Is *food* an intrinsic value? (ku0mhnm) | CJ7: numQuizQuestionsRight | CK7: numQuizQuestionsTaken | CL7: Is cash an *intrinsic* value? (zk3lrlo) | CM7: Is *food* an intrinsic value? (sa0mkd3) | CN7: Is cash (i.e. money) something that people *intrinsic* value? (zmugd0n) | CO7: In political matters, where do your views generally fall on the scale from "left" (progressive) to "right" (conservative)? (r9rosdj) | CP7: Politics_PoliticalSelfPosition | CQ7: Politics_PoliticalSelfPosition_Score | CR7: url_params | CS7: In your own words, please write the definition of what an *intrinsic value* is. Complete the sentence: (9sban9y) | CT7: I think definition they gave is compatible with correct answer | CU7: Is cash (i.e. money) something that people *intrinsic* value? (914bs9z) | CV7: Is *food* an intrinsic value? (weln04f) | CW7: Are pleasurable experiences an *intrinsic* value for many people? (skw1d5t) | CX7: Is cash (i.e. money) something that people *intrinsic* value? (d0ficpj) | CY7: firstQuizQuestionRight | CZ7: Is *food* an intrinsic value? (56rvqao) | DA7: secondQuizQuestionRight | DB7: Are pleasurable experiences an *intrinsic* value for many people? (b0k788b) | DC7: thirdQuizQuestionRight | DD7: Is cash (i.e. money) an *intrinsic* value? (m2hv80s) | DE7: Randomize (3e5diq6) | DF7: Gold (the type of metal) (9r1t3rh) | DG7: Toothbrushes (x34naaq) | DH7: facebook | DI7: How old are you? (r7g8j53) | DJ7: What gender do you identify with? (prmix5v) | DK7: Are you familiar with the phrase "Effective Altruist"? (zuq0yvy) | DL7: knowsWhatEffectiveAltruistMeans | DM7: Do you consider yourself an "Effective Altruist"? (716j4xd) | DN7: effectiveAltruist
A8: 3187277 | B8: 73 | C8: 43211.805 | D8: 17.93 | E8: b5cslrl | G8: 1 | H8: 22 | L8: female | M8: 1 | T8: something that valued in and of itself not because it has an actual effect | U8: music,animals | V8: [music, animals] | W8: [[Not something I value, 0], [A value of mine, but not an intrinisic value (I value it only because of what it causes), 1], [An intrinsic value of mine (I value it even if it causes nothing else), 2]] | Y8: 1 | Z8: 2 | AA8: 2 | AB8: 1 | AC8: 2 | AD8: 0 | AE8: 2 | AF8: 2 | AG8: 1 | AH8: 0 | AI8: 2 | AJ8: 1 | AK8: 1 | AL8: 2 | AM8: 1 | AN8: 1 | AO8: 2 | AP8: 1 | AQ8: 1 | AR8: 1 | AS8: 1 | AT8: 0 | AU8: 1 | AV8: 0 | AW8: 1 | AX8: 2 | AY8: 0 | AZ8: 2 | BA8: 2 | BB8: 2 | BC8: 2 | BD8: 1 | BE8: 1 | BF8: 2 | BG8: 2 | BH8: 2 | BI8: 1 | BJ8: 1 | BK8: 1 | BL8: 1 | BM8: 0 | BN8: 1 | BO8: 2 | BP8: 2 | BQ8: 1 | BR8: 2 | BS8: 0 | BT8: 2 | BU8: 0 | BV8: 1 | BW8: 1 | BX8: 1 | BY8: 1 | BZ8: 2 | CA8: 0 | CB8: 1 | CC8: 1 | CD8: 2 | CE8: 1 | CF8: 1 | CG8: 43211.818 | CJ8: 2 | CK8: 0 | CO8: Very Left | CP8: Very Left | CQ8: 2 | CR8: &Politics_PoliticalSelfPosition_Score=2 | CS8: something that valued in and of itself not because it has an actual effect | CT8: 1 | CY8: 1 | CZ8: Yes | DA8: 0 | DB8: Yes | DC8: 1 | DD8: No | DE8: dy2r65d,zqv8d37,tv60egf,prkoiue,higviv5,ieuyv2e,oqwzncg,loyblsl,rytm9f6,3mo7qil,q2ws20f,s1ygz8e,ze3j4yw,cwljlbf,5p79zt1,4udr0wf,33ksqp9,tpc0o1f,whml14c,th6zdg0,cl3xz2o,b3kxzzi,tfys9nh,e98cezb,9r1t3rh,ve67ryu,x34naaq,b6so6w4,d1rdeyt,r10kvni,yv4sxs9,6ye7hrk,6z35kho,9pj3mvf,7fbh60h,lp32tzz,uxw5h8v,m4j75ti,cnktu1l,9seol1h,rvjclrh,sjyi06d,8lc2rp7,p7miry7,7a2hyb1,pbg7jqy,8ztjo6s,p0pattz,f6aoczu,yn9dzzq,we9zef6,eynzxu6,duvf5i5,g7x30fr,ycvqx2r,tap7yp7,yjwwrlq,nnnikwl,rqiszcv,ks3khiy,bz15rxo,chphkqo | DF8: 0 | DG8: 1 | DH8: 1 | DI8: 22 | DJ8: female | DK8: Yes, I have heard that phrase used on multiple occasions | DL8: 1 | DM8: Yes, I am one | DN8: 1
A9: 3187479 | B9: 73 | C9: 43211.915 | D9: 14.72 | E9: b5cslrl | G9: 1 | H9: 26 | L9: female | M9: 1 | T9: something that you value in and of itself, regardless of any knock on effects | U9: existence of (very) intelligent life,happy experiences occurring to intelligent lifeforms,the priorities of intelligent lifeforms being fulfilled,the universe being understood,existence of notable possible structures, such as beautiful, elegant and complex objects,the wellbeing of specific people and animals I know,the/a universe continuing to exist,absence of strongly negative experiences occurring to intelligent lifeforms | V9: [existence of (very) intelligent life, happy experiences occurring to intelligent lifeforms, the priorities of intelligent lifeforms being fulfilled, the universe being understood, existence of notable possible structures, such as beautiful, elegant and complex objects, the wellbeing of specific people and animals I know, the/a universe continuing to exist, absence of strongly negative experiences occurring to intelligent lifeforms] | W9: [[Not something I value, 0], [A value of mine, but not an intrinisic value (I value it only because of what it causes), 1], [An intrinsic value of mine (I value it even if it causes nothing else), 2]] | Y9: 2 | Z9: 2 | AA9: 2 | AB9: 2 | AC9: 2 | AD9: 0 | AE9: 2 | AF9: 1 | AG9: 2 | AH9: 0 | AI9: 2 | AJ9: 1 | AK9: 2 | AL9: 2 | AM9: 1 | AN9: 2 | AO9: 2 | AP9: 2 | AQ9: 0 | AR9: 2 | AS9: 2 | AT9: 0 | AU9: 2 | AV9: 0 | AW9: 2 | AX9: 2 | AY9: 0 | AZ9: 2 | BA9: 2 | BB9: 1 | BC9: 1 | BD9: 2 | BE9: 2 | BF9: 1 | BG9: 0 | BH9: 2 | BI9: 1 | BJ9: 0 | BK9: 2 | BL9: 2 | BM9: 2 | BN9: 2 | BO9: 2 | BP9: 1 | BQ9: 2 | BR9: 2 | BS9: 1 | BT9: 1 | BU9: 0 | BV9: 2 | BW9: 2 | BX9: 2 | BY9: 2 | BZ9: 2 | CA9: 0 | CB9: 2 | CC9: 1 | CD9: 2 | CE9: 2 | CF9: 2 | CG9: 43211.925 | CJ9: 2 | CK9: 0 | CO9: Very Left | CP9: Very Left | CQ9: 2 | CR9: &Politics_PoliticalSelfPosition_Score=2 | CS9: something that you value in and of itself, regardless of any knock on effects | CT9: 1 | CY9: 1 | CZ9: Yes | DA9: 0 | DB9: Yes | DC9: 1 | DD9: No | DE9: f6aoczu,tv60egf,yjwwrlq,6ye7hrk,8ztjo6s,ieuyv2e,9r1t3rh,yv4sxs9,pbg7jqy,b3kxzzi,yn9dzzq,oqwzncg,9seol1h,tfys9nh,6z35kho,cl3xz2o,ve67ryu,3mo7qil,r10kvni,q2ws20f,loyblsl,th6zdg0,9pj3mvf,g7x30fr,prkoiue,whml14c,7a2hyb1,chphkqo,sjyi06d,higviv5,33ksqp9,rqiszcv,tap7yp7,zqv8d37,duvf5i5,e98cezb,s1ygz8e,d1rdeyt,5p79zt1,ks3khiy,b6so6w4,m4j75ti,cnktu1l,rvjclrh,x34naaq,nnnikwl,ze3j4yw,p7miry7,rytm9f6,7fbh60h,4udr0wf,8lc2rp7,uxw5h8v,we9zef6,cwljlbf,lp32tzz,ycvqx2r,p0pattz,tpc0o1f,eynzxu6,bz15rxo,dy2r65d | DF9: 1 | DG9: 0 | DH9: 1 | DI9: 26 | DJ9: female | DK9: Yes, I have heard that phrase used on multiple occasions | DL9: 1 | DM9: Yes, I am one | DN9: 1
A10: 3187646 | B10: 73 | C10: 43212.028 | D10: 15.62 | E10: b5cslrl | G10: 1 | H10: 25 | L10: male | M10: 0 | T10: something that has a value in itself, regardless of the surrounding world. | U10: Freedom,Thought,Good relationships,Development,Flow mode,Happiness,Purpose | V10: [Freedom, Thought, Good relationships, Development, Flow mode, Happiness, Purpose] | W10: [[Not something I value, 0], [A value of mine, but not an intrinisic value (I value it only because of what it causes), 1], [An intrinsic value of mine (I value it even if it causes nothing else), 2]] | Y10: 1 | Z10: 2 | AA10: 0 | AB10: 1 | AC10: 2 | AD10: 0 | AE10: 1 | AF10: 1 | AG10: 0 | AH10: 0 | AI10: 1 | AJ10: 1 | AK10: 2 | AL10: 2 | AM10: 2 | AN10: 2 | AO10: 1 | AP10: 0 | AQ10: 1 | AR10: 2 | AS10: 2 | AT10: 0 | AU10: 1 | AV10: 0 | AW10: 2 | AX10: 2 | AY10: 0 | AZ10: 2 | BA10: 1 | BB10: 2 | BC10: 2 | BD10: 0 | BE10: 0 | BF10: 1 | BG10: 1 | BH10: 1 | BI10: 1 | BJ10: 0 | BK10: 1 | BL10: 1 | BM10: 1 | BN10: 2 | BO10: 1 | BP10: 1 | BQ10: 2 | BR10: 0 | BS10: 0 | BT10: 1 | BU10: 0 | BV10: 1 | BW10: 2 | BX10: 1 | BY10: 1 | BZ10: 1 | CA10: 0 | CB10: 1 | CC10: 1 | CD10: 1 | CE10: 1 | CF10: 0 | CG10: 43212.039 | CJ10: 2 | CK10: 0 | CO10: Left | CP10: Left | CQ10: 3 | CR10: &Politics_PoliticalSelfPosition_Score=3 | CS10: something that has a value in itself, regardless of the surrounding world. | CT10: 1 | CY10: 1 | CZ10: Yes | DA10: 0 | DB10: Yes | DC10: 1 | DD10: No | DE10: ks3khiy,x34naaq,3mo7qil,7a2hyb1,r10kvni,ycvqx2r,cwljlbf,e98cezb,nnnikwl,oqwzncg,6ye7hrk,bz15rxo,ve67ryu,b3kxzzi,ze3j4yw,7fbh60h,rvjclrh,tpc0o1f,6z35kho,g7x30fr,s1ygz8e,uxw5h8v,whml14c,zqv8d37,tfys9nh,tap7yp7,33ksqp9,9r1t3rh,pbg7jqy,4udr0wf,higviv5,lp32tzz,f6aoczu,dy2r65d,yjwwrlq,8ztjo6s,th6zdg0,d1rdeyt,cnktu1l,9pj3mvf,rqiszcv,prkoiue,m4j75ti,tv60egf,p0pattz,rytm9f6,yn9dzzq,chphkqo,cl3xz2o,q2ws20f,5p79zt1,eynzxu6,p7miry7,8lc2rp7,sjyi06d,loyblsl,we9zef6,duvf5i5,9seol1h,yv4sxs9,ieuyv2e,b6so6w4 | DF10: 0 | DG10: 1 | DH10: 1 | DI10: 25 | DJ10: male | DK10: Yes, I have heard that phrase used on multiple occasions | DL10: 1 | DM10: Yes, I am one | DN10: 1
A11: 3187772 | B11: 73 | C11: 43212.126 | D11: 14.1 | E11: b5cslrl | G11: 1 | H11: 30 | L11: female | M11: 1 | T11: Something that I value even if it gives me nothing in return | U11: Kindness,Pleasure,Beauty | V11: [Kindness, Pleasure, Beauty] | W11: [[Not something I value, 0], [A value of mine, but not an intrinisic value (I value it only because of what it causes), 1], [An intrinsic value of mine (I value it even if it causes nothing else), 2]] | Y11: 1 | Z11: 1 | AA11: 1 | AB11: 1 | AC11: 1 | AD11: 0 | AE11: 1 | AF11: 2 | AG11: 0 | AH11: 0 | AI11: 2 | AJ11: 1 | AK11: 1 | AL11: 2 | AM11: 1 | AN11: 1 | AO11: 2 | AP11: 1 | AQ11: 1 | AR11: 1 | AS11: 1 | AT11: 0 | AU11: 1 | AV11: 1 | AW11: 1 | AX11: 1 | AY11: 0 | AZ11: 1 | BA11: 1 | BB11: 1 | BC11: 1 | BD11: 1 | BE11: 2 | BF11: 0 | BG11: 1 | BH11: 0 | BI11: 0 | BJ11: 1 | BK11: 1 | BL11: 1 | BM11: 1 | BN11: 1 | BO11: 0 | BP11: 1 | BQ11: 1 | BR11: 1 | BS11: 0 | BT11: 1 | BU11: 0 | BV11: 1 | BW11: 1 | BX11: 0 | BY11: 1 | BZ11: 1 | CA11: 0 | CB11: 1 | CC11: 1 | CD11: 1 | CE11: 1 | CF11: 1 | CG11: 43212.136 | CJ11: 2 | CK11: 0 | CO11: Center | CP11: Center | CQ11: 5.5 | CR11: &Politics_PoliticalSelfPosition_Score=5.5 | CS11: Something that I value even if it gives me nothing in return | CT11: 1 | CY11: 1 | CZ11: Yes | DA11: 0 | DB11: Yes | DC11: 1 | DD11: No | DE11: yn9dzzq,m4j75ti,9seol1h,6z35kho,sjyi06d,b3kxzzi,cl3xz2o,oqwzncg,bz15rxo,rvjclrh,pbg7jqy,6ye7hrk,ieuyv2e,zqv8d37,th6zdg0,ycvqx2r,nnnikwl,ks3khiy,8lc2rp7,yjwwrlq,3mo7qil,whml14c,9pj3mvf,tap7yp7,g7x30fr,prkoiue,cnktu1l,chphkqo,q2ws20f,rqiszcv,p7miry7,8ztjo6s,r10kvni,p0pattz,d1rdeyt,e98cezb,yv4sxs9,x34naaq,lp32tzz,duvf5i5,ze3j4yw,33ksqp9,s1ygz8e,loyblsl,rytm9f6,ve67ryu,eynzxu6,tv60egf,7fbh60h,f6aoczu,b6so6w4,4udr0wf,cwljlbf,tfys9nh,5p79zt1,tpc0o1f,dy2r65d,9r1t3rh,we9zef6,higviv5,7a2hyb1,uxw5h8v | DF11: 0 | DG11: 1 | DH11: 1 | DI11: 30 | DJ11: female | DK11: Yes, I have heard that phrase used on multiple occasions | DL11: 1 | DM11: Yes, I am one | DN11: 1
A12: 3187769 | B12: 73 | C12: 43212.122 | D12: 64.3 | E12: b5cslrl | G12: 1 | H12: 19 | L12: other | T12: something you value for its own sake. | U12: Life Eternal,Sentience,Sapience,Love,Eudaimonia,Happiness,Friendship,Souful union (sexual or otherwise),My Little Pony,Harmonious music | V12: [Life Eternal, Sentience, Sapience, Love, Eudaimonia, Happiness, Friendship, Souful union (sexual or otherwise), My Little Pony, Harmonious music] | W12: [[Not something I value, 0], [A value of mine, but not an intrinisic value (I value it only because of what it causes), 1], [An intrinsic value of mine (I value it even if it causes nothing else), 2]] | Y12: 2 | Z12: 2 | AA12: 2 | AB12: 2 | AC12: 2 | AD12: 0 | AE12: 2 | AF12: 2 | AG12: 2 | AH12: 1 | AI12: 2 | AJ12: 2 | AK12: 2 | AL12: 2 | AM12: 2 | AN12: 2 | AO12: 2 | AP12: 1 | AQ12: 2 | AR12: 1 | AS12: 2 | AT12: 0 | AU12: 2 | AV12: 1 | AW12: 2 | AX12: 2 | AY12: 0 | AZ12: 2 | BA12: 2 | BB12: 2 | BC12: 2 | BD12: 2 | BE12: 2 | BF12: 1 | BG12: 1 | BH12: 2 | BI12: 1 | BJ12: 1 | BK12: 2 | BL12: 2 | BM12: 2 | BN12: 2 | BO12: 1 | BP12: 2 | BQ12: 2 | BR12: 2 | BS12: 1 | BT12: 1 | BU12: 0 | BV12: 1 | BW12: 2 | BX12: 2 | BY12: 1 | BZ12: 1 | CA12: 1 | CB12: 2 | CC12: 2 | CD12: 2 | CE12: 2 | CF12: 2 | CG12: 43212.167 | CJ12: 2 | CK12: 0 | CO12: Far Left | CP12: Far Left | CQ12: 1 | CR12: &Politics_PoliticalSelfPosition_Score=1 | CS12: something you value for its own sake. | CT12: 1 | CY12: 1 | CZ12: Yes | DA12: 0 | DB12: Yes | DC12: 1 | DD12: No | DE12: 9seol1h,bz15rxo,chphkqo,ve67ryu,uxw5h8v,q2ws20f,higviv5,p0pattz,yv4sxs9,6ye7hrk,tv60egf,b6so6w4,cl3xz2o,p7miry7,pbg7jqy,33ksqp9,x34naaq,th6zdg0,8ztjo6s,nnnikwl,cwljlbf,loyblsl,rqiszcv,9pj3mvf,b3kxzzi,lp32tzz,6z35kho,4udr0wf,g7x30fr,we9zef6,cnktu1l,m4j75ti,rvjclrh,oqwzncg,7a2hyb1,s1ygz8e,yn9dzzq,3mo7qil,ieuyv2e,8lc2rp7,f6aoczu,rytm9f6,prkoiue,sjyi06d,dy2r65d,ks3khiy,e98cezb,tpc0o1f,7fbh60h,tfys9nh,ze3j4yw,ycvqx2r,9r1t3rh,r10kvni,d1rdeyt,whml14c,zqv8d37,tap7yp7,5p79zt1,yjwwrlq,eynzxu6,duvf5i5 | DF12: 0 | DG12: 1 | DH12: 1 | DI12: 19 | DJ12: other | DK12: Yes, I have heard that phrase used on multiple occasions | DL12: 1 | DM12: Yes, I am one | DN12: 1
A13: 3187947 | B13: 73 | C13: 43212.29 | D13: 11.38 | E13: b5cslrl | G13: 1 | H13: 26 | L13: female | M13: 1 | T13: Soemthing that is valuable for itself and not because of any of its effects | U13: Pleasure/happiness,Connection with others,Knowledge/understanding | V13: [Pleasure/happiness, Connection with others, Knowledge/understanding] | W13: [[Not something I value, 0], [A value of mine, but not an intrinisic value (I value it only because of what it causes), 1], [An intrinsic value of mine (I value it even if it causes nothing else), 2]] | Y13: 1 | Z13: 2 | AA13: 2 | AB13: 2 | AC13: 2 | AD13: 0 | AE13: 2 | AF13: 2 | AG13: 1 | AH13: 1 | AI13: 1 | AJ13: 2 | AK13: 2 | AL13: 2 | AM13: 2 | AN13: 2 | AO13: 2 | AP13: 1 | AQ13: 2 | AR13: 0 | AS13: 2 | AT13: 0 | AU13: 2 | AV13: 0 | AW13: 2 | AX13: 2 | AY13: 2 | AZ13: 2 | BA13: 0 | BB13: 2 | BC13: 2 | BD13: 1 | BE13: 2 | BF13: 2 | BG13: 2 | BH13: 2 | BI13: 2 | BJ13: 1 | BK13: 2 | BL13: 2 | BM13: 0 | BN13: 1 | BO13: 1 | BP13: 1 | BQ13: 2 | BR13: 2 | BS13: 1 | BT13: 2 | BU13: 0 | BV13: 2 | BW13: 2 | BX13: 2 | BY13: 1 | BZ13: 0 | CA13: 0 | CB13: 2 | CC13: 2 | CD13: 1 | CE13: 1 | CF13: 2 | CG13: 43212.298 | CJ13: 2 | CK13: 0 | CO13: Very Left | CP13: Very Left | CQ13: 2 | CR13: &Politics_PoliticalSelfPosition_Score=2 | CS13: Soemthing that is valuable for itself and not because of any of its effects | CT13: 1 | CY13: 1 | CZ13: Yes | DA13: 0 | DB13: Yes | DC13: 1 | DD13: No | DE13: 4udr0wf,b6so6w4,cl3xz2o,zqv8d37,b3kxzzi,we9zef6,p0pattz,rvjclrh,6z35kho,th6zdg0,yv4sxs9,9pj3mvf,uxw5h8v,r10kvni,ycvqx2r,ieuyv2e,7fbh60h,rqiszcv,s1ygz8e,9r1t3rh,6ye7hrk,whml14c,5p79zt1,cwljlbf,q2ws20f,8lc2rp7,lp32tzz,f6aoczu,bz15rxo,ve67ryu,8ztjo6s,duvf5i5,tv60egf,p7miry7,chphkqo,eynzxu6,g7x30fr,x34naaq,prkoiue,9seol1h,ze3j4yw,cnktu1l,ks3khiy,yjwwrlq,3mo7qil,7a2hyb1,tpc0o1f,oqwzncg,nnnikwl,higviv5,d1rdeyt,dy2r65d,yn9dzzq,rytm9f6,m4j75ti,e98cezb,pbg7jqy,loyblsl,tap7yp7,33ksqp9,sjyi06d,tfys9nh | DF13: 1 | DG13: 1 | DH13: 1 | DI13: 26 | DJ13: female | DK13: Yes, I have heard that phrase used on multiple occasions | DL13: 1 | DM13: Yes, I am one | DN13: 1
A14: 3187952 | B14: 73 | C14: 43212.296 | D14: 9.67 | E14: b5cslrl | G14: 1 | H14: 22 | L14: female | M14: 1 | T14: Something you would value even if nothing else occurs as a result of it | U14: Enjoying sun, talking to friends, laughing | V14: [Enjoying sun, talking to friends, laughing] | W14: [[Not something I value, 0], [A value of mine, but not an intrinisic value (I value it only because of what it causes), 1], [An intrinsic value of mine (I value it even if it causes nothing else), 2]] | Y14: 1 | Z14: 1 | AA14: 1 | AB14: 1 | AC14: 1 | AD14: 0 | AE14: 1 | AF14: 0 | AG14: 1 | AH14: 0 | AI14: 1 | AJ14: 1 | AK14: 2 | AL14: 1 | AM14: 1 | AN14: 1 | AO14: 0 | AP14: 1 | AQ14: 1 | AR14: 1 | AS14: 1 | AT14: 0 | AU14: 1 | AV14: 0 | AW14: 2 | AX14: 2 | AY14: 0 | AZ14: 1 | BA14: 0 | BB14: 1 | BC14: 2 | BD14: 1 | BE14: 2 | BF14: 0 | BG14: 1 | BH14: 1 | BI14: 1 | BJ14: 1 | BK14: 1 | BL14: 1 | BM14: 0 | BN14: 1 | BO14: 1 | BP14: 2 | BQ14: 1 | BR14: 1 | BS14: 1 | BT14: 2 | BU14: 0 | BV14: 1 | BW14: 1 | BX14: 1 | BY14: 0 | BZ14: 0 | CA14: 0 | CB14: 1 | CC14: 1 | CD14: 1 | CE14: 1 | CF14: 1 | CG14: 43212.303 | CJ14: 2 | CK14: 0 | CO14: Right of Center | CP14: Right of Center | CQ14: 6 | CR14: &Politics_PoliticalSelfPosition_Score=6 | CS14: Something you would value even if nothing else occurs as a result of it | CT14: 1 | CY14: 1 | CZ14: Yes | DA14: 0 | DB14: Yes | DC14: 1 | DD14: No | DE14: whml14c,yn9dzzq,9pj3mvf,ieuyv2e,q2ws20f,dy2r65d,uxw5h8v,zqv8d37,8ztjo6s,cnktu1l,5p79zt1,th6zdg0,duvf5i5,rvjclrh,eynzxu6,we9zef6,6z35kho,ze3j4yw,nnnikwl,x34naaq,p7miry7,prkoiue,lp32tzz,9r1t3rh,tpc0o1f,9seol1h,chphkqo,p0pattz,b6so6w4,d1rdeyt,4udr0wf,ve67ryu,7a2hyb1,tv60egf,yjwwrlq,ycvqx2r,tap7yp7,33ksqp9,7fbh60h,m4j75ti,sjyi06d,b3kxzzi,rytm9f6,s1ygz8e,e98cezb,cwljlbf,f6aoczu,yv4sxs9,cl3xz2o,8lc2rp7,3mo7qil,ks3khiy,loyblsl,tfys9nh,bz15rxo,oqwzncg,higviv5,r10kvni,pbg7jqy,6ye7hrk,rqiszcv,g7x30fr | DF14: 0 | DG14: 1 | DH14: 1 | DI14: 22 | DJ14: female | DK14: Yes, I have heard that phrase used on multiple occasions | DL14: 1 | DM14: Yes, I am one | DN14: 1
A15: 3188039 | B15: 73 | C15: 43212.393 | D15: 17.17 | E15: b5cslrl | G15: 1 | H15: 24 | L15: female | M15: 1 | T15: something which i valuable in itself. | U15: Love,relationships,knowledge,experience | V15: [Love, relationships, knowledge, experience] | W15: [[Not something I value, 0], [A value of mine, but not an intrinisic value (I value it only because of what it causes), 1], [An intrinsic value of mine (I value it even if it causes nothing else), 2]] | Y15: 2 | Z15: 1 | AA15: 1 | AB15: 2 | AC15: 1 | AD15: 0 | AE15: 2 | AF15: 2 | AG15: 1 | AH15: 1 | AI15: 1 | AJ15: 2 | AK15: 2 | AL15: 2 | AM15: 1 | AN15: 2 | AO15: 1 | AP15: 2 | AQ15: 2 | AR15: 1 | AS15: 2 | AT15: 0 | AU15: 2 | AV15: 0 | AW15: 2 | AX15: 2 | AY15: 0 | AZ15: 2 | BA15: 0 | BB15: 2 | BC15: 1 | BD15: 2 | BE15: 2 | BF15: 2 | BG15: 2 | BH15: 2 | BI15: 2 | BJ15: 2 | BK15: 1 | BL15: 2 | BM15: 0 | BN15: 2 | BO15: 1 | BP15: 2 | BQ15: 2 | BR15: 2 | BS15: 0 | BT15: 1 | BU15: 0 | BV15: 1 | BW15: 2 | BX15: 2 | BY15: 2 | BZ15: 1 | CA15: 1 | CB15: 2 | CC15: 1 | CD15: 1 | CE15: 2 | CF15: 2 | CG15: 43212.405 | CJ15: 2 | CK15: 0 | CO15: Left | CP15: Left | CQ15: 3 | CR15: &Politics_PoliticalSelfPosition_Score=3 | CS15: something which i valuable in itself. | CT15: 1 | CY15: 1 | CZ15: Yes | DA15: 0 | DB15: Yes | DC15: 1 | DD15: No | DE15: 8ztjo6s,d1rdeyt,chphkqo,cl3xz2o,p7miry7,6z35kho,ycvqx2r,duvf5i5,pbg7jqy,6ye7hrk,eynzxu6,cwljlbf,5p79zt1,yn9dzzq,ks3khiy,cnktu1l,9r1t3rh,33ksqp9,9pj3mvf,s1ygz8e,ve67ryu,p0pattz,whml14c,7fbh60h,ze3j4yw,uxw5h8v,8lc2rp7,th6zdg0,tpc0o1f,dy2r65d,rytm9f6,b6so6w4,b3kxzzi,9seol1h,we9zef6,prkoiue,4udr0wf,r10kvni,q2ws20f,rvjclrh,tfys9nh,lp32tzz,tap7yp7,nnnikwl,7a2hyb1,rqiszcv,sjyi06d,3mo7qil,f6aoczu,yjwwrlq,yv4sxs9,higviv5,e98cezb,oqwzncg,tv60egf,m4j75ti,g7x30fr,bz15rxo,loyblsl,ieuyv2e,zqv8d37,x34naaq | DF15: 0 | DG15: 1 | DH15: 1 | DI15: 24 | DJ15: female | DK15: Yes, I have heard that phrase used on multiple occasions | DL15: 1 | DM15: Yes, I am one | DN15: 1
A16: 3188205 | B16: 73 | C16: 43212.529 | D16: 9.23 | E16: b5cslrl | G16: 1 | H16: 27 | L16: male | M16: 0 | T16: something that has a value of it's one, even if nothing else results from it. | U16: Pleasure | V16: [Pleasure] | W16: [[Not something I value, 0], [A value of mine, but not an intrinisic value (I value it only because of what it causes), 1], [An intrinsic value of mine (I value it even if it causes nothing else), 2]] | Y16: 1 | Z16: 1 | AA16: 1 | AB16: 1 | AC16: 1 | AD16: 1 | AE16: 2 | AF16: 1 | AG16: 1 | AH16: 0 | AI16: 1 | AJ16: 1 | AK16: 2 | AL16: 1 | AM16: 1 | AN16: 2 | AO16: 1 | AP16: 1 | AQ16: 2 | AR16: 2 | AS16: 1 | AT16: 0 | AU16: 1 | AV16: 1 | AW16: 2 | AX16: 2 | AY16: 0 | AZ16: 1 | BA16: 1 | BB16: 1 | BC16: 1 | BD16: 1 | BE16: 2 | BF16: 1 | BG16: 2 | BH16: 2 | BI16: 1 | BJ16: 1 | BK16: 1 | BL16: 1 | BM16: 1 | BN16: 2 | BO16: 1 | BP16: 1 | BQ16: 1 | BR16: 1 | BS16: 0 | BT16: 1 | BU16: 0 | BV16: 1 | BW16: 1 | BX16: 1 | BY16: 1 | BZ16: 2 | CA16: 0 | CB16: 2 | CC16: 1 | CD16: 1 | CE16: 2 | CF16: 2 | CG16: 43212.535 | CJ16: 2 | CK16: 0 | CO16: Center | CP16: Center | CQ16: 5.5 | CR16: &Politics_PoliticalSelfPosition_Score=5.5 | CS16: something that has a value of it's one, even if nothing else results from it. | CT16: 1 | CY16: 1 | CZ16: Yes | DA16: 0 | DB16: Yes | DC16: 1 | DD16: No | DE16: pbg7jqy,5p79zt1,ieuyv2e,oqwzncg,duvf5i5,cnktu1l,th6zdg0,p7miry7,q2ws20f,d1rdeyt,sjyi06d,yjwwrlq,7fbh60h,b3kxzzi,zqv8d37,b6so6w4,33ksqp9,s1ygz8e,tv60egf,we9zef6,loyblsl,g7x30fr,yv4sxs9,tap7yp7,yn9dzzq,m4j75ti,cwljlbf,chphkqo,8lc2rp7,eynzxu6,nnnikwl,tfys9nh,rytm9f6,bz15rxo,3mo7qil,9pj3mvf,uxw5h8v,p0pattz,ycvqx2r,6ye7hrk,dy2r65d,whml14c,ks3khiy,e98cezb,ze3j4yw,higviv5,8ztjo6s,f6aoczu,r10kvni,ve67ryu,rqiszcv,lp32tzz,tpc0o1f,cl3xz2o,9seol1h,4udr0wf,prkoiue,6z35kho,9r1t3rh,7a2hyb1,rvjclrh,x34naaq | DF16: 0 | DG16: 1 | DH16: 1 | DI16: 27 | DJ16: male | DK16: Yes, I have heard that phrase used on multiple occasions | DL16: 1 | DM16: Yes, I am one | DN16: 1
A17: 3188261 | B17: 73 | C17: 43212.581 | D17: 13.88 | E17: b5cslrl | G17: 1 | H17: 24 | L17: male | M17: 0 | T17: something that has value in and of itself - its value doesn't come from the valuable things that it brings | U17: family,friends,love,politics,life | V17: [family, friends, love, politics, life] | W17: [[Not something I value, 0], [A value of mine, but not an intrinisic value (I value it only because of what it causes), 1], [An intrinsic value of mine (I value it even if it causes nothing else), 2]] | Y17: 0 | Z17: 1 | AA17: 1 | AB17: 1 | AC17: 2 | AD17: 1 | AE17: 1 | AF17: 2 | AG17: 1 | AH17: 0 | AI17: 2 | AJ17: 0 | AK17: 2 | AL17: 1 | AM17: 1 | AN17: 0 | AO17: 2 | AP17: 0 | AQ17: 2 | AR17: 1 | AS17: 1 | AT17: 0 | AU17: 1 | AV17: 2 | AW17: 0 | AX17: 0 | AY17: 0 | AZ17: 2 | BA17: 1 | BB17: 0 | BC17: 1 | BD17: 0 | BE17: 0 | BF17: 1 | BG17: 0 | BH17: 0 | BI17: 1 | BJ17: 1 | BK17: 1 | BL17: 1 | BM17: 0 | BN17: 0 | BO17: 1 | BP17: 1 | BQ17: 2 | BR17: 1 | BS17: 2 | BT17: 2 | BU17: 0 | BV17: 1 | BW17: 1 | BX17: 1 | BY17: 0 | BZ17: 2 | CA17: 0 | CB17: 2 | CC17: 1 | CD17: 2 | CE17: 2 | CF17: 1 | CG17: 43212.591 | CJ17: 2 | CK17: 0 | CO17: Moderately Right-leaning | CP17: Moderately Right-leaning | CQ17: 7 | CR17: &Politics_PoliticalSelfPosition_Score=7 | CS17: something that has value in and of itself - its value doesn't come from the valuable things that it brings | CT17: 1 | CY17: 0 | CZ17: No | DA17: 1 | DB17: Yes | DC17: 1 | DD17: Yes | DE17: yjwwrlq,cnktu1l,m4j75ti,9pj3mvf,x34naaq,oqwzncg,loyblsl,5p79zt1,tv60egf,p7miry7,rqiszcv,yn9dzzq,g7x30fr,ieuyv2e,eynzxu6,cwljlbf,lp32tzz,ze3j4yw,7a2hyb1,pbg7jqy,bz15rxo,f6aoczu,p0pattz,b3kxzzi,8lc2rp7,ve67ryu,cl3xz2o,3mo7qil,q2ws20f,nnnikwl,33ksqp9,uxw5h8v,prkoiue,tap7yp7,zqv8d37,6z35kho,th6zdg0,whml14c,sjyi06d,4udr0wf,dy2r65d,e98cezb,higviv5,b6so6w4,ycvqx2r,9seol1h,yv4sxs9,tpc0o1f,rytm9f6,s1ygz8e,ks3khiy,rvjclrh,d1rdeyt,tfys9nh,7fbh60h,r10kvni,we9zef6,9r1t3rh,chphkqo,6ye7hrk,8ztjo6s,duvf5i5 | DF17: 1 | DG17: 1 | DH17: 1 | DI17: 24 | DJ17: male | DK17: Yes, I have heard that phrase used on multiple occasions | DL17: 1 | DM17: Yes, I am one | DN17: 1
A18: 3187708 | B18: 73 | C18: 43212.069 | D18: 763.18 | E18: b5cslrl | G18: 1 | H18: 29 | L18: male | M18: 0 | T18: something that is valuable without accounting for follow on effects | U18: sex,conversation,knowledge | V18: [sex, conversation, knowledge] | W18: [[Not something I value, 0], [A value of mine, but not an intrinisic value (I value it only because of what it causes), 1], [An intrinsic value of mine (I value it even if it causes nothing else), 2]] | Y18: 2 | Z18: 1 | AA18: 1 | AB18: 2 | AC18: 1 | AD18: 0 | AE18: 2 | AF18: 1 | AG18: 2 | AH18: 1 | AI18: 2 | AJ18: 1 | AK18: 2 | AL18: 1 | AM18: 1 | AN18: 2 | AO18: 1 | AP18: 2 | AQ18: 0 | AR18: 1 | AS18: 2 | AT18: 0 | AU18: 2 | AV18: 1 | AW18: 2 | AX18: 2 | AY18: 0 | AZ18: 1 | BA18: 1 | BB18: 1 | BC18: 1 | BD18: 1 | BE18: 2 | BF18: 1 | BG18: 1 | BH18: 2 | BI18: 1 | BJ18: 1 | BK18: 1 | BL18: 2 | BM18: 1 | BN18: 2 | BO18: 2 | BP18: 1 | BQ18: 1 | BR18: 1 | BS18: 0 | BT18: 1 | BU18: 0 | BV18: 1 | BW18: 2 | BX18: 2 | BY18: 2 | BZ18: 1 | CA18: 0 | CB18: 2 | CC18: 1 | CD18: 1 | CE18: 1 | CF18: 2 | CG18: 43212.599 | CJ18: 2 | CK18: 0 | CO18: Right of Center | CP18: Right of Center | CQ18: 6 | CR18: &Politics_PoliticalSelfPosition_Score=6 | CS18: something that is valuable without accounting for follow on effects | CT18: 1 | CY18: 1 | CZ18: Yes | DA18: 0 | DB18: Yes | DC18: 1 | DD18: No | DE18: pbg7jqy,6ye7hrk,6z35kho,tfys9nh,9r1t3rh,b6so6w4,lp32tzz,ks3khiy,r10kvni,sjyi06d,7fbh60h,tpc0o1f,m4j75ti,g7x30fr,p0pattz,cnktu1l,ieuyv2e,oqwzncg,duvf5i5,bz15rxo,cwljlbf,rvjclrh,tv60egf,9seol1h,eynzxu6,cl3xz2o,q2ws20f,d1rdeyt,th6zdg0,loyblsl,yv4sxs9,rytm9f6,f6aoczu,tap7yp7,whml14c,x34naaq,ve67ryu,8ztjo6s,ycvqx2r,5p79zt1,we9zef6,chphkqo,prkoiue,yn9dzzq,9pj3mvf,nnnikwl,yjwwrlq,e98cezb,8lc2rp7,4udr0wf,b3kxzzi,33ksqp9,p7miry7,dy2r65d,zqv8d37,ze3j4yw,uxw5h8v,3mo7qil,7a2hyb1,higviv5,rqiszcv,s1ygz8e | DF18: 0 | DG18: 1 | DH18: 1 | DI18: 29 | DJ18: male | DK18: Yes, I have heard that phrase used on multiple occasions | DL18: 1 | DM18: Yes, I am one | DN18: 1
A19: 3188613 | B19: 73 | C19: 43212.806 | D19: 96.1 | E19: b5cslrl | G19: 1 | H19: 25 | L19: male | M19: 0 | T19: something that can happen without necessary consequences, or hold value without other assumptions | U19: relaxing,bonding,learning about new things,enjoying good food,having good sex,feeling proud about myself,enjoying a hobby | V19: [relaxing, bonding, learning about new things, enjoying good food, having good sex, feeling proud about myself, enjoying a hobby] | W19: [[Not something I value, 0], [A value of mine, but not an intrinisic value (I value it only because of what it causes), 1], [An intrinsic value of mine (I value it even if it causes nothing else), 2]] | Y19: 1 | Z19: 1 | AA19: 1 | AB19: 1 | AC19: 1 | AD19: 1 | AE19: 1 | AF19: 1 | AG19: 1 | AH19: 0 | AI19: 1 | AJ19: 1 | AK19: 1 | AL19: 1 | AM19: 1 | AN19: 2 | AO19: 1 | AP19: 1 | AQ19: 1 | AR19: 1 | AS19: 2 | AT19: 0 | AU19: 1 | AV19: 0 | AW19: 1 | AX19: 1 | AY19: 0 | AZ19: 1 | BA19: 1 | BB19: 2 | BC19: 1 | BD19: 1 | BE19: 1 | BF19: 1 | BG19: 2 | BH19: 1 | BI19: 1 | BJ19: 1 | BK19: 1 | BL19: 2 | BM19: 1 | BN19: 1 | BO19: 1 | BP19: 1 | BQ19: 1 | BR19: 1 | BS19: 0 | BT19: 1 | BU19: 0 | BV19: 2 | BW19: 1 | BX19: 1 | BY19: 1 | BZ19: 1 | CA19: 0 | CB19: 1 | CC19: 1 | CD19: 1 | CE19: 1 | CF19: 1 | CG19: 43212.873 | CJ19: 2 | CK19: 0 | CO19: Left | CP19: Left | CQ19: 3 | CR19: &Politics_PoliticalSelfPosition_Score=3 | CS19: something that can happen without necessary consequences, or hold value without other assumptions | CT19: 1 | CY19: 0 | CZ19: No | DA19: 1 | DB19: Yes | DC19: 1 | DD19: Yes | DE19: ze3j4yw,rvjclrh,tv60egf,bz15rxo,prkoiue,x34naaq,cnktu1l,s1ygz8e,p7miry7,8lc2rp7,th6zdg0,we9zef6,pbg7jqy,d1rdeyt,p0pattz,rqiszcv,cwljlbf,q2ws20f,9pj3mvf,r10kvni,g7x30fr,m4j75ti,6z35kho,ve67ryu,yn9dzzq,tfys9nh,9r1t3rh,nnnikwl,b3kxzzi,7fbh60h,9seol1h,yjwwrlq,loyblsl,whml14c,rytm9f6,f6aoczu,33ksqp9,8ztjo6s,ieuyv2e,tap7yp7,lp32tzz,duvf5i5,5p79zt1,dy2r65d,b6so6w4,yv4sxs9,3mo7qil,ycvqx2r,ks3khiy,sjyi06d,oqwzncg,cl3xz2o,7a2hyb1,higviv5,uxw5h8v,e98cezb,eynzxu6,6ye7hrk,tpc0o1f,chphkqo,zqv8d37,4udr0wf | DF19: 1 | DG19: 1 | DH19: 1 | DI19: 25 | DJ19: male | DK19: Yes, I have heard that phrase used on multiple occasions | DL19: 1 | DM19: Yes, I am one | DN19: 1
A20: 3187228 | B20: 73 | C20: 43211.782 | D20: 8.7 | E20: b5cslrl | G20: 3 | H20: 25 | L20: male | M20: 0 | T20: a value that gains meaning from its sole presence without further consequences. | U20: Pleasure,Interpersonal relationships (Love, friendship) | V20: [Pleasure, Interpersonal relationships (Love, friendship)] | W20: [[Not something I value, 0], [A value of mine, but not an intrinisic value (I value it only because of what it causes), 1], [An intrinsic value of mine (I value it even if it causes nothing else), 2]] | Y20: 1 | Z20: 1 | AA20: 1 | AB20: 1 | AC20: 1 | AD20: 1 | AE20: 2 | AF20: 2 | AG20: 2 | AH20: 0 | AI20: 1 | AJ20: 1 | AK20: 2 | AL20: 2 | AM20: 1 | AN20: 2 | AO20: 2 | AP20: 2 | AQ20: 1 | AR20: 1 | AS20: 2 | AT20: 0 | AU20: 1 | AV20: 0 | AW20: 2 | AX20: 2 | AY20: 0 | AZ20: 1 | BA20: 1 | BB20: 2 | BC20: 2 | BD20: 2 | BE20: 2 | BF20: 1 | BG20: 1 | BH20: 2 | BI20: 1 | BJ20: 1 | BK20: 1 | BL20: 1 | BM20: 1 | BN20: 2 | BO20: 2 | BP20: 2 | BQ20: 1 | BR20: 1 | BS20: 0 | BT20: 2 | BU20: 0 | BV20: 1 | BW20: 2 | BX20: 2 | BY20: 0 | BZ20: 0 | CA20: 0 | CB20: 2 | CC20: 1 | CD20: 1 | CE20: 2 | CF20: 2 | CG20: 43211.788 | CJ20: 3 | CK20: 0 | CO20: Moderately Left-leaning | CP20: Moderately Left-leaning | CQ20: 4 | CR20: &Politics_PoliticalSelfPosition_Score=4 | CS20: a value that gains meaning from its sole presence without further consequences. | CT20: 1 | CY20: 1 | CZ20: No | DA20: 1 | DB20: Yes | DC20: 1 | DD20: No | DE20: prkoiue,dy2r65d,yjwwrlq,yn9dzzq,nnnikwl,p7miry7,9seol1h,ks3khiy,cnktu1l,higviv5,m4j75ti,bz15rxo,cl3xz2o,3mo7qil,tv60egf,lp32tzz,chphkqo,e98cezb,f6aoczu,33ksqp9,rytm9f6,8lc2rp7,eynzxu6,th6zdg0,tfys9nh,q2ws20f,yv4sxs9,p0pattz,s1ygz8e,ieuyv2e,b3kxzzi,9pj3mvf,ycvqx2r,7a2hyb1,d1rdeyt,ze3j4yw,we9zef6,ve67ryu,5p79zt1,rqiszcv,b6so6w4,loyblsl,zqv8d37,whml14c,x34naaq,6z35kho,8ztjo6s,g7x30fr,9r1t3rh,tap7yp7,r10kvni,rvjclrh,4udr0wf,uxw5h8v,cwljlbf,7fbh60h,tpc0o1f,6ye7hrk,duvf5i5,oqwzncg,sjyi06d,pbg7jqy | DF20: 1 | DG20: 1 | DH20: 1 | DI20: 25 | DJ20: male | DK20: Yes, I have heard that phrase used on multiple occasions | DL20: 1 | DM20: Yes, I am one | DN20: 1
A21: 3187221 | B21: 73 | C21: 43211.779 | D21: 12.73 | E21: b5cslrl | G21: 3 | H21: 39 | L21: female | M21: 1 | T21: Something that has value because of what it is, not what it does | U21: Happiness of beings,Reduction of suffering,Rrichness of life | V21: [Happiness of beings, Reduction of suffering, Rrichness of life] | W21: [[Not something I value, 0], [A value of mine, but not an intrinisic value (I value it only because of what it causes), 1], [An intrinsic value of mine (I value it even if it causes nothing else), 2]] | Y21: 2 | Z21: 1 | AA21: 2 | AB21: 1 | AC21: 1 | AD21: 0 | AE21: 2 | AF21: 1 | AG21: 2 | AH21: 0 | AI21: 2 | AJ21: 1 | AK21: 2 | AL21: 2 | AM21: 1 | AN21: 2 | AO21: 2 | AP21: 2 | AQ21: 1 | AR21: 2 | AS21: 1 | AT21: 0 | AU21: 1 | AV21: 1 | AW21: 2 | AX21: 2 | AY21: 0 | AZ21: 1 | BA21: 2 | BB21: 1 | BC21: 2 | BD21: 2 | BE21: 2 | BF21: 2 | BG21: 1 | BH21: 2 | BI21: 1 | BJ21: 1 | BK21: 2 | BL21: 2 | BM21: 2 | BN21: 2 | BO21: 2 | BP21: 1 | BQ21: 2 | BR21: 1 | BS21: 0 | BT21: 2 | BU21: 0 | BV21: 1 | BW21: 2 | BX21: 2 | BY21: 1 | BZ21: 1 | CA21: 0 | CB21: 2 | CC21: 1 | CD21: 1 | CE21: 2 | CF21: 2 | CG21: 43211.788 | CJ21: 3 | CK21: 0 | CO21: Left | CP21: Left | CQ21: 3 | CR21: &Politics_PoliticalSelfPosition_Score=3 | CS21: Something that has value because of what it is, not what it does | CT21: 1 | CY21: 1 | CZ21: No | DA21: 1 | DB21: Yes | DC21: 1 | DD21: No | DE21: 8ztjo6s,whml14c,yjwwrlq,tfys9nh,x34naaq,uxw5h8v,rvjclrh,b6so6w4,b3kxzzi,we9zef6,6ye7hrk,e98cezb,ycvqx2r,q2ws20f,ks3khiy,cnktu1l,dy2r65d,pbg7jqy,4udr0wf,5p79zt1,p0pattz,ieuyv2e,7a2hyb1,tpc0o1f,tap7yp7,prkoiue,ve67ryu,9pj3mvf,sjyi06d,g7x30fr,6z35kho,m4j75ti,3mo7qil,7fbh60h,duvf5i5,r10kvni,bz15rxo,th6zdg0,nnnikwl,tv60egf,eynzxu6,9r1t3rh,chphkqo,cwljlbf,9seol1h,f6aoczu,yv4sxs9,zqv8d37,oqwzncg,ze3j4yw,lp32tzz,33ksqp9,yn9dzzq,s1ygz8e,loyblsl,p7miry7,higviv5,rqiszcv,cl3xz2o,8lc2rp7,d1rdeyt,rytm9f6 | DF21: 1 | DG21: 1 | DH21: 1 | DI21: 39 | DJ21: female | DK21: Yes, I have heard that phrase used on multiple occasions | DL21: 1 | DM21: Yes, I am one | DN21: 1
A22: 3187226 | B22: 73 | C22: 43211.78 | D22: 15.07 | E22: b5cslrl | G22: 3 | H22: 32 | L22: male | M22: 0 | T22: That which is valued with no further context. | U22: Social good,Pleasure,Honesty,Humility,Time | V22: [Social good, Pleasure, Honesty, Humility, Time] | W22: [[Not something I value, 0], [A value of mine, but not an intrinisic value (I value it only because of what it causes), 1], [An intrinsic value of mine (I value it even if it causes nothing else), 2]] | Y22: 2 | Z22: 2 | AA22: 1 | AB22: 2 | AC22: 2 | AD22: 0 | AE22: 1 | AF22: 1 | AG22: 1 | AH22: 1 | AI22: 2 | AJ22: 2 | AK22: 0 | AL22: 1 | AM22: 1 | AN22: 0 | AO22: 0 | AP22: 0 | AQ22: 1 | AR22: 1 | AS22: 2 | AT22: 0 | AU22: 1 | AV22: 1 | AW22: 0 | AX22: 1 | AY22: 1 | AZ22: 2 | BA22: 1 | BB22: 1 | BC22: 1 | BD22: 1 | BE22: 1 | BF22: 1 | BG22: 2 | BH22: 0 | BI22: 1 | BJ22: 1 | BK22: 1 | BL22: 2 | BM22: 0 | BN22: 2 | BO22: 1 | BP22: 1 | BQ22: 2 | BR22: 2 | BS22: 1 | BT22: 1 | BU22: 0 | BV22: 2 | BW22: 1 | BX22: 2 | BY22: 0 | BZ22: 1 | CA22: 1 | CB22: 1 | CC22: 1 | CD22: 2 | CE22: 2 | CF22: 0 | CG22: 43211.791 | CJ22: 3 | CK22: 0 | CO22: Right of Center | CP22: Right of Center | CQ22: 6 | CR22: &Politics_PoliticalSelfPosition_Score=6 | CS22: That which is valued with no further context. | CT22: 1 | CY22: 1 | CZ22: No | DA22: 1 | DB22: Yes | DC22: 1 | DD22: No | DE22: eynzxu6,s1ygz8e,oqwzncg,f6aoczu,7fbh60h,prkoiue,chphkqo,duvf5i5,whml14c,bz15rxo,nnnikwl,p0pattz,cwljlbf,8lc2rp7,yn9dzzq,e98cezb,lp32tzz,rvjclrh,ks3khiy,pbg7jqy,ze3j4yw,d1rdeyt,9pj3mvf,we9zef6,uxw5h8v,5p79zt1,th6zdg0,p7miry7,yjwwrlq,m4j75ti,6ye7hrk,higviv5,dy2r65d,33ksqp9,7a2hyb1,b3kxzzi,r10kvni,4udr0wf,ve67ryu,cnktu1l,tap7yp7,x34naaq,q2ws20f,8ztjo6s,3mo7qil,9r1t3rh,loyblsl,b6so6w4,yv4sxs9,ycvqx2r,g7x30fr,tpc0o1f,9seol1h,ieuyv2e,rqiszcv,cl3xz2o,6z35kho,sjyi06d,tv60egf,tfys9nh,rytm9f6,zqv8d37 | DF22: 0 | DG22: 1 | DH22: 1 | DI22: 32 | DJ22: male | DK22: Yes, I have heard that phrase used on multiple occasions | DL22: 1 | DM22: Yes, I am one | DN22: 1
A23: 3187242 | B23: 73 | C23: 43211.788 | D23: 15.68 | E23: b5cslrl | G23: 3 | H23: 20 | L23: female | M23: 1 | T23: something we value even if nothing else happens as a result of it | U23: physical pleasure,humour,knowledge and understanding of the universe,collaboration with people,unexpected turns of events,improving at skills,desire to live,meaningful emotions,perceiving a lot of meaning around me,expressing the inner world,perceiving things | V23: [physical pleasure, humour, knowledge and understanding of the universe, collaboration with people, unexpected turns of events, improving at skills, desire to live, meaningful emotions, perceiving a lot of meaning around me, expressing the inner world, perceiving things] | W23: [[Not something I value, 0], [A value of mine, but not an intrinisic value (I value it only because of what it causes), 1], [An intrinsic value of mine (I value it even if it causes nothing else), 2]] | Y23: 2 | Z23: 2 | AA23: 0 | AB23: 2 | AC23: 2 | AD23: 0 | AE23: 2 | AF23: 2 | AG23: 1 | AH23: 0 | AI23: 2 | AJ23: 2 | AK23: 2 | AL23: 1 | AM23: 2 | AN23: 2 | AO23: 1 | AP23: 0 | AQ23: 1 | AR23: 1 | AS23: 1 | AT23: 0 | AU23: 2 | AV23: 1 | AW23: 2 | AX23: 2 | AY23: 0 | AZ23: 2 | BA23: 2 | BB23: 2 | BC23: 1 | BD23: 0 | BE23: 2 | BF23: 1 | BG23: 0 | BH23: 2 | BI23: 1 | BJ23: 1 | BK23: 0 | BL23: 2 | BM23: 2 | BN23: 2 | BO23: 1 | BP23: 1 | BQ23: 2 | BR23: 2 | BS23: 0 | BT23: 1 | BU23: 0 | BV23: 2 | BW23: 2 | BX23: 2 | BY23: 2 | BZ23: 2 | CA23: 1 | CB23: 2 | CC23: 0 | CD23: 2 | CE23: 2 | CF23: 2 | CG23: 43211.799 | CJ23: 3 | CK23: 0 | CO23: Moderately Left-leaning | CP23: Moderately Left-leaning | CQ23: 4 | CR23: &Politics_PoliticalSelfPosition_Score=4 | CS23: something we value even if nothing else happens as a result of it | CT23: 1 | CY23: 1 | CZ23: No | DA23: 1 | DB23: Yes | DC23: 1 | DD23: No | DE23: x34naaq,tv60egf,whml14c,loyblsl,yn9dzzq,dy2r65d,lp32tzz,8lc2rp7,cnktu1l,m4j75ti,q2ws20f,zqv8d37,eynzxu6,cwljlbf,8ztjo6s,tpc0o1f,d1rdeyt,yjwwrlq,rqiszcv,f6aoczu,rytm9f6,5p79zt1,7fbh60h,chphkqo,4udr0wf,p0pattz,oqwzncg,9seol1h,prkoiue,p7miry7,9pj3mvf,ks3khiy,ve67ryu,bz15rxo,ieuyv2e,duvf5i5,sjyi06d,we9zef6,s1ygz8e,tap7yp7,g7x30fr,tfys9nh,uxw5h8v,7a2hyb1,nnnikwl,3mo7qil,33ksqp9,higviv5,cl3xz2o,ze3j4yw,b6so6w4,ycvqx2r,pbg7jqy,e98cezb,9r1t3rh,th6zdg0,b3kxzzi,6ye7hrk,yv4sxs9,6z35kho,r10kvni,rvjclrh | DF23: 0 | DG23: 1 | DH23: 1 | DI23: 20 | DJ23: female | DK23: Yes, I have heard that phrase used on multiple occasions | DL23: 1 | DM23: Yes, I am one | DN23: 1
A24: 3187273 | B24: 73 | C24: 43211.803 | D24: 9.43 | E24: b5cslrl | G24: 3 | H24: 32 | L24: male | M24: 0 | T24: something I'd value even if nothing else causally flowed from its occurrence. | U24: conscious pleasure,absence of conscious suffering | V24: [conscious pleasure, absence of conscious suffering] | W24: [[Not something I value, 0], [A value of mine, but not an intrinisic value (I value it only because of what it causes), 1], [An intrinsic value of mine (I value it even if it causes nothing else), 2]] | Y24: 1 | Z24: 1 | AA24: 1 | AB24: 1 | AC24: 1 | AD24: 0 | AE24: 2 | AF24: 1 | AG24: 1 | AH24: 0 | AI24: 1 | AJ24: 1 | AK24: 2 | AL24: 1 | AM24: 1 | AN24: 2 | AO24: 1 | AP24: 1 | AQ24: 1 | AR24: 0 | AS24: 1 | AT24: 0 | AU24: 1 | AV24: 1 | AW24: 2 | AX24: 2 | AY24: 0 | AZ24: 1 | BA24: 1 | BB24: 1 | BC24: 1 | BD24: 1 | BE24: 2 | BF24: 1 | BG24: 1 | BH24: 2 | BI24: 1 | BJ24: 1 | BK24: 2 | BL24: 1 | BM24: 1 | BN24: 2 | BO24: 1 | BP24: 1 | BQ24: 1 | BR24: 1 | BS24: 1 | BT24: 1 | BU24: 0 | BV24: 1 | BW24: 2 | BX24: 2 | BY24: 0 | BZ24: 1 | CA24: 0 | CB24: 2 | CC24: 1 | CD24: 1 | CE24: 1 | CF24: 2 | CG24: 43211.81 | CJ24: 3 | CK24: 0 | CO24: Left of Center | CP24: Left of Center | CQ24: 5 | CR24: &Politics_PoliticalSelfPosition_Score=5 | CS24: something I'd value even if nothing else causally flowed from its occurrence. | CT24: 1 | CY24: 1 | CZ24: No | DA24: 1 | DB24: Yes | DC24: 1 | DD24: No | DE24: p0pattz,ze3j4yw,th6zdg0,9pj3mvf,r10kvni,pbg7jqy,tpc0o1f,ks3khiy,rytm9f6,d1rdeyt,yv4sxs9,prkoiue,6z35kho,oqwzncg,ieuyv2e,5p79zt1,g7x30fr,cnktu1l,duvf5i5,6ye7hrk,uxw5h8v,tv60egf,we9zef6,eynzxu6,4udr0wf,p7miry7,8ztjo6s,8lc2rp7,rvjclrh,7a2hyb1,e98cezb,ycvqx2r,cl3xz2o,b6so6w4,cwljlbf,yn9dzzq,q2ws20f,tap7yp7,bz15rxo,3mo7qil,nnnikwl,higviv5,lp32tzz,tfys9nh,x34naaq,m4j75ti,b3kxzzi,9r1t3rh,s1ygz8e,f6aoczu,dy2r65d,yjwwrlq,whml14c,9seol1h,chphkqo,33ksqp9,7fbh60h,loyblsl,zqv8d37,ve67ryu,sjyi06d,rqiszcv | DF24: 1 | DG24: 1 | DH24: 1 | DI24: 32 | DJ24: male | DK24: Yes, I have heard that phrase used on multiple occasions | DL24: 1 | DM24: Yes, I am one | DN24: 1
... A79: 3188427 | B79: 73 | C79: 43212.705 | D79: 5.35 | E79: b5cslrl | G79: 3 | H79: 25 | L79: male | M79: 0 | T79: something that matters morally regardless of its effects on other things. | U79: Happiness/suffering | V79: [Happiness/suffering] | W79: [[Not something I value, 0], [A value of mine, but not an intrinisic value (I value it only because of what it causes), 1], [An intrinsic value of mine (I value it even if it causes nothing else), 2]] | Y79: 0 | Z79: 1 | AA79: 1 | AB79: 0 | AC79: 1 | AD79: 0 | AE79: 2 | AF79: 1 | AG79: 1 | AH79: 0 | AI79: 0 | AJ79: 1 | AK79: 2 | AL79: 1 | AM79: 1 | AN79: 2 | AO79: 1 | AP79: 1 | AQ79: 1 | AR79: 0 | AS79: 2 | AT79: 0 | AU79: 1 | AV79: 0 | AW79: 2 | AX79: 2 | AY79: 0 | AZ79: 1 | BA79: 1 | BB79: 2 | BC79: 1 | BD79: 1 | BE79: 2 | BF79: 1 | BG79: 1 | BH79: 2 | BI79: 1 | BJ79: 1 | BK79: 1 | BL79: 0 | BM79: 0 | BN79: 2 | BO79: 1 | BP79: 1 | BQ79: 1 | BR79: 0 | BS79: 1 | BT79: 1 | BU79: 0 | BV79: 1 | BW79: 2 | BX79: 2 | BY79: 0 | BZ79: 0 | CA79: 1 | CB79: 2 | CC79: 1 | CD79: 1 | CE79: 1 | CF79: 2 | CG79: 43212.708 | CJ79: 3 | CK79: 0 | CO79: Left of Center | CP79: Left of Center | CQ79: 5 | CR79: &Politics_PoliticalSelfPosition_Score=5 | CS79: something that matters morally regardless of its effects on other things. | CT79: 1 | CY79: 1 | CZ79: No | DA79: 1 | DB79: Yes | DC79: 1 | DD79: No | DE79: yn9dzzq,33ksqp9,b3kxzzi,oqwzncg,uxw5h8v,yv4sxs9,rytm9f6,9pj3mvf,loyblsl,dy2r65d,higviv5,tap7yp7,7fbh60h,d1rdeyt,whml14c,ks3khiy,4udr0wf,f6aoczu,6ye7hrk,m4j75ti,ycvqx2r,prkoiue,7a2hyb1,cl3xz2o,zqv8d37,rvjclrh,b6so6w4,e98cezb,s1ygz8e,9seol1h,duvf5i5,tv60egf,rqiszcv,nnnikwl,bz15rxo,9r1t3rh,th6zdg0,chphkqo,5p79zt1,p7miry7,q2ws20f,8ztjo6s,cwljlbf,ieuyv2e,pbg7jqy,ze3j4yw,eynzxu6,3mo7qil,p0pattz,lp32tzz,6z35kho,g7x30fr,sjyi06d,yjwwrlq,we9zef6,cnktu1l,tpc0o1f,8lc2rp7,tfys9nh,x34naaq,ve67ryu,r10kvni | DF79: 1 | DG79: 1 | DH79: 1 | DI79: 25 | DJ79: male | DK79: Yes, I have heard that phrase used on multiple occasions | DL79: 1 | DM79: Yes, I am one | DN79: 1
A80: 3188445 | B80: 73 | C80: 43212.715 | D80: 26.48 | E80: b5cslrl | G80: 3 | H80: 23 | L80: other | T80: what you would care about no matter it's practical use. | U80: happyness,satisfaction,lack of suffering | V80: [happyness, satisfaction, lack of suffering] | W80: [[Not something I value, 0], [A value of mine, but not an intrinisic value (I value it only because of what it causes), 1], [An intrinsic value of mine (I value it even if it causes nothing else), 2]] | Y80: 1 | Z80: 2 | AA80: 1 | AB80: 2 | AC80: 2 | AD80: 0 | AE80: 2 | AF80: 1 | AG80: 1 | AH80: 0 | AI80: 1 | AJ80: 1 | AK80: 2 | AL80: 1 | AM80: 0 | AN80: 2 | AO80: 1 | AP80: 1 | AQ80: 1 | AR80: 0 | AS80: 1 | AT80: 0 | AU80: 1 | AV80: 0 | AW80: 2 | AX80: 2 | AY80: 0 | AZ80: 1 | BA80: 0 | BB80: 1 | BC80: 1 | BD80: 1 | BE80: 2 | BF80: 1 | BG80: 1 | BH80: 2 | BI80: 1 | BJ80: 1 | BK80: 1 | BL80: 1 | BM80: 0 | BN80: 2 | BO80: 2 | BP80: 1 | BQ80: 2 | BR80: 1 | BS80: 1 | BT80: 1 | BU80: 0 | BV80: 2 | BW80: 2 | BX80: 2 | BY80: 0 | BZ80: 0 | CA80: 1 | CB80: 2 | CC80: 1 | CD80: 1 | CE80: 1 | CF80: 2 | CG80: 43212.734 | CJ80: 3 | CK80: 0 | CO80: Center | CP80: Center | CQ80: 5.5 | CR80: &Politics_PoliticalSelfPosition_Score=5.5 | CS80: what you would care about no matter it's practical use. | CT80: 1 | CY80: 1 | CZ80: No | DA80: 1 | DB80: Yes | DC80: 1 | DD80: No | DE80: 4udr0wf,r10kvni,ze3j4yw,g7x30fr,ks3khiy,tap7yp7,ieuyv2e,8lc2rp7,6z35kho,eynzxu6,th6zdg0,cl3xz2o,tv60egf,7a2hyb1,cwljlbf,9r1t3rh,f6aoczu,rqiszcv,yv4sxs9,rytm9f6,zqv8d37,lp32tzz,9pj3mvf,pbg7jqy,e98cezb,tpc0o1f,b3kxzzi,s1ygz8e,33ksqp9,b6so6w4,prkoiue,nnnikwl,whml14c,9seol1h,p7miry7,loyblsl,yjwwrlq,tfys9nh,dy2r65d,chphkqo,7fbh60h,uxw5h8v,6ye7hrk,duvf5i5,3mo7qil,rvjclrh,we9zef6,higviv5,8ztjo6s,yn9dzzq,d1rdeyt,m4j75ti,q2ws20f,sjyi06d,ycvqx2r,bz15rxo,ve67ryu,oqwzncg,cnktu1l,p0pattz,5p79zt1,x34naaq | DF80: 0 | DG80: 0 | DH80: 1 | DI80: 23 | DJ80: other | DK80: Yes, I have heard that phrase used on multiple occasions | DL80: 1 | DM80: Yes, I am one | DN80: 1
A81: 3188494 | B81: 73 | C81: 43212.742 | D81: 8.4 | E81: b5cslrl | G81: 3 | H81: 22 | L81: male | M81: 0 | T81: something that is good in of itself | U81: conscious pleasure | V81: [conscious pleasure] | W81: [[Not something I value, 0], [A value of mine, but not an intrinisic value (I value it only because of what it causes), 1], [An intrinsic value of mine (I value it even if it causes nothing else), 2]] | Y81: 1 | Z81: 1 | AA81: 1 | AB81: 1 | AC81: 1 | AD81: 0 | AE81: 2 | AF81: 1 | AG81: 1 | AH81: 1 | AI81: 1 | AJ81: 1 | AK81: 1 | AL81: 1 | AM81: 1 | AN81: 2 | AO81: 1 | AP81: 1 | AQ81: 1 | AR81: 1 | AS81: 1 | AT81: 0 | AU81: 1 | AV81: 0 | AW81: 2 | AX81: 2 | AY81: 0 | AZ81: 1 | BA81: 0 | BB81: 1 | BC81: 1 | BD81: 1 | BE81: 2 | BF81: 1 | BG81: 1 | BH81: 2 | BI81: 1 | BJ81: 0 | BK81: 1 | BL81: 1 | BM81: 0 | BN81: 2 | BO81: 1 | BP81: 1 | BQ81: 1 | BR81: 1 | BS81: 1 | BT81: 1 | BU81: 0 | BV81: 1 | BW81: 2 | BX81: 2 | BY81: 1 | BZ81: 0 | CA81: 1 | CB81: 2 | CC81: 1 | CD81: 1 | CE81: 1 | CF81: 2 | CG81: 43212.748 | CJ81: 3 | CK81: 0 | CO81: Left | CP81: Left | CQ81: 3 | CR81: &Politics_PoliticalSelfPosition_Score=3 | CS81: something that is good in of itself | CT81: 1 | CY81: 1 | CZ81: No | DA81: 1 | DB81: Yes | DC81: 1 | DD81: No | DE81: rytm9f6,eynzxu6,s1ygz8e,cl3xz2o,9seol1h,3mo7qil,tfys9nh,cwljlbf,8ztjo6s,yn9dzzq,ycvqx2r,9r1t3rh,oqwzncg,rvjclrh,r10kvni,sjyi06d,chphkqo,b6so6w4,6z35kho,ze3j4yw,8lc2rp7,33ksqp9,q2ws20f,5p79zt1,6ye7hrk,th6zdg0,x34naaq,d1rdeyt,lp32tzz,7a2hyb1,f6aoczu,we9zef6,g7x30fr,tpc0o1f,tv60egf,cnktu1l,p7miry7,loyblsl,pbg7jqy,9pj3mvf,whml14c,prkoiue,duvf5i5,yv4sxs9,p0pattz,tap7yp7,higviv5,ve67ryu,nnnikwl,7fbh60h,rqiszcv,bz15rxo,dy2r65d,zqv8d37,e98cezb,ieuyv2e,uxw5h8v,b3kxzzi,m4j75ti,4udr0wf,ks3khiy,yjwwrlq | DF81: 0 | DG81: 0 | DH81: 1 | DI81: 22 | DJ81: male | DK81: Yes, I have heard that phrase used on multiple occasions | DL81: 1 | DM81: Yes, I am one | DN81: 1
A82: 3188609 | B82: 73 | C82: 43212.805 | D82: 11.97 | E82: b5cslrl | G82: 3 | H82: 22 | L82: male | M82: 0 | T82: valuable in itself, as opposed to an instrumental value, which is valuable only because it brings other value. | U82: pleasure,fairness | V82: [pleasure, fairness] | W82: [[Not something I value, 0], [A value of mine, but not an intrinisic value (I value it only because of what it causes), 1], [An intrinsic value of mine (I value it even if it causes nothing else), 2]] | Y82: 1 | Z82: 1 | AA82: 1 | AB82: 1 | AC82: 1 | AD82: 1 | AE82: 2 | AF82: 1 | AG82: 1 | AH82: 1 | AI82: 1 | AJ82: 1 | AK82: 2 | AL82: 1 | AM82: 1 | AN82: 2 | AO82: 1 | AP82: 1 | AQ82: 2 | AR82: 1 | AS82: 1 | AT82: 0 | AU82: 1 | AV82: 0 | AW82: 2 | AX82: 2 | AY82: 0 | AZ82: 1 | BA82: 1 | BB82: 1 | BC82: 1 | BD82: 1 | BE82: 2 | BF82: 1 | BG82: 2 | BH82: 2 | BI82: 2 | BJ82: 0 | BK82: 1 | BL82: 1 | BM82: 1 | BN82: 2 | BO82: 1 | BP82: 1 | BQ82: 1 | BR82: 1 | BS82: 1 | BT82: 1 | BU82: 0 | BV82: 1 | BW82: 2 | BX82: 2 | BY82: 0 | BZ82: 1 | CA82: 0 | CB82: 2 | CC82: 1 | CD82: 1 | CE82: 1 | CF82: 2 | CG82: 43212.813 | CJ82: 3 | CK82: 0 | CO82: Left | CP82: Left | CQ82: 3 | CR82: &Politics_PoliticalSelfPosition_Score=3 | CS82: valuable in itself, as opposed to an instrumental value, which is valuable only because it brings other value. | CT82: 1 | CY82: 1 | CZ82: No | DA82: 1 | DB82: Yes | DC82: 1 | DD82: No | DE82: 4udr0wf,rytm9f6,yv4sxs9,chphkqo,r10kvni,5p79zt1,tfys9nh,bz15rxo,7fbh60h,dy2r65d,sjyi06d,g7x30fr,ze3j4yw,whml14c,9seol1h,b6so6w4,prkoiue,b3kxzzi,ycvqx2r,x34naaq,tap7yp7,6z35kho,rvjclrh,oqwzncg,d1rdeyt,tv60egf,pbg7jqy,f6aoczu,p7miry7,ks3khiy,6ye7hrk,s1ygz8e,eynzxu6,lp32tzz,tpc0o1f,8lc2rp7,loyblsl,duvf5i5,ve67ryu,33ksqp9,8ztjo6s,cl3xz2o,7a2hyb1,rqiszcv,q2ws20f,9r1t3rh,cwljlbf,m4j75ti,we9zef6,yjwwrlq,higviv5,ieuyv2e,zqv8d37,nnnikwl,3mo7qil,e98cezb,p0pattz,th6zdg0,cnktu1l,9pj3mvf,yn9dzzq,uxw5h8v | DF82: 1 | DG82: 1 | DH82: 1 | DI82: 22 | DJ82: male | DK82: Yes, I have heard that phrase used on multiple occasions | DL82: 1 | DM82: Yes, I am one | DN82: 1
A83: 3188677 | B83: 73 | C83: 43212.84 | D83: 6.87 | E83: b5cslrl | G83: 3 | H83: 19 | L83: male | M83: 0 | T83: something that is good in itself | U83: test | V83: [test] | W83: [[Not something I value, 0], [A value of mine, but not an intrinisic value (I value it only because of what it causes), 1], [An intrinsic value of mine (I value it even if it causes nothing else), 2]] | Y83: 2 | Z83: 2 | AA83: 1 | AB83: 1 | AC83: 1 | AD83: 1 | AE83: 2 | AF83: 2 | AG83: 2 | AH83: 0 | AI83: 1 | AJ83: 1 | AK83: 2 | AL83: 1 | AM83: 1 | AN83: 0 | AO83: 2 | AP83: 0 | AQ83: 1 | AR83: 1 | AS83: 2 | AT83: 1 | AU83: 1 | AV83: 1 | AW83: 0 | AX83: 2 | AY83: 0 | AZ83: 2 | BA83: 0 | BB83: 1 | BC83: 1 | BD83: 2 | BE83: 2 | BF83: 1 | BG83: 1 | BH83: 0 | BI83: 1 | BJ83: 1 | BK83: 2 | BL83: 1 | BM83: 0 | BN83: 2 | BO83: 1 | BP83: 1 | BQ83: 1 | BR83: 1 | BS83: 0 | BT83: 1 | BU83: 1 | BV83: 1 | BW83: 2 | BX83: 2 | BY83: 0 | BZ83: 0 | CA83: 2 | CB83: 2 | CC83: 1 | CD83: 1 | CE83: 1 | CF83: 2 | CG83: 43212.845 | CJ83: 3 | CK83: 0 | CO83: Moderately Right-leaning | CP83: Moderately Right-leaning | CQ83: 7 | CR83: &Politics_PoliticalSelfPosition_Score=7 | CS83: something that is good in itself | CT83: 1 | CY83: 1 | CZ83: No | DA83: 1 | DB83: Yes | DC83: 1 | DD83: No | DE83: b3kxzzi,ve67ryu,9seol1h,yn9dzzq,ycvqx2r,b6so6w4,6z35kho,bz15rxo,m4j75ti,33ksqp9,7fbh60h,rytm9f6,p7miry7,x34naaq,zqv8d37,g7x30fr,ks3khiy,higviv5,yv4sxs9,tap7yp7,9pj3mvf,loyblsl,d1rdeyt,tfys9nh,nnnikwl,r10kvni,ieuyv2e,tv60egf,rvjclrh,dy2r65d,whml14c,s1ygz8e,9r1t3rh,oqwzncg,duvf5i5,yjwwrlq,f6aoczu,lp32tzz,eynzxu6,pbg7jqy,e98cezb,chphkqo,rqiszcv,uxw5h8v,5p79zt1,4udr0wf,tpc0o1f,3mo7qil,p0pattz,sjyi06d,8lc2rp7,cl3xz2o,ze3j4yw,cnktu1l,6ye7hrk,prkoiue,th6zdg0,q2ws20f,8ztjo6s,cwljlbf,we9zef6,7a2hyb1 | DF83: 1 | DG83: 0 | DH83: 1 | DI83: 19 | DJ83: male | DK83: Yes, I have heard that phrase used on multiple occasions | DL83: 1 | DM83: Yes, I am one | DN83: 1
A84: 3188695 | B84: 73 | C84: 43212.849 | D84: 26.58 | E84: b5cslrl | G84: 3 | H84: 29 | L84: female | M84: 1 | T84: something you value completely for itself. | U84: people,human flourishing,happiness | V84: [people, human flourishing, happiness] | W84: [[Not something I value, 0], [A value of mine, but not an intrinisic value (I value it only because of what it causes), 1], [An intrinsic value of mine (I value it even if it causes nothing else), 2]] | Y84: 1 | Z84: 1 | AA84: 1 | AB84: 1 | AC84: 1 | AD84: 1 | AE84: 2 | AF84: 1 | AG84: 1 | AH84: 0 | AI84: 1 | AJ84: 1 | AK84: 2 | AL84: 1 | AM84: 1 | AN84: 2 | AO84: 2 | AP84: 1 | AQ84: 1 | AR84: 1 | AS84: 1 | AT84: 0 | AU84: 1 | AV84: 1 | AW84: 2 | AX84: 2 | AY84: 1 | AZ84: 1 | BA84: 1 | BB84: 1 | BC84: 1 | BD84: 1 | BE84: 2 | BF84: 1 | BG84: 1 | BH84: 2 | BI84: 1 | BJ84: 1 | BK84: 1 | BL84: 1 | BM84: 1 | BN84: 2 | BO84: 1 | BP84: 1 | BQ84: 1 | BR84: 1 | BS84: 0 | BT84: 1 | BU84: 1 | BV84: 1 | BW84: 2 | BX84: 2 | BY84: 1 | BZ84: 1 | CA84: 0 | CB84: 2 | CC84: 1 | CD84: 1 | CE84: 1 | CF84: 2 | CG84: 43212.867 | CJ84: 3 | CK84: 0 | CO84: Moderately Left-leaning | CP84: Moderately Left-leaning | CQ84: 4 | CR84: &Politics_PoliticalSelfPosition_Score=4 | CS84: something you value completely for itself. | CT84: 1 | CY84: 1 | CZ84: No | DA84: 1 | DB84: Yes | DC84: 1 | DD84: No | DE84: p0pattz,cnktu1l,7a2hyb1,33ksqp9,g7x30fr,pbg7jqy,zqv8d37,9pj3mvf,sjyi06d,whml14c,r10kvni,q2ws20f,tap7yp7,3mo7qil,cl3xz2o,lp32tzz,e98cezb,rqiszcv,s1ygz8e,chphkqo,b3kxzzi,eynzxu6,5p79zt1,uxw5h8v,x34naaq,8lc2rp7,nnnikwl,tpc0o1f,b6so6w4,ieuyv2e,yv4sxs9,tv60egf,f6aoczu,yn9dzzq,rvjclrh,higviv5,4udr0wf,bz15rxo,ycvqx2r,6ye7hrk,yjwwrlq,prkoiue,6z35kho,tfys9nh,cwljlbf,8ztjo6s,p7miry7,we9zef6,7fbh60h,9seol1h,m4j75ti,duvf5i5,th6zdg0,oqwzncg,9r1t3rh,ze3j4yw,loyblsl,ve67ryu,rytm9f6,d1rdeyt,ks3khiy,dy2r65d | DF84: 0 | DG84: 0 | DH84: 1 | DI84: 29 | DJ84: female | DK84: Yes, I have heard that phrase used on multiple occasions | DL84: 1 | DM84: Yes, I am one | DN84: 1
A85: 3188708 | B85: 73 | C85: 43212.862 | D85: 12.02 | E85: b5cslrl | G85: 3 | H85: 25 | L85: male | M85: 0 | T85: Something valued for its own sake, rather than entirely because of its consequences. | U85: Happiness,Knowledge,Justice,Adventure,Friendship,Beauty,Promise-keeping,Tradition,Achievement,Love,Romance,Children,Reduction of suffering,Reduction of injustice | V85: [Happiness, Knowledge, Justice, Adventure, Friendship, Beauty, Promise-keeping, Tradition, Achievement, Love, Romance, Children, Reduction of suffering, Reduction of injustice] | W85: [[Not something I value, 0], [A value of mine, but not an intrinisic value (I value it only because of what it causes), 1], [An intrinsic value of mine (I value it even if it causes nothing else), 2]] | Y85: 2 | Z85: 2 | AA85: 2 | AB85: 2 | AC85: 2 | AD85: 0 | AE85: 2 | AF85: 2 | AG85: 2 | AH85: 2 | AI85: 2 | AJ85: 2 | AK85: 2 | AL85: 2 | AM85: 2 | AN85: 2 | AO85: 2 | AP85: 2 | AQ85: 2 | AR85: 2 | AS85: 2 | AT85: 0 | AU85: 2 | AV85: 2 | AW85: 2 | AX85: 2 | AY85: 1 | AZ85: 2 | BA85: 2 | BB85: 2 | BC85: 2 | BD85: 2 | BE85: 2 | BF85: 2 | BG85: 2 | BH85: 2 | BI85: 2 | BJ85: 2 | BK85: 2 | BL85: 2 | BM85: 2 | BN85: 2 | BO85: 2 | BP85: 1 | BQ85: 2 | BR85: 2 | BS85: 2 | BT85: 2 | BU85: 0 | BV85: 1 | BW85: 2 | BX85: 2 | BY85: 1 | BZ85: 2 | CA85: 2 | CB85: 2 | CC85: 1 | CD85: 2 | CE85: 2 | CF85: 2 | CG85: 43212.87 | CJ85: 3 | CK85: 0 | CO85: Moderately Left-leaning | CP85: Moderately Left-leaning | CQ85: 4 | CR85: &Politics_PoliticalSelfPosition_Score=4 | CS85: Something valued for its own sake, rather than entirely because of its consequences. | CT85: 1 | CY85: 1 | CZ85: No | DA85: 1 | DB85: Yes | DC85: 1 | DD85: No | DE85: 8lc2rp7,yv4sxs9,5p79zt1,p7miry7,uxw5h8v,ycvqx2r,ieuyv2e,r10kvni,rytm9f6,ks3khiy,bz15rxo,cl3xz2o,33ksqp9,th6zdg0,whml14c,b6so6w4,tpc0o1f,rqiszcv,9pj3mvf,6z35kho,cnktu1l,7fbh60h,q2ws20f,tap7yp7,8ztjo6s,6ye7hrk,m4j75ti,p0pattz,higviv5,g7x30fr,loyblsl,4udr0wf,we9zef6,prkoiue,s1ygz8e,sjyi06d,eynzxu6,tfys9nh,dy2r65d,rvjclrh,tv60egf,pbg7jqy,e98cezb,3mo7qil,nnnikwl,cwljlbf,9seol1h,oqwzncg,chphkqo,zqv8d37,x34naaq,9r1t3rh,b3kxzzi,lp32tzz,ze3j4yw,duvf5i5,f6aoczu,7a2hyb1,yjwwrlq,ve67ryu,yn9dzzq,d1rdeyt | DF85: 1 | DG85: 0 | DH85: 1 | DI85: 25 | DJ85: male | DK85: Yes, I have heard that phrase used on multiple occasions | DL85: 1 | DM85: Yes, I am one | DN85: 1
A86: 3188707 | B86: 73 | C86: 43212.862 | D86: 34.67 | E86: b5cslrl | G86: 3 | H86: 22 | L86: male | M86: 0 | T86: Something that is valuable in of itself. | U86: Pleasure,Love,Fulfillment,Beauty,Aesthetic,Contentness | V86: [Pleasure, Love, Fulfillment, Beauty, Aesthetic, Contentness] | W86: [[Not something I value, 0], [A value of mine, but not an intrinisic value (I value it only because of what it causes), 1], [An intrinsic value of mine (I value it even if it causes nothing else), 2]] | Y86: 2 | Z86: 1 | AA86: 1 | AB86: 2 | AC86: 2 | AD86: 1 | AE86: 2 | AF86: 2 | AG86: 1 | AH86: 1 | AI86: 2 | AJ86: 2 | AK86: 2 | AL86: 1 | AM86: 2 | AN86: 2 | AO86: 2 | AP86: 1 | AQ86: 2 | AR86: 2 | AS86: 2 | AT86: 0 | AU86: 2 | AV86: 2 | AW86: 2 | AX86: 2 | AY86: 0 | AZ86: 2 | BA86: 1 | BB86: 2 | BC86: 1 | BD86: 1 | BE86: 2 | BF86: 1 | BG86: 1 | BH86: 2 | BI86: 1 | BJ86: 1 | BK86: 0 | BL86: 1 | BM86: 2 | BN86: 2 | BO86: 1 | BP86: 1 | BQ86: 2 | BR86: 2 | BS86: 2 | BT86: 2 | BU86: 0 | BV86: 2 | BW86: 2 | BX86: 2 | BY86: 0 | BZ86: 1 | CA86: 0 | CB86: 2 | CC86: 2 | CD86: 2 | CE86: 1 | CF86: 2 | CG86: 43212.886 | CJ86: 3 | CK86: 0 | CO86: Left of Center | CP86: Left of Center | CQ86: 5 | CR86: &Politics_PoliticalSelfPosition_Score=5 | CS86: Something that is valuable in of itself. | CT86: 1 | CY86: 1 | CZ86: No | DA86: 1 | DB86: Yes | DC86: 1 | DD86: No | DE86: p0pattz,rytm9f6,9pj3mvf,7a2hyb1,higviv5,s1ygz8e,e98cezb,3mo7qil,ycvqx2r,tap7yp7,tv60egf,sjyi06d,yn9dzzq,ks3khiy,8lc2rp7,ze3j4yw,b3kxzzi,g7x30fr,zqv8d37,f6aoczu,m4j75ti,tpc0o1f,whml14c,uxw5h8v,r10kvni,pbg7jqy,ve67ryu,lp32tzz,7fbh60h,4udr0wf,cnktu1l,8ztjo6s,oqwzncg,p7miry7,th6zdg0,d1rdeyt,nnnikwl,bz15rxo,9r1t3rh,ieuyv2e,9seol1h,6ye7hrk,6z35kho,q2ws20f,yjwwrlq,cwljlbf,5p79zt1,yv4sxs9,we9zef6,loyblsl,rqiszcv,chphkqo,tfys9nh,dy2r65d,rvjclrh,x34naaq,eynzxu6,33ksqp9,prkoiue,b6so6w4,duvf5i5,cl3xz2o | DF86: 0 | DG86: 0 | DH86: 1 | DI86: 22 | DJ86: male | DK86: Yes, I have heard that phrase used on multiple occasions | DL86: 1 | DM86: Yes, I am one | DN86: 1
A87: 3188777 | B87: 73 | C87: 43212.893 | D87: 13.22 | E87: b5cslrl | G87: 3 | H87: 36 | L87: female | M87: 1 | T87: Something that is valued entirely for its own sake | U87: Friendship | V87: [Friendship] | W87: [[Not something I value, 0], [A value of mine, but not an intrinisic value (I value it only because of what it causes), 1], [An intrinsic value of mine (I value it even if it causes nothing else), 2]] | Y87: 1 | Z87: 1 | AA87: 0 | AB87: 2 | AC87: 2 | AD87: 0 | AE87: 1 | AF87: 2 | AG87: 1 | AH87: 1 | AI87: 2 | AJ87: 1 | AK87: 2 | AL87: 2 | AM87: 1 | AN87: 2 | AO87: 2 | AP87: 1 | AQ87: 1 | AR87: 2 | AS87: 2 | AT87: 1 | AU87: 1 | AV87: 2 | AW87: 2 | AX87: 2 | AY87: 1 | AZ87: 2 | BA87: 2 | BB87: 1 | BC87: 2 | BD87: 1 | BE87: 1 | BF87: 1 | BG87: 2 | BH87: 2 | BI87: 1 | BJ87: 1 | BK87: 2 | BL87: 2 | BM87: 2 | BN87: 2 | BO87: 1 | BP87: 1 | BQ87: 2 | BR87: 2 | BS87: 0 | BT87: 2 | BU87: 1 | BV87: 2 | BW87: 2 | BX87: 1 | BY87: 0 | BZ87: 0 | CA87: 1 | CB87: 2 | CC87: 1 | CD87: 1 | CE87: 2 | CF87: 0 | CG87: 43212.902 | CJ87: 3 | CK87: 0 | CO87: Moderately Left-leaning | CP87: Moderately Left-leaning | CQ87: 4 | CR87: &Politics_PoliticalSelfPosition_Score=4 | CS87: Something that is valued entirely for its own sake | CT87: 1 | CY87: 1 | CZ87: No | DA87: 1 | DB87: Yes | DC87: 1 | DD87: No | DE87: duvf5i5,yjwwrlq,bz15rxo,ve67ryu,5p79zt1,e98cezb,cwljlbf,9r1t3rh,d1rdeyt,we9zef6,9pj3mvf,8lc2rp7,lp32tzz,pbg7jqy,6ye7hrk,cnktu1l,ycvqx2r,f6aoczu,rytm9f6,x34naaq,s1ygz8e,tv60egf,8ztjo6s,tfys9nh,sjyi06d,m4j75ti,b3kxzzi,q2ws20f,r10kvni,chphkqo,cl3xz2o,uxw5h8v,4udr0wf,p7miry7,b6so6w4,tap7yp7,6z35kho,ze3j4yw,7a2hyb1,nnnikwl,33ksqp9,zqv8d37,3mo7qil,oqwzncg,loyblsl,yn9dzzq,eynzxu6,rvjclrh,g7x30fr,7fbh60h,yv4sxs9,p0pattz,whml14c,ieuyv2e,th6zdg0,higviv5,ks3khiy,prkoiue,tpc0o1f,9seol1h,dy2r65d,rqiszcv | DF87: 0 | DG87: 0 | DH87: 1 | DI87: 36 | DJ87: female | DK87: Yes, I have heard that phrase used on multiple occasions | DL87: 1 | DM87: Yes, I am one | DN87: 1
A88: 3188787 | B88: 73 | C88: 43212.899 | D88: 12.37 | E88: b5cslrl | G88: 3 | H88: 21 | L88: female | M88: 1 | T88: something valued for itself regardless of its correlates | U88: novelty,phylogenetic biodiversity of macroscopic organisms,beauty,absence of human suffering,absence of domestic animal suffering,human desire satisfaction | V88: [novelty, phylogenetic biodiversity of macroscopic organisms, beauty, absence of human suffering, absence of domestic animal suffering, human desire satisfaction] | W88: [[Not something I value, 0], [A value of mine, but not an intrinisic value (I value it only because of what it causes), 1], [An intrinsic value of mine (I value it even if it causes nothing else), 2]] | Y88: 1 | Z88: 1 | AA88: 1 | AB88: 1 | AC88: 1 | AD88: 1 | AE88: 2 | AF88: 1 | AG88: 2 | AH88: 0 | AI88: 2 | AJ88: 1 | AK88: 2 | AL88: 1 | AM88: 1 | AN88: 1 | AO88: 1 | AP88: 2 | AQ88: 1 | AR88: 1 | AS88: 1 | AT88: 0 | AU88: 1 | AV88: 2 | AW88: 2 | AX88: 2 | AY88: 0 | AZ88: 1 | BA88: 1 | BB88: 1 | BC88: 1 | BD88: 2 | BE88: 1 | BF88: 1 | BG88: 1 | BH88: 2 | BI88: 0 | BJ88: 0 | BK88: 2 | BL88: 2 | BM88: 2 | BN88: 2 | BO88: 1 | BP88: 1 | BQ88: 1 | BR88: 2 | BS88: 0 | BT88: 1 | BU88: 0 | BV88: 1 | BW88: 2 | BX88: 2 | BY88: 0 | BZ88: 2 | CA88: 0 | CB88: 1 | CC88: 0 | CD88: 2 | CE88: 2 | CF88: 2 | CG88: 43212.908 | CJ88: 3 | CK88: 0 | CO88: Very Left | CP88: Very Left | CQ88: 2 | CR88: &Politics_PoliticalSelfPosition_Score=2 | CS88: something valued for itself regardless of its correlates | CT88: 1 | CY88: 1 | CZ88: No | DA88: 1 | DB88: Yes | DC88: 1 | DD88: No | DE88: tpc0o1f,prkoiue,s1ygz8e,5p79zt1,higviv5,cwljlbf,chphkqo,ieuyv2e,bz15rxo,tfys9nh,whml14c,q2ws20f,pbg7jqy,9pj3mvf,f6aoczu,rytm9f6,p7miry7,ycvqx2r,yn9dzzq,rvjclrh,ks3khiy,7fbh60h,g7x30fr,4udr0wf,zqv8d37,3mo7qil,yv4sxs9,sjyi06d,d1rdeyt,8lc2rp7,b6so6w4,33ksqp9,r10kvni,cnktu1l,ve67ryu,9seol1h,dy2r65d,9r1t3rh,th6zdg0,loyblsl,6z35kho,6ye7hrk,tv60egf,yjwwrlq,m4j75ti,lp32tzz,ze3j4yw,e98cezb,oqwzncg,tap7yp7,7a2hyb1,cl3xz2o,we9zef6,duvf5i5,8ztjo6s,rqiszcv,uxw5h8v,x34naaq,nnnikwl,eynzxu6,p0pattz,b3kxzzi | DF88: 1 | DG88: 0 | DH88: 1 | DI88: 21 | DJ88: female | DK88: Yes, I have heard that phrase used on multiple occasions | DL88: 1 | DM88: Yes, I am one | DN88: 1
A89: 3187243 | B89: 73 | C89: 43211.788 | D89: 11.48 | E89: b5cslrl | G89: 1 | H89: 29 | L89: male | M89: 0 | T89: something valuable in of itself | U89: happiness,understanding,beauty | V89: [happiness, understanding, beauty] | W89: [[Not something I value, 0], [A value of mine, but not an intrinisic value (I value it only because of what it causes), 1], [An intrinsic value of mine (I value it even if it causes nothing else), 2]] | Y89: 1 | Z89: 2 | AA89: 1 | AB89: 2 | AC89: 1 | AD89: 0 | AE89: 0 | AF89: 1 | AG89: 1 | AH89: 0 | AI89: 2 | AJ89: 1 | AK89: 2 | AL89: 1 | AM89: 2 | AN89: 2 | AO89: 1 | AP89: 1 | AQ89: 1 | AR89: 1 | AS89: 1 | AT89: 0 | AU89: 1 | AV89: 0 | AW89: 1 | AX89: 2 | AY89: 0 | AZ89: 2 | BA89: 0 | BB89: 1 | BC89: 1 | BD89: 1 | BE89: 2 | BF89: 1 | BG89: 0 | BH89: 2 | BI89: 1 | BJ89: 1 | BK89: 1 | BL89: 1 | BM89: 1 | BN89: 1 | BO89: 1 | BP89: 1 | BQ89: 2 | BR89: 2 | BS89: 0 | BT89: 1 | BU89: 0 | BV89: 1 | BW89: 1 | BX89: 2 | BY89: 0 | BZ89: 0 | CA89: 0 | CB89: 2 | CC89: 1 | CD89: 1 | CE89: 1 | CF89: 2 | CG89: 43211.796 | CJ89: 2 | CK89: 0 | CO89: Moderately Left-leaning | CP89: Moderately Left-leaning | CQ89: 4 | CR89: &Politics_PoliticalSelfPosition_Score=4 | CS89: something valuable in of itself | CT89: 1 | CY89: 1 | CZ89: Yes | DA89: 0 | DB89: Yes | DC89: 1 | DD89: No | DE89: 6z35kho,b3kxzzi,9r1t3rh,cnktu1l,d1rdeyt,ks3khiy,9pj3mvf,duvf5i5,e98cezb,r10kvni,lp32tzz,3mo7qil,ieuyv2e,33ksqp9,tv60egf,9seol1h,6ye7hrk,nnnikwl,b6so6w4,rytm9f6,pbg7jqy,8lc2rp7,p7miry7,5p79zt1,g7x30fr,s1ygz8e,p0pattz,eynzxu6,tap7yp7,x34naaq,8ztjo6s,th6zdg0,rqiszcv,ycvqx2r,higviv5,tpc0o1f,uxw5h8v,oqwzncg,cwljlbf,yjwwrlq,cl3xz2o,ze3j4yw,rvjclrh,yv4sxs9,whml14c,7a2hyb1,m4j75ti,loyblsl,we9zef6,chphkqo,tfys9nh,bz15rxo,yn9dzzq,4udr0wf,7fbh60h,f6aoczu,dy2r65d,zqv8d37,prkoiue,sjyi06d,q2ws20f,ve67ryu | DF89: 1 | DG89: 1 | DH89: 1 | DI89: 29 | DJ89: male | DK89: Yes, I have heard that phrase used on multiple occasions | DL89: 1 | DM89: Partially | DN89: 0.5
A90: 3187241 | B90: 73 | C90: 43211.787 | D90: 14.45 | E90: b5cslrl | G90: 1 | H90: 37 | L90: female | M90: 1 | T90: Something inherently valued | U90: My family,My health,Pleasurable experiences,Being nice to people | V90: [My family, My health, Pleasurable experiences, Being nice to people] | W90: [[Not something I value, 0], [A value of mine, but not an intrinisic value (I value it only because of what it causes), 1], [An intrinsic value of mine (I value it even if it causes nothing else), 2]] | Y90: 1 | Z90: 0 | AA90: 2 | AB90: 1 | AC90: 2 | AD90: 0 | AE90: 2 | AF90: 2 | AG90: 1 | AH90: 2 | AI90: 0 | AJ90: 1 | AK90: 0 | AL90: 2 | AM90: 1 | AN90: 0 | AO90: 2 | AP90: 0 | AQ90: 1 | AR90: 2 | AS90: 1 | AT90: 1 | AU90: 2 | AV90: 1 | AW90: 2 | AX90: 2 | AY90: 0 | AZ90: 1 | BA90: 2 | BB90: 2 | BC90: 2 | BD90: 0 | BE90: 2 | BF90: 1 | BG90: 1 | BH90: 1 | BI90: 1 | BJ90: 1 | BK90: 2 | BL90: 2 | BM90: 1 | BN90: 2 | BO90: 1 | BP90: 1 | BQ90: 2 | BR90: 1 | BS90: 0 | BT90: 2 | BU90: 0 | BV90: 0 | BW90: 2 | BX90: 1 | BY90: 1 | BZ90: 2 | CA90: 0 | CB90: 2 | CC90: 0 | CD90: 2 | CE90: 2 | CF90: 2 | CG90: 43211.797 | CJ90: 2 | CK90: 0 | CO90: Left | CP90: Left | CQ90: 3 | CR90: &Politics_PoliticalSelfPosition_Score=3 | CS90: Something inherently valued | CT90: 1 | CY90: 1 | CZ90: Yes | DA90: 0 | DB90: Yes | DC90: 1 | DD90: No | DE90: higviv5,e98cezb,yjwwrlq,uxw5h8v,oqwzncg,lp32tzz,6ye7hrk,g7x30fr,b3kxzzi,tap7yp7,bz15rxo,we9zef6,8ztjo6s,7fbh60h,cl3xz2o,cnktu1l,6z35kho,dy2r65d,tpc0o1f,9r1t3rh,ze3j4yw,duvf5i5,zqv8d37,9pj3mvf,m4j75ti,4udr0wf,5p79zt1,ycvqx2r,7a2hyb1,yn9dzzq,yv4sxs9,loyblsl,ks3khiy,sjyi06d,tfys9nh,p7miry7,cwljlbf,8lc2rp7,whml14c,s1ygz8e,prkoiue,p0pattz,9seol1h,nnnikwl,3mo7qil,ve67ryu,f6aoczu,rqiszcv,ieuyv2e,q2ws20f,eynzxu6,33ksqp9,tv60egf,chphkqo,rvjclrh,b6so6w4,r10kvni,rytm9f6,pbg7jqy,d1rdeyt,th6zdg0,x34naaq | DF90: 0 | DG90: 1 | DH90: 1 | DI90: 37 | DJ90: female | DK90: Yes, I have heard that phrase used on multiple occasions | DL90: 1 | DM90: Partially | DN90: 0.5
A91: 3187270 | B91: 73 | C91: 43211.801 | D91: 11.68 | E91: b5cslrl | G91: 1 | H91: 70 | L91: female | M91: 1 | T91: Some valued for its own sake | U91: Music and literature and all the arts. kindness trust | V91: [Music and literature and all the arts. kindness trust] | W91: [[Not something I value, 0], [A value of mine, but not an intrinisic value (I value it only because of what it causes), 1], [An intrinsic value of mine (I value it even if it causes nothing else), 2]] | Y91: 1 | Z91: 2 | AA91: 1 | AB91: 1 | AC91: 1 | AD91: 2 | AE91: 2 | AF91: 2 | AG91: 2 | AH91: 1 | AI91: 2 | AJ91: 2 | AK91: 1 | AL91: 2 | AM91: 2 | AN91: 1 | AO91: 2 | AP91: 1 | AQ91: 2 | AR91: 1 | AS91: 2 | AT91: 2 | AU91: 1 | AV91: 1 | AW91: 1 | AX91: 1 | AY91: 0 | AZ91: 2 | BA91: 2 | BB91: 2 | BC91: 2 | BD91: 1 | BE91: 1 | BF91: 2 | BG91: 2 | BH91: 0 | BI91: 1 | BJ91: 1 | BK91: 1 | BL91: 2 | BM91: 1 | BN91: 2 | BO91: 1 | BP91: 1 | BQ91: 2 | BR91: 2 | BS91: 2 | BT91: 2 | BU91: 2 | BV91: 2 | BW91: 2 | BX91: 2 | BY91: 1 | BZ91: 2 | CA91: 1 | CB91: 2 | CC91: 1 | CD91: 2 | CE91: 1 | CF91: 1 | CG91: 43211.809 | CJ91: 2 | CK91: 0 | CO91: Moderately Left-leaning | CP91: Moderately Left-leaning | CQ91: 4 | CR91: &Politics_PoliticalSelfPosition_Score=4 | CS91: Some valued for its own sake | CT91: 1 | CY91: 0 | CZ91: No | DA91: 1 | DB91: Yes | DC91: 1 | DD91: Yes | DE91: b6so6w4,loyblsl,8lc2rp7,9pj3mvf,lp32tzz,e98cezb,tap7yp7,duvf5i5,q2ws20f,cnktu1l,rvjclrh,cwljlbf,bz15rxo,yn9dzzq,prkoiue,higviv5,tv60egf,th6zdg0,7a2hyb1,pbg7jqy,5p79zt1,x34naaq,ieuyv2e,g7x30fr,tpc0o1f,zqv8d37,6z35kho,p0pattz,3mo7qil,4udr0wf,cl3xz2o,oqwzncg,chphkqo,eynzxu6,we9zef6,8ztjo6s,ve67ryu,ycvqx2r,tfys9nh,9r1t3rh,f6aoczu,rqiszcv,rytm9f6,ze3j4yw,p7miry7,6ye7hrk,sjyi06d,m4j75ti,uxw5h8v,d1rdeyt,r10kvni,s1ygz8e,nnnikwl,ks3khiy,dy2r65d,yjwwrlq,yv4sxs9,b3kxzzi,33ksqp9,whml14c,7fbh60h,9seol1h | DF91: 1 | DG91: 0 | DH91: 1 | DI91: 70 | DJ91: female | DK91: Yes, I have heard that phrase used on multiple occasions | DL91: 1 | DM91: Partially | DN91: 0.5
A92: 3187469 | B92: 73 | C92: 43211.913 | D92: 10.17 | E92: b5cslrl | G92: 1 | H92: 42 | L92: female | M92: 1 | T92: important regardless of external circumstances | U92: inner peace,compassion,freedom from suffering | V92: [inner peace, compassion, freedom from suffering] | W92: [[Not something I value, 0], [A value of mine, but not an intrinisic value (I value it only because of what it causes), 1], [An intrinsic value of mine (I value it even if it causes nothing else), 2]] | Y92: 0 | Z92: 0 | AA92: 0 | AB92: 1 | AC92: 1 | AD92: 0 | AE92: 2 | AF92: 1 | AG92: 1 | AH92: 0 | AI92: 0 | AJ92: 1 | AK92: 2 | AL92: 1 | AM92: 2 | AN92: 0 | AO92: 1 | AP92: 0 | AQ92: 1 | AR92: 1 | AS92: 1 | AT92: 0 | AU92: 0 | AV92: 0 | AW92: 2 | AX92: 0 | AY92: 0 | AZ92: 2 | BA92: 0 | BB92: 2 | BC92: 2 | BD92: 0 | BE92: 0 | BF92: 2 | BG92: 1 | BH92: 0 | BI92: 0 | BJ92: 0 | BK92: 0 | BL92: 0 | BM92: 0 | BN92: 2 | BO92: 1 | BP92: 0 | BQ92: 1 | BR92: 1 | BS92: 0 | BT92: 2 | BU92: 0 | BV92: 0 | BW92: 2 | BX92: 1 | BY92: 0 | BZ92: 0 | CA92: 0 | CB92: 2 | CC92: 0 | CD92: 0 | CE92: 2 | CF92: 1 | CG92: 43211.92 | CJ92: 2 | CK92: 0 | CO92: Left | CP92: Left | CQ92: 3 | CR92: &Politics_PoliticalSelfPosition_Score=3 | CS92: important regardless of external circumstances | CT92: 1 | CY92: 1 | CZ92: Yes | DA92: 0 | DB92: Yes | DC92: 1 | DD92: No | DE92: dy2r65d,ks3khiy,yn9dzzq,7a2hyb1,higviv5,b6so6w4,zqv8d37,g7x30fr,ieuyv2e,rytm9f6,nnnikwl,yjwwrlq,we9zef6,bz15rxo,3mo7qil,x34naaq,p0pattz,tpc0o1f,e98cezb,cnktu1l,33ksqp9,whml14c,5p79zt1,cwljlbf,th6zdg0,ze3j4yw,uxw5h8v,tv60egf,f6aoczu,ve67ryu,d1rdeyt,b3kxzzi,pbg7jqy,sjyi06d,9r1t3rh,s1ygz8e,ycvqx2r,cl3xz2o,m4j75ti,tap7yp7,p7miry7,rvjclrh,loyblsl,chphkqo,prkoiue,q2ws20f,r10kvni,rqiszcv,duvf5i5,9pj3mvf,4udr0wf,8ztjo6s,eynzxu6,6z35kho,9seol1h,oqwzncg,7fbh60h,6ye7hrk,8lc2rp7,tfys9nh,yv4sxs9,lp32tzz | DF92: 0 | DG92: 0 | DH92: 1 | DI92: 42 | DJ92: female | DK92: Yes, I have heard that phrase used on multiple occasions | DL92: 1 | DM92: Partially | DN92: 0.5
... A133: 3187434 | B133: 73 | C133: 43211.898 | D133: 220.38 | E133: b5cslrl | G133: 3 | H133: 34 | L133: male | M133: 0 | T133: preference for a nice class of world states when screened off from the causal effects of whatever common pattern causes the class to be "nice" | U133: awesomeness,joy,calm peace,the click of learning | V133: [awesomeness, joy, calm peace, the click of learning] | W133: [[Not something I value, 0], [A value of mine, but not an intrinisic value (I value it only because of what it causes), 1], [An intrinsic value of mine (I value it even if it causes nothing else), 2]] | Y133: 1 | Z133: 1 | AA133: 0 | AB133: 1 | AC133: 1 | AD133: 0 | AE133: 2 | AF133: 0 | AG133: 2 | AH133: 0 | AI133: 1 | AJ133: 0 | AK133: 2 | AL133: 1 | AM133: 2 | AN133: 2 | AO133: 1 | AP133: 0 | AQ133: 0 | AR133: 0 | AS133: 1 | AT133: 0 | AU133: 1 | AV133: 0 | AW133: 2 | AX133: 2 | AY133: 0 | AZ133: 2 | BA133: 1 | BB133: 0 | BC133: 1 | BD133: 1 | BE133: 2 | BF133: 2 | BG133: 0 | BH133: 2 | BI133: 1 | BJ133: 0 | BK133: 1 | BL133: 1 | BM133: 0 | BN133: 2 | BO133: 1 | BP133: 1 | BQ133: 1 | BR133: 1 | BS133: 0 | BT133: 1 | BU133: 0 | BV133: 1 | BW133: 2 | BX133: 2 | BY133: 0 | BZ133: 0 | CA133: 0 | CB133: 2 | CC133: 1 | CD133: 1 | CE133: 1 | CF133: 1 | CG133: 43212.051 | CJ133: 3 | CK133: 0 | CO133: Moderately Left-leaning | CP133: Moderately Left-leaning | CQ133: 4 | CR133: &Politics_PoliticalSelfPosition_Score=4 | CS133: preference for a nice class of world states when screened off from the causal effects of whatever common pattern causes the class to be "nice" | CT133: 1 | CY133: 1 | CZ133: No | DA133: 1 | DB133: Yes | DC133: 1 | DD133: No | DE133: tpc0o1f,e98cezb,tfys9nh,whml14c,s1ygz8e,5p79zt1,m4j75ti,d1rdeyt,r10kvni,p7miry7,rytm9f6,tap7yp7,9seol1h,cwljlbf,g7x30fr,3mo7qil,7fbh60h,9r1t3rh,eynzxu6,p0pattz,cnktu1l,b6so6w4,dy2r65d,9pj3mvf,yjwwrlq,th6zdg0,33ksqp9,rvjclrh,sjyi06d,yv4sxs9,cl3xz2o,4udr0wf,ycvqx2r,7a2hyb1,tv60egf,zqv8d37,ve67ryu,f6aoczu,ks3khiy,oqwzncg,prkoiue,nnnikwl,rqiszcv,x34naaq,duvf5i5,q2ws20f,yn9dzzq,b3kxzzi,chphkqo,ze3j4yw,higviv5,8lc2rp7,8ztjo6s,6z35kho,bz15rxo,loyblsl,6ye7hrk,we9zef6,ieuyv2e,pbg7jqy,uxw5h8v,lp32tzz | DF133: 1 | DG133: 0 | DH133: 1 | DI133: 34 | DJ133: male | DK133: Yes, I have heard that phrase used on multiple occasions | DL133: 1 | DM133: Partially | DN133: 0.5
A134: 3187663 | B134: 73 | C134: 43212.043 | D134: 13.62 | E134: b5cslrl | G134: 3 | H134: 25 | L134: other | T134: is a thing valuable in itself. | U134: positive experiences,suffering reduction | V134: [positive experiences, suffering reduction] | W134: [[Not something I value, 0], [A value of mine, but not an intrinisic value (I value it only because of what it causes), 1], [An intrinsic value of mine (I value it even if it causes nothing else), 2]] | Y134: 0 | Z134: 1 | AA134: 0 | AB134: 1 | AC134: 1 | AD134: 0 | AE134: 2 | AF134: 1 | AG134: 0 | AH134: 0 | AI134: 0 | AJ134: 1 | AK134: 2 | AL134: 1 | AM134: 1 | AN134: 2 | AO134: 1 | AP134: 1 | AQ134: 1 | AR134: 0 | AS134: 1 | AT134: 0 | AU134: 0 | AV134: 0 | AW134: 2 | AX134: 2 | AY134: 0 | AZ134: 1 | BA134: 0 | BB134: 1 | BC134: 1 | BD134: 2 | BE134: 2 | BF134: 1 | BG134: 1 | BH134: 2 | BI134: 1 | BJ134: 0 | BK134: 0 | BL134: 0 | BM134: 0 | BN134: 2 | BO134: 0 | BP134: 1 | BQ134: 1 | BR134: 1 | BS134: 0 | BT134: 0 | BU134: 0 | BV134: 1 | BW134: 2 | BX134: 0 | BY134: 0 | BZ134: 0 | CA134: 0 | CB134: 2 | CC134: 0 | CD134: 1 | CE134: 0 | CF134: 2 | CG134: 43212.052 | CJ134: 3 | CK134: 0 | CO134: Moderately Left-leaning | CP134: Moderately Left-leaning | CQ134: 4 | CR134: &Politics_PoliticalSelfPosition_Score=4 | CS134: is a thing valuable in itself. | CT134: 1 | CY134: 1 | CZ134: No | DA134: 1 | DB134: Yes | DC134: 1 | DD134: No | DE134: 7a2hyb1,tfys9nh,ze3j4yw,x34naaq,4udr0wf,rqiszcv,d1rdeyt,m4j75ti,q2ws20f,9r1t3rh,lp32tzz,rytm9f6,p0pattz,prkoiue,yjwwrlq,pbg7jqy,loyblsl,th6zdg0,6z35kho,8ztjo6s,cl3xz2o,6ye7hrk,f6aoczu,7fbh60h,ycvqx2r,33ksqp9,rvjclrh,nnnikwl,sjyi06d,g7x30fr,ve67ryu,duvf5i5,tpc0o1f,eynzxu6,p7miry7,higviv5,uxw5h8v,cnktu1l,cwljlbf,s1ygz8e,dy2r65d,tap7yp7,3mo7qil,chphkqo,whml14c,r10kvni,ks3khiy,ieuyv2e,we9zef6,9seol1h,b3kxzzi,oqwzncg,b6so6w4,tv60egf,zqv8d37,9pj3mvf,8lc2rp7,yn9dzzq,yv4sxs9,e98cezb,bz15rxo,5p79zt1 | DF134: 0 | DG134: 1 | DH134: 1 | DI134: 25 | DJ134: other | DK134: Yes, I have heard that phrase used on multiple occasions | DL134: 1 | DM134: Partially | DN134: 0.5
A135: 3187671 | B135: 73 | C135: 43212.046 | D135: 13.32 | E135: b5cslrl | G135: 3 | H135: 25 | L135: male | M135: 0 | T135: something who's value is not contingent on its consequences but derives only from its own properties | U135: happiness,love,health,excitement | V135: [happiness, love, health, excitement] | W135: [[Not something I value, 0], [A value of mine, but not an intrinisic value (I value it only because of what it causes), 1], [An intrinsic value of mine (I value it even if it causes nothing else), 2]] | Y135: 1 | Z135: 2 | AA135: 1 | AB135: 1 | AC135: 2 | AD135: 0 | AE135: 2 | AF135: 2 | AG135: 1 | AH135: 0 | AI135: 2 | AJ135: 1 | AK135: 2 | AL135: 1 | AM135: 1 | AN135: 2 | AO135: 2 | AP135: 2 | AQ135: 1 | AR135: 2 | AS135: 2 | AT135: 0 | AU135: 1 | AV135: 0 | AW135: 1 | AX135: 2 | AY135: 2 | AZ135: 2 | BA135: 1 | BB135: 1 | BC135: 2 | BD135: 1 | BE135: 1 | BF135: 1 | BG135: 2 | BH135: 1 | BI135: 1 | BJ135: 1 | BK135: 0 | BL135: 0 | BM135: 1 | BN135: 2 | BO135: 1 | BP135: 2 | BQ135: 2 | BR135: 1 | BS135: 2 | BT135: 2 | BU135: 0 | BV135: 2 | BW135: 1 | BX135: 2 | BY135: 0 | BZ135: 0 | CA135: 0 | CB135: 2 | CC135: 2 | CD135: 2 | CE135: 1 | CF135: 2 | CG135: 43212.055 | CJ135: 3 | CK135: 0 | CO135: Moderately Left-leaning | CP135: Moderately Left-leaning | CQ135: 4 | CR135: &Politics_PoliticalSelfPosition_Score=4 | CS135: something who's value is not contingent on its consequences but derives only from its own properties | CT135: 1 | CY135: 1 | CZ135: No | DA135: 1 | DB135: Yes | DC135: 1 | DD135: No | DE135: eynzxu6,tfys9nh,tv60egf,q2ws20f,7a2hyb1,7fbh60h,9r1t3rh,33ksqp9,cwljlbf,ycvqx2r,f6aoczu,th6zdg0,p7miry7,d1rdeyt,tpc0o1f,b3kxzzi,dy2r65d,yn9dzzq,lp32tzz,ieuyv2e,9pj3mvf,tap7yp7,5p79zt1,oqwzncg,x34naaq,whml14c,zqv8d37,ve67ryu,rqiszcv,rytm9f6,rvjclrh,r10kvni,sjyi06d,8ztjo6s,we9zef6,6z35kho,cl3xz2o,loyblsl,4udr0wf,pbg7jqy,cnktu1l,9seol1h,ze3j4yw,p0pattz,uxw5h8v,m4j75ti,s1ygz8e,chphkqo,e98cezb,b6so6w4,6ye7hrk,g7x30fr,yjwwrlq,yv4sxs9,ks3khiy,bz15rxo,prkoiue,8lc2rp7,duvf5i5,nnnikwl,higviv5,3mo7qil | DF135: 1 | DG135: 1 | DH135: 1 | DI135: 25 | DJ135: male | DK135: Yes, I have heard that phrase used on multiple occasions | DL135: 1 | DM135: Partially | DN135: 0.5
A136: 3187782 | B136: 73 | C136: 43212.132 | D136: 12.8 | E136: b5cslrl | G136: 3 | H136: 33 | L136: male | M136: 0 | T136: a value that is good in and of itself even if it it does not cause anything else. | U136: happiness,morality,absence of suffering | V136: [happiness, morality, absence of suffering] | W136: [[Not something I value, 0], [A value of mine, but not an intrinisic value (I value it only because of what it causes), 1], [An intrinsic value of mine (I value it even if it causes nothing else), 2]] | Y136: 2 | Z136: 1 | AA136: 2 | AB136: 1 | AC136: 1 | AD136: 1 | AE136: 2 | AF136: 1 | AG136: 2 | AH136: 0 | AI136: 1 | AJ136: 2 | AK136: 2 | AL136: 1 | AM136: 1 | AN136: 2 | AO136: 1 | AP136: 2 | AQ136: 1 | AR136: 1 | AS136: 2 | AT136: 0 | AU136: 2 | AV136: 0 | AW136: 2 | AX136: 2 | AY136: 0 | AZ136: 1 | BA136: 1 | BB136: 2 | BC136: 1 | BD136: 2 | BE136: 2 | BF136: 1 | BG136: 2 | BH136: 2 | BI136: 1 | BJ136: 1 | BK136: 1 | BL136: 1 | BM136: 1 | BN136: 2 | BO136: 2 | BP136: 1 | BQ136: 1 | BR136: 1 | BS136: 1 | BT136: 1 | BU136: 0 | BV136: 1 | BW136: 2 | BX136: 2 | BY136: 2 | BZ136: 1 | CA136: 1 | CB136: 2 | CC136: 1 | CD136: 1 | CE136: 2 | CF136: 2 | CG136: 43212.141 | CJ136: 3 | CK136: 0 | CO136: Very Left | CP136: Very Left | CQ136: 2 | CR136: &Politics_PoliticalSelfPosition_Score=2 | CS136: a value that is good in and of itself even if it it does not cause anything else. | CT136: 1 | CY136: 1 | CZ136: No | DA136: 1 | DB136: Yes | DC136: 1 | DD136: No | DE136: th6zdg0,6z35kho,bz15rxo,tv60egf,zqv8d37,33ksqp9,rvjclrh,9seol1h,yjwwrlq,p7miry7,8lc2rp7,6ye7hrk,tfys9nh,rqiszcv,duvf5i5,yn9dzzq,5p79zt1,9pj3mvf,uxw5h8v,cl3xz2o,m4j75ti,prkoiue,g7x30fr,sjyi06d,9r1t3rh,3mo7qil,cnktu1l,ycvqx2r,s1ygz8e,ks3khiy,d1rdeyt,ieuyv2e,7fbh60h,higviv5,x34naaq,cwljlbf,ve67ryu,chphkqo,q2ws20f,tap7yp7,tpc0o1f,oqwzncg,dy2r65d,nnnikwl,eynzxu6,p0pattz,7a2hyb1,e98cezb,pbg7jqy,yv4sxs9,b6so6w4,ze3j4yw,whml14c,b3kxzzi,8ztjo6s,lp32tzz,4udr0wf,loyblsl,rytm9f6,r10kvni,we9zef6,f6aoczu | DF136: 1 | DG136: 1 | DH136: 1 | DI136: 33 | DJ136: male | DK136: Yes, I have heard that phrase used on multiple occasions | DL136: 1 | DM136: Partially | DN136: 0.5
A137: 3187847 | B137: 73 | C137: 43212.203 | D137: 49.78 | E137: b5cslrl | G137: 3 | H137: 23 | L137: male | M137: 0 | T137: something that is valuable even if it does not cause anything else of value to occur. | U137: Happiness,Contentment,Fun | V137: [Happiness, Contentment, Fun] | W137: [[Not something I value, 0], [A value of mine, but not an intrinisic value (I value it only because of what it causes), 1], [An intrinsic value of mine (I value it even if it causes nothing else), 2]] | Y137: 1 | Z137: 1 | AA137: 1 | AB137: 1 | AC137: 1 | AD137: 0 | AE137: 2 | AF137: 1 | AG137: 1 | AH137: 0 | AI137: 1 | AJ137: 2 | AK137: 2 | AL137: 1 | AM137: 1 | AN137: 2 | AO137: 1 | AP137: 1 | AQ137: 1 | AR137: 1 | AS137: 2 | AT137: 0 | AU137: 1 | AV137: 0 | AW137: 2 | AX137: 2 | AY137: 0 | AZ137: 1 | BA137: 1 | BB137: 2 | BC137: 1 | BD137: 1 | BE137: 2 | BF137: 1 | BG137: 1 | BH137: 2 | BI137: 1 | BJ137: 1 | BK137: 1 | BL137: 1 | BM137: 1 | BN137: 2 | BO137: 1 | BP137: 1 | BQ137: 1 | BR137: 1 | BS137: 0 | BT137: 1 | BU137: 0 | BV137: 1 | BW137: 2 | BX137: 2 | BY137: 1 | BZ137: 1 | CA137: 1 | CB137: 2 | CC137: 1 | CD137: 1 | CE137: 1 | CF137: 2 | CG137: 43212.238 | CJ137: 3 | CK137: 0 | CO137: Moderately Left-leaning | CP137: Moderately Left-leaning | CQ137: 4 | CR137: &Politics_PoliticalSelfPosition_Score=4 | CS137: something that is valuable even if it does not cause anything else of value to occur. | CT137: 1 | CY137: 1 | CZ137: No | DA137: 1 | DB137: Yes | DC137: 1 | DD137: No | DE137: ve67ryu,f6aoczu,cl3xz2o,pbg7jqy,b6so6w4,8lc2rp7,9r1t3rh,9pj3mvf,ieuyv2e,b3kxzzi,6ye7hrk,chphkqo,yv4sxs9,tap7yp7,th6zdg0,tfys9nh,8ztjo6s,cwljlbf,tv60egf,rqiszcv,prkoiue,e98cezb,x34naaq,nnnikwl,lp32tzz,9seol1h,yjwwrlq,q2ws20f,zqv8d37,sjyi06d,oqwzncg,7a2hyb1,4udr0wf,s1ygz8e,3mo7qil,eynzxu6,duvf5i5,yn9dzzq,5p79zt1,6z35kho,ze3j4yw,ks3khiy,r10kvni,loyblsl,cnktu1l,dy2r65d,d1rdeyt,ycvqx2r,p7miry7,m4j75ti,higviv5,tpc0o1f,33ksqp9,whml14c,rytm9f6,p0pattz,g7x30fr,bz15rxo,uxw5h8v,we9zef6,rvjclrh,7fbh60h | DF137: 1 | DG137: 1 | DH137: 1 | DI137: 23 | DJ137: male | DK137: Yes, I have heard that phrase used on multiple occasions | DL137: 1 | DM137: Partially | DN137: 0.5
A138: 3187787 | B138: 73 | C138: 43212.136 | D138: 199.17 | E138: b5cslrl | G138: 3 | H138: 34 | L138: female | M138: 1 | T138: Something that provides value without leading to anything of value | U138: Crafting well thought out experiences,Painting,Family,Sunshine,Exploration,Touch | V138: [Crafting well thought out experiences, Painting, Family, Sunshine, Exploration, Touch] | W138: [[Not something I value, 0], [A value of mine, but not an intrinisic value (I value it only because of what it causes), 1], [An intrinsic value of mine (I value it even if it causes nothing else), 2]] | Y138: 0 | Z138: 2 | AA138: 0 | AB138: 0 | AC138: 2 | AD138: 0 | AE138: 2 | AF138: 2 | AG138: 2 | AH138: 2 | AI138: 2 | AJ138: 1 | AK138: 2 | AL138: 2 | AM138: 2 | AN138: 2 | AO138: 2 | AP138: 2 | AQ138: 2 | AR138: 0 | AS138: 2 | AT138: 0 | AU138: 0 | AV138: 0 | AW138: 2 | AX138: 2 | AY138: 0 | AZ138: 2 | BA138: 2 | BB138: 2 | BC138: 2 | BD138: 2 | BE138: 0 | BF138: 2 | BG138: 2 | BH138: 0 | BI138: 2 | BJ138: 1 | BK138: 0 | BL138: 0 | BM138: 1 | BN138: 2 | BO138: 0 | BP138: 1 | BQ138: 2 | BR138: 2 | BS138: 0 | BT138: 2 | BU138: 0 | BV138: 2 | BW138: 2 | BX138: 2 | BY138: 0 | BZ138: 0 | CA138: 0 | CB138: 2 | CC138: 2 | CD138: 2 | CE138: 2 | CF138: 0 | CG138: 43212.275 | CJ138: 3 | CK138: 0 | CO138: Left | CP138: Left | CQ138: 3 | CR138: &Politics_PoliticalSelfPosition_Score=3 | CS138: Something that provides value without leading to anything of value | CT138: 1 | CY138: 1 | CZ138: No | DA138: 1 | DB138: Yes | DC138: 1 | DD138: No | DE138: ycvqx2r,tpc0o1f,yn9dzzq,ze3j4yw,q2ws20f,p7miry7,8ztjo6s,chphkqo,b3kxzzi,7a2hyb1,6ye7hrk,d1rdeyt,cwljlbf,5p79zt1,9r1t3rh,4udr0wf,nnnikwl,cl3xz2o,9pj3mvf,duvf5i5,rytm9f6,yjwwrlq,we9zef6,lp32tzz,zqv8d37,m4j75ti,pbg7jqy,eynzxu6,8lc2rp7,rqiszcv,tfys9nh,sjyi06d,s1ygz8e,x34naaq,dy2r65d,p0pattz,r10kvni,7fbh60h,cnktu1l,higviv5,33ksqp9,ieuyv2e,whml14c,b6so6w4,f6aoczu,tv60egf,uxw5h8v,3mo7qil,e98cezb,prkoiue,yv4sxs9,6z35kho,ks3khiy,loyblsl,rvjclrh,bz15rxo,9seol1h,tap7yp7,g7x30fr,ve67ryu,oqwzncg,th6zdg0 | DF138: 1 | DG138: 1 | DH138: 1 | DI138: 34 | DJ138: female | DK138: Yes, I have heard that phrase used on multiple occasions | DL138: 1 | DM138: Partially | DN138: 0.5
A139: 3187929 | B139: 73 | C139: 43212.27 | D139: 7.83 | E139: b5cslrl | G139: 3 | H139: 43 | L139: female | M139: 1 | T139: Something useful and valuable in its own right | U139: Love, elegance, simplicity, honesty, kindness, strength, clarity | V139: [Love, elegance, simplicity, honesty, kindness, strength, clarity] | W139: [[Not something I value, 0], [A value of mine, but not an intrinisic value (I value it only because of what it causes), 1], [An intrinsic value of mine (I value it even if it causes nothing else), 2]] | Y139: 0 | Z139: 0 | AA139: 0 | AB139: 1 | AC139: 2 | AD139: 0 | AE139: 1 | AF139: 2 | AG139: 1 | AH139: 1 | AI139: 2 | AJ139: 0 | AK139: 2 | AL139: 2 | AM139: 1 | AN139: 1 | AO139: 2 | AP139: 1 | AQ139: 1 | AR139: 2 | AS139: 2 | AT139: 0 | AU139: 0 | AV139: 0 | AW139: 0 | AX139: 1 | AY139: 0 | AZ139: 1 | BA139: 2 | BB139: 1 | BC139: 1 | BD139: 0 | BE139: 0 | BF139: 2 | BG139: 1 | BH139: 1 | BI139: 1 | BJ139: 0 | BK139: 0 | BL139: 1 | BM139: 0 | BN139: 1 | BO139: 1 | BP139: 0 | BQ139: 2 | BR139: 1 | BS139: 0 | BT139: 1 | BU139: 0 | BV139: 0 | BW139: 0 | BX139: 1 | BY139: 0 | BZ139: 2 | CA139: 0 | CB139: 1 | CC139: 0 | CD139: 1 | CE139: 1 | CF139: 0 | CG139: 43212.276 | CJ139: 3 | CK139: 0 | CO139: Moderately Left-leaning | CP139: Moderately Left-leaning | CQ139: 4 | CR139: &Politics_PoliticalSelfPosition_Score=4 | CS139: Something useful and valuable in its own right | CT139: 1 | CY139: 1 | CZ139: No | DA139: 1 | DB139: Yes | DC139: 1 | DD139: No | DE139: f6aoczu,prkoiue,3mo7qil,yn9dzzq,cnktu1l,6ye7hrk,rytm9f6,nnnikwl,8lc2rp7,s1ygz8e,ks3khiy,tpc0o1f,7a2hyb1,higviv5,yv4sxs9,cl3xz2o,duvf5i5,whml14c,cwljlbf,ze3j4yw,q2ws20f,4udr0wf,rqiszcv,oqwzncg,33ksqp9,m4j75ti,7fbh60h,tfys9nh,d1rdeyt,loyblsl,dy2r65d,p0pattz,uxw5h8v,bz15rxo,th6zdg0,g7x30fr,tap7yp7,8ztjo6s,6z35kho,b3kxzzi,e98cezb,p7miry7,yjwwrlq,b6so6w4,rvjclrh,pbg7jqy,9r1t3rh,chphkqo,9seol1h,9pj3mvf,we9zef6,eynzxu6,ycvqx2r,sjyi06d,ieuyv2e,x34naaq,ve67ryu,r10kvni,tv60egf,lp32tzz,5p79zt1,zqv8d37 | DF139: 0 | DG139: 0 | DH139: 1 | DI139: 43 | DJ139: female | DK139: Yes, I have heard that phrase used on multiple occasions | DL139: 1 | DM139: Partially | DN139: 0.5
A140: 3187921 | B140: 73 | C140: 43212.267 | D140: 17.45 | E140: b5cslrl | G140: 3 | H140: 33 | L140: male | M140: 0 | T140: End goal, final goal. | U140: Positive emotions | V140: [Positive emotions] | W140: [[Not something I value, 0], [A value of mine, but not an intrinisic value (I value it only because of what it causes), 1], [An intrinsic value of mine (I value it even if it causes nothing else), 2]] | Y140: 1 | Z140: 1 | AA140: 1 | AB140: 1 | AC140: 1 | AD140: 0 | AE140: 2 | AF140: 1 | AG140: 1 | AH140: 1 | AI140: 1 | AJ140: 1 | AK140: 2 | AL140: 1 | AM140: 1 | AN140: 1 | AO140: 2 | AP140: 1 | AQ140: 1 | AR140: 1 | AS140: 1 | AT140: 0 | AU140: 1 | AV140: 0 | AW140: 1 | AX140: 1 | AY140: 0 | AZ140: 1 | BA140: 1 | BB140: 1 | BC140: 1 | BD140: 1 | BE140: 1 | BF140: 1 | BG140: 1 | BH140: 1 | BI140: 1 | BJ140: 0 | BK140: 1 | BL140: 1 | BM140: 1 | BN140: 1 | BO140: 1 | BP140: 1 | BQ140: 1 | BR140: 1 | BS140: 1 | BT140: 1 | BU140: 0 | BV140: 1 | BW140: 1 | BX140: 1 | BY140: 1 | BZ140: 1 | CA140: 0 | CB140: 1 | CC140: 1 | CD140: 1 | CE140: 1 | CF140: 2 | CG140: 43212.279 | CJ140: 3 | CK140: 0 | CO140: Left of Center | CP140: Left of Center | CQ140: 5 | CR140: &Politics_PoliticalSelfPosition_Score=5 | CS140: End goal, final goal. | CT140: 1 | CY140: 1 | CZ140: No | DA140: 1 | DB140: Yes | DC140: 1 | DD140: No | DE140: e98cezb,d1rdeyt,r10kvni,3mo7qil,cnktu1l,m4j75ti,p7miry7,tpc0o1f,eynzxu6,8ztjo6s,ieuyv2e,8lc2rp7,tfys9nh,yn9dzzq,b3kxzzi,7a2hyb1,9pj3mvf,rvjclrh,oqwzncg,th6zdg0,higviv5,6ye7hrk,4udr0wf,rqiszcv,9seol1h,9r1t3rh,prkoiue,bz15rxo,lp32tzz,we9zef6,yjwwrlq,f6aoczu,rytm9f6,whml14c,dy2r65d,chphkqo,7fbh60h,uxw5h8v,6z35kho,nnnikwl,33ksqp9,g7x30fr,yv4sxs9,cl3xz2o,x34naaq,pbg7jqy,duvf5i5,q2ws20f,cwljlbf,5p79zt1,ze3j4yw,ks3khiy,loyblsl,tv60egf,tap7yp7,ycvqx2r,sjyi06d,s1ygz8e,ve67ryu,b6so6w4,zqv8d37,p0pattz | DF140: 1 | DG140: 1 | DH140: 1 | DI140: 33 | DJ140: male | DK140: Yes, I have heard that phrase used on multiple occasions | DL140: 1 | DM140: Partially | DN140: 0.5
A141: 3187960 | B141: 73 | C141: 43212.304 | D141: 18.17 | E141: b5cslrl | G141: 3 | H141: 21 | L141: male | M141: 0 | T141: a value, which is an end in itself | U141: Happiness,Pleasure,Friendship,Wisdom,Love | V141: [Happiness, Pleasure, Friendship, Wisdom, Love] | W141: [[Not something I value, 0], [A value of mine, but not an intrinisic value (I value it only because of what it causes), 1], [An intrinsic value of mine (I value it even if it causes nothing else), 2]] | Y141: 0 | Z141: 2 | AA141: 0 | AB141: 1 | AC141: 1 | AD141: 0 | AE141: 2 | AF141: 2 | AG141: 1 | AH141: 0 | AI141: 1 | AJ141: 1 | AK141: 1 | AL141: 1 | AM141: 2 | AN141: 2 | AO141: 2 | AP141: 1 | AQ141: 1 | AR141: 1 | AS141: 1 | AT141: 0 | AU141: 0 | AV141: 0 | AW141: 1 | AX141: 1 | AY141: 0 | AZ141: 2 | BA141: 1 | BB141: 1 | BC141: 1 | BD141: 1 | BE141: 1 | BF141: 1 | BG141: 1 | BH141: 2 | BI141: 0 | BJ141: 0 | BK141: 0 | BL141: 1 | BM141: 1 | BN141: 2 | BO141: 0 | BP141: 1 | BQ141: 2 | BR141: 2 | BS141: 0 | BT141: 1 | BU141: 0 | BV141: 1 | BW141: 2 | BX141: 1 | BY141: 1 | BZ141: 0 | CA141: 0 | CB141: 1 | CC141: 0 | CD141: 1 | CE141: 1 | CF141: 2 | CG141: 43212.317 | CJ141: 3 | CK141: 0 | CO141: Moderately Left-leaning | CP141: Moderately Left-leaning | CQ141: 4 | CR141: &Politics_PoliticalSelfPosition_Score=4 | CS141: a value, which is an end in itself | CT141: 1 | CY141: 1 | CZ141: No | DA141: 1 | DB141: Yes | DC141: 1 | DD141: No | DE141: yjwwrlq,p0pattz,r10kvni,yn9dzzq,m4j75ti,s1ygz8e,we9zef6,x34naaq,tv60egf,cwljlbf,g7x30fr,7fbh60h,d1rdeyt,q2ws20f,rytm9f6,rvjclrh,zqv8d37,whml14c,oqwzncg,9pj3mvf,yv4sxs9,tfys9nh,nnnikwl,cl3xz2o,loyblsl,33ksqp9,rqiszcv,dy2r65d,p7miry7,tpc0o1f,3mo7qil,pbg7jqy,tap7yp7,9r1t3rh,b3kxzzi,7a2hyb1,eynzxu6,ieuyv2e,e98cezb,uxw5h8v,ve67ryu,cnktu1l,chphkqo,th6zdg0,f6aoczu,b6so6w4,ycvqx2r,4udr0wf,5p79zt1,lp32tzz,sjyi06d,6z35kho,8lc2rp7,ze3j4yw,9seol1h,ks3khiy,higviv5,6ye7hrk,bz15rxo,8ztjo6s,prkoiue,duvf5i5 | DF141: 0 | DG141: 0 | DH141: 1 | DI141: 21 | DJ141: male | DK141: Yes, I have heard that phrase used on multiple occasions | DL141: 1 | DM141: Partially | DN141: 0.5
A142: 3187959 | B142: 73 | C142: 43212.304 | D142: 21.07 | E142: b5cslrl | G142: 3 | H142: 25 | L142: male | M142: 0 | T142: value that just is valuable on it's own, not because it causes something else that is of value | U142: Pleasure,Pain/suffering,Health,Usefullness (or something; not because of what it's useful for) | V142: [Pleasure, Pain/suffering, Health, Usefullness (or something; not because of what it's useful for)] | W142: [[Not something I value, 0], [A value of mine, but not an intrinisic value (I value it only because of what it causes), 1], [An intrinsic value of mine (I value it even if it causes nothing else), 2]] | Y142: 2 | Z142: 1 | AA142: 1 | AB142: 2 | AC142: 2 | AD142: 0 | AE142: 2 | AF142: 1 | AG142: 2 | AH142: 1 | AI142: 2 | AJ142: 2 | AK142: 2 | AL142: 2 | AM142: 1 | AN142: 2 | AO142: 2 | AP142: 2 | AQ142: 1 | AR142: 1 | AS142: 1 | AT142: 0 | AU142: 0 | AV142: 1 | AW142: 2 | AX142: 2 | AY142: 0 | AZ142: 2 | BA142: 0 | BB142: 2 | BC142: 2 | BD142: 2 | BE142: 2 | BF142: 1 | BG142: 1 | BH142: 2 | BI142: 1 | BJ142: 1 | BK142: 2 | BL142: 2 | BM142: 1 | BN142: 2 | BO142: 1 | BP142: 1 | BQ142: 2 | BR142: 2 | BS142: 1 | BT142: 2 | BU142: 0 | BV142: 1 | BW142: 2 | BX142: 2 | BY142: 0 | BZ142: 0 | CA142: 0 | CB142: 2 | CC142: 1 | CD142: 2 | CE142: 2 | CF142: 2 | CG142: 43212.319 | CJ142: 3 | CK142: 0 | CO142: Moderately Left-leaning | CP142: Moderately Left-leaning | CQ142: 4 | CR142: &Politics_PoliticalSelfPosition_Score=4 | CS142: value that just is valuable on it's own, not because it causes something else that is of value | CT142: 1 | CY142: 1 | CZ142: No | DA142: 1 | DB142: Yes | DC142: 1 | DD142: No | DE142: ieuyv2e,ve67ryu,ze3j4yw,uxw5h8v,x34naaq,f6aoczu,rytm9f6,loyblsl,prkoiue,tpc0o1f,tv60egf,q2ws20f,bz15rxo,whml14c,e98cezb,6z35kho,m4j75ti,yn9dzzq,s1ygz8e,dy2r65d,9r1t3rh,cl3xz2o,higviv5,zqv8d37,p0pattz,tfys9nh,7fbh60h,yv4sxs9,p7miry7,lp32tzz,b6so6w4,yjwwrlq,8ztjo6s,5p79zt1,8lc2rp7,oqwzncg,d1rdeyt,rqiszcv,nnnikwl,g7x30fr,ks3khiy,cwljlbf,pbg7jqy,9pj3mvf,tap7yp7,we9zef6,ycvqx2r,9seol1h,33ksqp9,duvf5i5,7a2hyb1,sjyi06d,cnktu1l,th6zdg0,r10kvni,6ye7hrk,eynzxu6,b3kxzzi,rvjclrh,4udr0wf,chphkqo,3mo7qil | DF142: 0 | DG142: 0 | DH142: 1 | DI142: 25 | DJ142: male | DK142: Yes, I have heard that phrase used on multiple occasions | DL142: 1 | DM142: Partially | DN142: 0.5
A143: 3187958 | B143: 73 | C143: 43212.303 | D143: 30.05 | E143: b5cslrl | G143: 3 | H143: 35 | L143: male | M143: 0 | T143: Something that has value by itself | U143: Love,Friendship,Music,TV,Books,Knowledge,Nice weather,Safety,Honesty | V143: [Love, Friendship, Music, TV, Books, Knowledge, Nice weather, Safety, Honesty] | W143: [[Not something I value, 0], [A value of mine, but not an intrinisic value (I value it only because of what it causes), 1], [An intrinsic value of mine (I value it even if it causes nothing else), 2]] | Y143: 2 | Z143: 2 | AA143: 0 | AB143: 2 | AC143: 2 | AD143: 0 | AE143: 2 | AF143: 2 | AG143: 2 | AH143: 0 | AI143: 2 | AJ143: 2 | AK143: 2 | AL143: 2 | AM143: 2 | AN143: 2 | AO143: 2 | AP143: 0 | AQ143: 2 | AR143: 2 | AS143: 2 | AT143: 0 | AU143: 2 | AV143: 0 | AW143: 2 | AX143: 2 | AY143: 0 | AZ143: 2 | BA143: 2 | BB143: 2 | BC143: 2 | BD143: 2 | BE143: 2 | BF143: 2 | BG143: 2 | BH143: 2 | BI143: 2 | BJ143: 1 | BK143: 0 | BL143: 2 | BM143: 2 | BN143: 2 | BO143: 2 | BP143: 2 | BQ143: 2 | BR143: 2 | BS143: 0 | BT143: 2 | BU143: 0 | BV143: 2 | BW143: 2 | BX143: 2 | BY143: 2 | BZ143: 2 | CA143: 0 | CB143: 2 | CC143: 1 | CD143: 2 | CE143: 2 | CF143: 2 | CG143: 43212.324 | CJ143: 3 | CK143: 0 | CO143: Very Left | CP143: Very Left | CQ143: 2 | CR143: &Politics_PoliticalSelfPosition_Score=2 | CS143: Something that has value by itself | CT143: 1 | CY143: 1 | CZ143: No | DA143: 1 | DB143: Yes | DC143: 1 | DD143: No | DE143: m4j75ti,th6zdg0,dy2r65d,p7miry7,9pj3mvf,b6so6w4,g7x30fr,7fbh60h,9r1t3rh,rytm9f6,loyblsl,33ksqp9,p0pattz,x34naaq,4udr0wf,eynzxu6,zqv8d37,rvjclrh,d1rdeyt,8ztjo6s,whml14c,f6aoczu,ze3j4yw,tfys9nh,we9zef6,q2ws20f,ycvqx2r,duvf5i5,prkoiue,b3kxzzi,r10kvni,6ye7hrk,sjyi06d,yjwwrlq,tv60egf,tap7yp7,uxw5h8v,tpc0o1f,bz15rxo,rqiszcv,cwljlbf,e98cezb,7a2hyb1,6z35kho,chphkqo,yv4sxs9,yn9dzzq,lp32tzz,ieuyv2e,8lc2rp7,oqwzncg,3mo7qil,5p79zt1,s1ygz8e,cnktu1l,cl3xz2o,pbg7jqy,ve67ryu,ks3khiy,9seol1h,higviv5,nnnikwl | DF143: 1 | DG143: 1 | DH143: 1 | DI143: 35 | DJ143: male | DK143: Yes, I have heard that phrase used on multiple occasions | DL143: 1 | DM143: Partially | DN143: 0.5
A144: 3187978 | B144: 73 | C144: 43212.332 | D144: 19.28 | E144: b5cslrl | G144: 3 | H144: 30 | L144: male | M144: 0 | T144: something that is valuable even if nothing else occurs as a result of that value existing. | U144: pleasurable feelings,love,friendship,doing actions to help other sentient beings, including strangers and animals,understanding fundamental ideas about the universe e.g. science, psychology. | V144: [pleasurable feelings, love, friendship, doing actions to help other sentient beings, including strangers and animals, understanding fundamental ideas about the universe e.g. science, psychology.] | W144: [[Not something I value, 0], [A value of mine, but not an intrinisic value (I value it only because of what it causes), 1], [An intrinsic value of mine (I value it even if it causes nothing else), 2]] | Y144: 1 | Z144: 2 | AA144: 1 | AB144: 2 | AC144: 1 | AD144: 0 | AE144: 2 | AF144: 1 | AG144: 1 | AH144: 0 | AI144: 1 | AJ144: 1 | AK144: 2 | AL144: 1 | AM144: 1 | AN144: 2 | AO144: 2 | AP144: 1 | AQ144: 1 | AR144: 1 | AS144: 2 | AT144: 0 | AU144: 1 | AV144: 0 | AW144: 2 | AX144: 2 | AY144: 0 | AZ144: 2 | BA144: 0 | BB144: 1 | BC144: 2 | BD144: 1 | BE144: 2 | BF144: 1 | BG144: 1 | BH144: 2 | BI144: 2 | BJ144: 2 | BK144: 1 | BL144: 1 | BM144: 1 | BN144: 2 | BO144: 1 | BP144: 1 | BQ144: 1 | BR144: 1 | BS144: 0 | BT144: 2 | BU144: 0 | BV144: 1 | BW144: 2 | BX144: 2 | BY144: 1 | BZ144: 0 | CA144: 1 | CB144: 2 | CC144: 0 | CD144: 1 | CE144: 1 | CF144: 2 | CG144: 43212.345 | CJ144: 3 | CK144: 0 | CO144: Moderately Left-leaning | CP144: Moderately Left-leaning | CQ144: 4 | CR144: &Politics_PoliticalSelfPosition_Score=4 | CS144: something that is valuable even if nothing else occurs as a result of that value existing. | CT144: 1 | CY144: 1 | CZ144: No | DA144: 1 | DB144: Yes | DC144: 1 | DD144: No | DE144: p7miry7,q2ws20f,uxw5h8v,yn9dzzq,g7x30fr,ieuyv2e,9pj3mvf,e98cezb,tpc0o1f,dy2r65d,chphkqo,b3kxzzi,loyblsl,b6so6w4,4udr0wf,p0pattz,whml14c,9r1t3rh,m4j75ti,rvjclrh,higviv5,eynzxu6,tap7yp7,cl3xz2o,6ye7hrk,ze3j4yw,8lc2rp7,33ksqp9,pbg7jqy,ve67ryu,6z35kho,zqv8d37,8ztjo6s,th6zdg0,cwljlbf,9seol1h,ycvqx2r,lp32tzz,d1rdeyt,r10kvni,sjyi06d,x34naaq,5p79zt1,3mo7qil,oqwzncg,yv4sxs9,ks3khiy,rytm9f6,tv60egf,nnnikwl,tfys9nh,s1ygz8e,f6aoczu,rqiszcv,yjwwrlq,duvf5i5,bz15rxo,prkoiue,we9zef6,7a2hyb1,7fbh60h,cnktu1l | DF144: 0 | DG144: 1 | DH144: 1 | DI144: 30 | DJ144: male | DK144: Yes, I have heard that phrase used on multiple occasions | DL144: 1 | DM144: Partially | DN144: 0.5
A145: 3187980 | B145: 73 | C145: 43212.336 | D145: 14.65 | E145: b5cslrl | G145: 3 | H145: 31 | L145: female | M145: 1 | T145: something that a person values because of its own nature, not because of the consequence that is linked to it | U145: Being kind to other living things (including helping them),Knowing things about the world (i.e. satisfying curiosity about nature, technology, or any other thing that happens in the world),Expressing feelings of love and care for another person (also non-human),Personal growth and development, setting goals and challenges for yourself,Enjoying art and nature through your senses | V145: [Being kind to other living things (including helping them), Knowing things about the world (i.e. satisfying curiosity about nature, technology, or any other thing that happens in the world), Expressing feelings of love and care for another person (also non-human), Personal growth and development, setting goals and challenges for yourself, Enjoying art and nature through your senses] | W145: [[Not something I value, 0], [A value of mine, but not an intrinisic value (I value it only because of what it causes), 1], [An intrinsic value of mine (I value it even if it causes nothing else), 2]] | Y145: 1 | Z145: 2 | AA145: 0 | AB145: 2 | AC145: 1 | AD145: 2 | AE145: 1 | AF145: 2 | AG145: 1 | AH145: 0 | AI145: 2 | AJ145: 2 | AK145: 2 | AL145: 2 | AM145: 2 | AN145: 2 | AO145: 2 | AP145: 2 | AQ145: 1 | AR145: 2 | AS145: 2 | AT145: 0 | AU145: 1 | AV145: 0 | AW145: 2 | AX145: 1 | AY145: 0 | AZ145: 1 | BA145: 1 | BB145: 2 | BC145: 1 | BD145: 2 | BE145: 1 | BF145: 2 | BG145: 2 | BH145: 1 | BI145: 1 | BJ145: 1 | BK145: 1 | BL145: 2 | BM145: 1 | BN145: 2 | BO145: 1 | BP145: 0 | BQ145: 2 | BR145: 2 | BS145: 1 | BT145: 0 | BU145: 0 | BV145: 1 | BW145: 2 | BX145: 1 | BY145: 2 | BZ145: 2 | CA145: 1 | CB145: 2 | CC145: 0 | CD145: 2 | CE145: 2 | CF145: 1 | CG145: 43212.347 | CJ145: 3 | CK145: 0 | CO145: Left | CP145: Left | CQ145: 3 | CR145: &Politics_PoliticalSelfPosition_Score=3 | CS145: something that a person values because of its own nature, not because of the consequence that is linked to it | CT145: 1 | CY145: 1 | CZ145: No | DA145: 1 | DB145: Yes | DC145: 1 | DD145: No | DE145: higviv5,tv60egf,yjwwrlq,ieuyv2e,r10kvni,p7miry7,uxw5h8v,sjyi06d,4udr0wf,d1rdeyt,8ztjo6s,ycvqx2r,9seol1h,yv4sxs9,p0pattz,m4j75ti,7fbh60h,eynzxu6,cwljlbf,nnnikwl,yn9dzzq,tpc0o1f,6ye7hrk,pbg7jqy,bz15rxo,3mo7qil,cnktu1l,33ksqp9,tfys9nh,lp32tzz,x34naaq,ze3j4yw,ks3khiy,duvf5i5,chphkqo,f6aoczu,b6so6w4,9pj3mvf,ve67ryu,rytm9f6,e98cezb,s1ygz8e,loyblsl,tap7yp7,rvjclrh,cl3xz2o,rqiszcv,dy2r65d,9r1t3rh,b3kxzzi,we9zef6,6z35kho,7a2hyb1,prkoiue,th6zdg0,5p79zt1,oqwzncg,8lc2rp7,zqv8d37,q2ws20f,whml14c,g7x30fr | DF145: 0 | DG145: 1 | DH145: 1 | DI145: 31 | DJ145: female | DK145: Yes, I have heard that phrase used on multiple occasions | DL145: 1 | DM145: Partially | DN145: 0.5
A146: 3188018 | B146: 73 | C146: 43212.379 | D146: 72.4 | E146: b5cslrl | G146: 3 | H146: 28 | L146: male | M146: 0 | T146: worth it in its own right | U146: learning,understanding,love,sex,companionship (friends),existence,games, movies, media,art,other sentiences' values | V146: [learning, understanding, love, sex, companionship (friends), existence, games, movies, media, art, other sentiences' values] | W146: [[Not something I value, 0], [A value of mine, but not an intrinisic value (I value it only because of what it causes), 1], [An intrinsic value of mine (I value it even if it causes nothing else), 2]] | Y146: 1 | Z146: 2 | AA146: 1 | AB146: 2 | AC146: 1 | AD146: 0 | AE146: 2 | AF146: 1 | AG146: 2 | AH146: 0 | AI146: 1 | AJ146: 1 | AK146: 2 | AL146: 1 | AM146: 1 | AN146: 2 | AO146: 2 | AP146: 2 | AQ146: 2 | AR146: 1 | AS146: 2 | AT146: 0 | AU146: 1 | AV146: 1 | AW146: 2 | AX146: 2 | AY146: 0 | AZ146: 2 | BA146: 2 | BB146: 1 | BC146: 1 | BD146: 2 | BE146: 2 | BF146: 2 | BG146: 2 | BH146: 2 | BI146: 1 | BJ146: 1 | BK146: 2 | BL146: 1 | BM146: 1 | BN146: 2 | BO146: 2 | BP146: 1 | BQ146: 2 | BR146: 1 | BS146: 2 | BT146: 2 | BU146: 0 | BV146: 1 | BW146: 2 | BX146: 2 | BY146: 1 | BZ146: 2 | CA146: 2 | CB146: 2 | CC146: 1 | CD146: 2 | CE146: 2 | CF146: 2 | CG146: 43212.43 | CJ146: 3 | CK146: 0 | CO146: Far Left | CP146: Far Left | CQ146: 1 | CR146: &Politics_PoliticalSelfPosition_Score=1 | CS146: worth it in its own right | CT146: 1 | CY146: 1 | CZ146: No | DA146: 1 | DB146: Yes | DC146: 1 | DD146: No | DE146: yjwwrlq,loyblsl,x34naaq,e98cezb,bz15rxo,9seol1h,f6aoczu,tfys9nh,7a2hyb1,p0pattz,tpc0o1f,rytm9f6,33ksqp9,9r1t3rh,zqv8d37,6ye7hrk,cl3xz2o,lp32tzz,r10kvni,ycvqx2r,4udr0wf,tap7yp7,8lc2rp7,nnnikwl,5p79zt1,s1ygz8e,ks3khiy,oqwzncg,chphkqo,g7x30fr,we9zef6,d1rdeyt,3mo7qil,7fbh60h,ve67ryu,9pj3mvf,yn9dzzq,uxw5h8v,prkoiue,rqiszcv,ieuyv2e,pbg7jqy,cwljlbf,rvjclrh,duvf5i5,ze3j4yw,cnktu1l,yv4sxs9,m4j75ti,b6so6w4,8ztjo6s,b3kxzzi,higviv5,p7miry7,eynzxu6,q2ws20f,sjyi06d,dy2r65d,tv60egf,whml14c,6z35kho,th6zdg0 | DF146: 0 | DG146: 1 | DH146: 1 | DI146: 28 | DJ146: male | DK146: Yes, I have heard that phrase used on multiple occasions | DL146: 1 | DM146: Partially | DN146: 0.5
... A161: 3187743 | B161: 73 | C161: 43212.094 | D161: 10.37 | E161: b5cslrl | G161: 3 | H161: 47 | L161: male | M161: 0 | T161: pursued and or valuer for itself, not as a means to something else (except something very abstract, like a good life) | U161: Ha, ha, ha, too many things to put in a list, sorry,joy,fame,respect,virtue,meaning,trascendence,art,faith,hope,love | V161: [Ha, ha, ha, too many things to put in a list, sorry, joy, fame, respect, virtue, meaning, trascendence, art, faith, hope, love] | W161: [[Not something I value, 0], [A value of mine, but not an intrinisic value (I value it only because of what it causes), 1], [An intrinsic value of mine (I value it even if it causes nothing else), 2]] | Y161: 0 | Z161: 2 | AA161: 0 | AB161: 2 | AC161: 1 | AD161: 0 | AE161: 2 | AF161: 1 | AG161: 1 | AH161: 0 | AI161: 2 | AJ161: 2 | AK161: 2 | AL161: 2 | AM161: 1 | AN161: 2 | AO161: 2 | AP161: 0 | AQ161: 1 | AR161: 0 | AS161: 2 | AT161: 0 | AU161: 0 | AV161: 0 | AW161: 2 | AX161: 2 | AY161: 2 | AZ161: 1 | BA161: 0 | BB161: 2 | BC161: 1 | BD161: 2 | BE161: 2 | BF161: 1 | BG161: 2 | BH161: 0 | BI161: 0 | BJ161: 0 | BK161: 0 | BL161: 0 | BM161: 0 | BN161: 2 | BO161: 1 | BP161: 2 | BQ161: 2 | BR161: 2 | BS161: 1 | BT161: 2 | BU161: 0 | BV161: 1 | BW161: 2 | BX161: 2 | BY161: 0 | BZ161: 0 | CA161: 0 | CB161: 2 | CC161: 1 | CD161: 2 | CE161: 1 | CF161: 2 | CG161: 43212.101 | CJ161: 3 | CK161: 0 | CO161: Far Left | CP161: Far Left | CQ161: 1 | CR161: &Politics_PoliticalSelfPosition_Score=1 | CS161: pursued and or valuer for itself, not as a means to something else (except something very abstract, like a good life) | CT161: 1 | CY161: 1 | CZ161: No | DA161: 1 | DB161: Yes | DC161: 1 | DD161: No | DE161: 33ksqp9,ve67ryu,oqwzncg,9seol1h,p7miry7,b6so6w4,lp32tzz,d1rdeyt,dy2r65d,m4j75ti,x34naaq,cwljlbf,tap7yp7,4udr0wf,eynzxu6,8ztjo6s,cl3xz2o,th6zdg0,zqv8d37,yv4sxs9,6ye7hrk,9pj3mvf,7a2hyb1,whml14c,5p79zt1,higviv5,b3kxzzi,tfys9nh,tpc0o1f,cnktu1l,yn9dzzq,ks3khiy,tv60egf,e98cezb,sjyi06d,bz15rxo,s1ygz8e,r10kvni,nnnikwl,uxw5h8v,we9zef6,ycvqx2r,prkoiue,yjwwrlq,9r1t3rh,7fbh60h,duvf5i5,chphkqo,rytm9f6,f6aoczu,g7x30fr,p0pattz,pbg7jqy,8lc2rp7,ze3j4yw,ieuyv2e,q2ws20f,3mo7qil,rqiszcv,6z35kho,loyblsl,rvjclrh | DF161: 0 | DG161: 1 | DH161: 1 | DI161: 47 | DJ161: male | DK161: Yes, I have heard that phrase used on multiple occasions | DL161: 1 | DM161: No, I am not one | DN161: 0
A162: 3187239 | B162: 73 | C162: 43211.787 | D162: 11.33 | E162: b5cslrl | G162: 1 | H162: 53 | L162: male | M162: 0 | T162: Something that is valued even if it causes no other value | U162: Wellbeing,Comfort,Joy,Personal development,Freedom,Safety | V162: [Wellbeing, Comfort, Joy, Personal development, Freedom, Safety] | W162: [[Not something I value, 0], [A value of mine, but not an intrinisic value (I value it only because of what it causes), 1], [An intrinsic value of mine (I value it even if it causes nothing else), 2]] | Y162: 0 | Z162: 0 | AA162: 2 | AB162: 2 | AC162: 2 | AD162: 2 | AE162: 2 | AF162: 1 | AG162: 1 | AH162: 0 | AI162: 2 | AJ162: 1 | AK162: 2 | AL162: 1 | AM162: 2 | AN162: 0 | AO162: 2 | AP162: 1 | AQ162: 1 | AR162: 1 | AS162: 0 | AT162: 1 | AU162: 1 | AV162: 2 | AW162: 1 | AX162: 1 | AY162: 0 | AZ162: 2 | BA162: 1 | BB162: 1 | BC162: 1 | BD162: 0 | BE162: 0 | BF162: 1 | BG162: 0 | BH162: 0 | BI162: 1 | BJ162: 1 | BK162: 0 | BL162: 2 | BM162: 1 | BN162: 1 | BO162: 1 | BP162: 1 | BQ162: 2 | BR162: 2 | BS162: 0 | BT162: 1 | BU162: 1 | BV162: 0 | BW162: 1 | BX162: 0 | BY162: 0 | BZ162: 1 | CA162: 0 | CB162: 1 | CC162: 1 | CD162: 1 | CE162: 2 | CF162: 2 | CG162: 43211.794 | CJ162: 2 | CK162: 0 | CO162: Right | CP162: Right | CQ162: 8 | CR162: &Politics_PoliticalSelfPosition_Score=8 | CS162: Something that is valued even if it causes no other value | CT162: 1 | CY162: 1 | CZ162: Yes | DA162: 0 | DB162: Yes | DC162: 1 | DD162: No | DE162: th6zdg0,cwljlbf,duvf5i5,tpc0o1f,9seol1h,8ztjo6s,cnktu1l,7a2hyb1,3mo7qil,9r1t3rh,yn9dzzq,ve67ryu,p7miry7,ycvqx2r,tap7yp7,nnnikwl,d1rdeyt,q2ws20f,7fbh60h,5p79zt1,8lc2rp7,oqwzncg,chphkqo,yjwwrlq,b6so6w4,ieuyv2e,eynzxu6,m4j75ti,6ye7hrk,sjyi06d,zqv8d37,higviv5,rvjclrh,33ksqp9,r10kvni,whml14c,4udr0wf,6z35kho,tfys9nh,we9zef6,rytm9f6,bz15rxo,yv4sxs9,x34naaq,ze3j4yw,b3kxzzi,uxw5h8v,dy2r65d,f6aoczu,loyblsl,ks3khiy,g7x30fr,rqiszcv,lp32tzz,cl3xz2o,s1ygz8e,e98cezb,9pj3mvf,pbg7jqy,tv60egf,prkoiue,p0pattz | DF162: 0 | DG162: 1 | DH162: 1 | DI162: 53 | DJ162: male | DK162: No, I do not recognize that phrase | DL162: 0 | DN162: 0
A163: 3187447 | B163: 73 | C163: 43211.907 | D163: 9.85 | E163: b5cslrl | G163: 1 | H163: 32 | L163: female | M163: 1 | T163: something that matters to someone but not because it absolutely leads to something else. | U163: family,love,purpose | V163: [family, love, purpose] | W163: [[Not something I value, 0], [A value of mine, but not an intrinisic value (I value it only because of what it causes), 1], [An intrinsic value of mine (I value it even if it causes nothing else), 2]] | Y163: 1 | Z163: 2 | AA163: 1 | AB163: 1 | AC163: 1 | AD163: 1 | AE163: 2 | AF163: 1 | AG163: 1 | AH163: 1 | AI163: 2 | AJ163: 1 | AK163: 2 | AL163: 2 | AM163: 1 | AN163: 2 | AO163: 2 | AP163: 0 | AQ163: 2 | AR163: 2 | AS163: 2 | AT163: 0 | AU163: 1 | AV163: 0 | AW163: 1 | AX163: 1 | AY163: 0 | AZ163: 1 | BA163: 2 | BB163: 2 | BC163: 1 | BD163: 1 | BE163: 1 | BF163: 1 | BG163: 1 | BH163: 0 | BI163: 1 | BJ163: 1 | BK163: 0 | BL163: 1 | BM163: 1 | BN163: 1 | BO163: 1 | BP163: 1 | BQ163: 2 | BR163: 1 | BS163: 1 | BT163: 1 | BU163: 0 | BV163: 2 | BW163: 2 | BX163: 1 | BY163: 1 | BZ163: 1 | CA163: 1 | CB163: 2 | CC163: 1 | CD163: 1 | CE163: 2 | CF163: 2 | CG163: 43211.914 | CJ163: 2 | CK163: 0 | CO163: Far Left | CP163: Far Left | CQ163: 1 | CR163: &Politics_PoliticalSelfPosition_Score=1 | CS163: something that matters to someone but not because it absolutely leads to something else. | CT163: 1 | CY163: 1 | CZ163: No | DA163: 1 | DB163: No | DC163: 0 | DD163: No | DE163: 9r1t3rh,p7miry7,yjwwrlq,g7x30fr,p0pattz,ieuyv2e,cnktu1l,cl3xz2o,yv4sxs9,q2ws20f,4udr0wf,3mo7qil,lp32tzz,tv60egf,33ksqp9,prkoiue,oqwzncg,uxw5h8v,e98cezb,rvjclrh,bz15rxo,rqiszcv,b6so6w4,cwljlbf,yn9dzzq,eynzxu6,9pj3mvf,pbg7jqy,dy2r65d,7fbh60h,duvf5i5,d1rdeyt,sjyi06d,ks3khiy,8ztjo6s,th6zdg0,higviv5,8lc2rp7,whml14c,6ye7hrk,zqv8d37,ve67ryu,loyblsl,s1ygz8e,f6aoczu,we9zef6,chphkqo,rytm9f6,ycvqx2r,x34naaq,tfys9nh,b3kxzzi,m4j75ti,r10kvni,7a2hyb1,5p79zt1,nnnikwl,ze3j4yw,tap7yp7,tpc0o1f,6z35kho,9seol1h | DF163: 1 | DG163: 1 | DH163: 1 | DI163: 32 | DJ163: female | DK163: No, I do not recognize that phrase | DL163: 0 | DN163: 0
A164: 3187879 | B164: 73 | C164: 43212.229 | D164: 9.1 | E164: b5cslrl | G164: 1 | H164: 38 | L164: female | M164: 1 | T164: Linked to a type of nostalgia or personal belief of the worth or value of something. Personal coloring of the worth of a thing. | U164: Time with family and friends, meeting new people,Living in my own home.,Swimming,Falling in love,I hope I'm thinking of "intrinsic" accurately. | V164: [Time with family and friends, meeting new people, Living in my own home., Swimming, Falling in love, I hope I'm thinking of "intrinsic" accurately.] | W164: [[Not something I value, 0], [A value of mine, but not an intrinisic value (I value it only because of what it causes), 1], [An intrinsic value of mine (I value it even if it causes nothing else), 2]] | Y164: 2 | Z164: 2 | AA164: 2 | AB164: 2 | AC164: 2 | AD164: 2 | AE164: 2 | AF164: 2 | AG164: 2 | AH164: 2 | AI164: 2 | AJ164: 2 | AK164: 2 | AL164: 2 | AM164: 2 | AN164: 2 | AO164: 2 | AP164: 2 | AQ164: 2 | AR164: 2 | AS164: 2 | AT164: 0 | AU164: 2 | AV164: 2 | AW164: 0 | AX164: 2 | AY164: 0 | AZ164: 2 | BA164: 2 | BB164: 2 | BC164: 2 | BD164: 2 | BE164: 2 | BF164: 2 | BG164: 2 | BH164: 2 | BI164: 2 | BJ164: 0 | BK164: 2 | BL164: 2 | BM164: 2 | BN164: 2 | BO164: 2 | BP164: 2 | BQ164: 2 | BR164: 2 | BS164: 2 | BT164: 2 | BU164: 0 | BV164: 2 | BW164: 2 | BX164: 2 | BY164: 2 | BZ164: 2 | CA164: 2 | CB164: 2 | CC164: 2 | CD164: 2 | CE164: 2 | CF164: 2 | CG164: 43212.235 | CJ164: 2 | CK164: 0 | CO164: Left of Center | CP164: Left of Center | CQ164: 5 | CR164: &Politics_PoliticalSelfPosition_Score=5 | CS164: Linked to a type of nostalgia or personal belief of the worth or value of something. Personal coloring of the worth of a thing. | CT164: 1 | CY164: 0 | CZ164: No | DA164: 1 | DB164: Yes | DC164: 1 | DD164: Yes | DE164: lp32tzz,bz15rxo,7fbh60h,d1rdeyt,x34naaq,e98cezb,prkoiue,sjyi06d,9pj3mvf,p7miry7,duvf5i5,oqwzncg,s1ygz8e,eynzxu6,rytm9f6,dy2r65d,5p79zt1,p0pattz,uxw5h8v,zqv8d37,ze3j4yw,q2ws20f,7a2hyb1,we9zef6,ve67ryu,tpc0o1f,nnnikwl,ycvqx2r,ieuyv2e,b3kxzzi,yn9dzzq,loyblsl,b6so6w4,th6zdg0,6ye7hrk,cnktu1l,8ztjo6s,rqiszcv,higviv5,yv4sxs9,tfys9nh,g7x30fr,6z35kho,33ksqp9,whml14c,3mo7qil,tv60egf,9r1t3rh,9seol1h,m4j75ti,f6aoczu,pbg7jqy,ks3khiy,yjwwrlq,rvjclrh,r10kvni,cwljlbf,chphkqo,tap7yp7,8lc2rp7,cl3xz2o,4udr0wf | DF164: 2 | DG164: 1 | DH164: 1 | DI164: 38 | DJ164: female | DK164: No, I do not recognize that phrase | DL164: 0 | DN164: 0
A165: 3187928 | B165: 73 | C165: 43212.27 | D165: 12.73 | E165: b5cslrl | G165: 1 | H165: 24 | L165: male | M165: 0 | T165: Something that one values that does not depend on ancillary results | U165: Pleasure | V165: [Pleasure] | W165: [[Not something I value, 0], [A value of mine, but not an intrinisic value (I value it only because of what it causes), 1], [An intrinsic value of mine (I value it even if it causes nothing else), 2]] | Y165: 0 | Z165: 1 | AA165: 0 | AB165: 0 | AC165: 1 | AD165: 0 | AE165: 2 | AF165: 0 | AG165: 0 | AH165: 0 | AI165: 1 | AJ165: 0 | AK165: 2 | AL165: 0 | AM165: 0 | AN165: 0 | AO165: 0 | AP165: 0 | AQ165: 0 | AR165: 0 | AS165: 0 | AT165: 0 | AU165: 0 | AV165: 0 | AW165: 0 | AX165: 0 | AY165: 0 | AZ165: 0 | BA165: 0 | BB165: 0 | BC165: 0 | BD165: 0 | BE165: 0 | BF165: 1 | BG165: 0 | BH165: 0 | BI165: 0 | BJ165: 0 | BK165: 0 | BL165: 0 | BM165: 0 | BN165: 0 | BO165: 2 | BP165: 1 | BQ165: 1 | BR165: 0 | BS165: 0 | BT165: 1 | BU165: 0 | BV165: 1 | BW165: 0 | BX165: 0 | BY165: 0 | BZ165: 0 | CA165: 0 | CB165: 0 | CC165: 1 | CD165: 1 | CE165: 0 | CF165: 2 | CG165: 43212.279 | CJ165: 2 | CK165: 0 | CO165: Center | CP165: Center | CQ165: 5.5 | CR165: &Politics_PoliticalSelfPosition_Score=5.5 | CS165: Something that one values that does not depend on ancillary results | CT165: 1 | CY165: 1 | CZ165: Yes | DA165: 0 | DB165: Yes | DC165: 1 | DD165: No | DE165: ycvqx2r,uxw5h8v,cl3xz2o,b6so6w4,tap7yp7,g7x30fr,6z35kho,f6aoczu,p7miry7,3mo7qil,ieuyv2e,sjyi06d,33ksqp9,tfys9nh,rqiszcv,7fbh60h,higviv5,ze3j4yw,we9zef6,zqv8d37,yjwwrlq,ve67ryu,5p79zt1,4udr0wf,yv4sxs9,r10kvni,chphkqo,cnktu1l,7a2hyb1,p0pattz,dy2r65d,eynzxu6,loyblsl,8ztjo6s,9pj3mvf,whml14c,d1rdeyt,rvjclrh,9seol1h,6ye7hrk,e98cezb,pbg7jqy,rytm9f6,tpc0o1f,th6zdg0,9r1t3rh,x34naaq,ks3khiy,b3kxzzi,duvf5i5,bz15rxo,nnnikwl,cwljlbf,prkoiue,yn9dzzq,lp32tzz,q2ws20f,s1ygz8e,oqwzncg,8lc2rp7,tv60egf,m4j75ti | DF165: 0 | DG165: 0 | DH165: 1 | DI165: 24 | DJ165: male | DK165: No, I do not recognize that phrase | DL165: 0 | DN165: 0
A166: 3188119 | B166: 73 | C166: 43212.467 | D166: 11.92 | E166: b5cslrl | G166: 1 | H166: 26 | L166: male | M166: 0 | T166: describes sth. which in isolation and with no consequence because of it, is valued. | U166: Books,Sex,Hegel | V166: [Books, Sex, Hegel] | W166: [[Not something I value, 0], [A value of mine, but not an intrinisic value (I value it only because of what it causes), 1], [An intrinsic value of mine (I value it even if it causes nothing else), 2]] | Y166: 0 | Z166: 2 | AA166: 2 | AB166: 2 | AC166: 2 | AD166: 0 | AE166: 0 | AF166: 2 | AG166: 1 | AH166: 1 | AI166: 2 | AJ166: 2 | AK166: 0 | AL166: 1 | AM166: 2 | AN166: 0 | AO166: 2 | AP166: 0 | AQ166: 2 | AR166: 0 | AS166: 2 | AT166: 1 | AU166: 1 | AV166: 0 | AW166: 2 | AX166: 0 | AY166: 0 | AZ166: 1 | BA166: 1 | BB166: 2 | BC166: 0 | BD166: 0 | BE166: 1 | BF166: 2 | BG166: 0 | BH166: 0 | BI166: 2 | BJ166: 2 | BK166: 1 | BL166: 0 | BM166: 0 | BN166: 1 | BO166: 2 | BP166: 0 | BQ166: 2 | BR166: 2 | BS166: 0 | BT166: 0 | BU166: 0 | BV166: 2 | BW166: 1 | BX166: 1 | BY166: 0 | BZ166: 0 | CA166: 0 | CB166: 1 | CC166: 0 | CD166: 1 | CE166: 2 | CF166: 1 | CG166: 43212.475 | CJ166: 2 | CK166: 0 | CO166: Moderately Right-leaning | CP166: Moderately Right-leaning | CQ166: 7 | CR166: &Politics_PoliticalSelfPosition_Score=7 | CS166: describes sth. which in isolation and with no consequence because of it, is valued. | CT166: 1 | CY166: 1 | CZ166: Yes | DA166: 0 | DB166: Yes | DC166: 1 | DD166: No | DE166: 8lc2rp7,duvf5i5,ve67ryu,prkoiue,tpc0o1f,e98cezb,9pj3mvf,chphkqo,oqwzncg,yv4sxs9,p0pattz,x34naaq,eynzxu6,f6aoczu,m4j75ti,b6so6w4,6z35kho,cnktu1l,whml14c,3mo7qil,7a2hyb1,sjyi06d,g7x30fr,nnnikwl,9r1t3rh,rytm9f6,6ye7hrk,yn9dzzq,p7miry7,ieuyv2e,yjwwrlq,uxw5h8v,b3kxzzi,we9zef6,8ztjo6s,d1rdeyt,rqiszcv,5p79zt1,pbg7jqy,7fbh60h,ks3khiy,lp32tzz,cwljlbf,cl3xz2o,ze3j4yw,tfys9nh,tv60egf,higviv5,rvjclrh,bz15rxo,ycvqx2r,tap7yp7,th6zdg0,zqv8d37,s1ygz8e,dy2r65d,33ksqp9,loyblsl,q2ws20f,9seol1h,4udr0wf,r10kvni | DF166: 0 | DG166: 0 | DH166: 1 | DI166: 26 | DJ166: male | DK166: No, I do not recognize that phrase | DL166: 0 | DN166: 0
A167: 3188240 | B167: 73 | C167: 43212.558 | D167: 5 | E167: b5cslrl | G167: 1 | H167: 30 | L167: male | M167: 0 | T167: something that is valuable even when it doesn't lead to anything happen | U167: Positive emotions | V167: [Positive emotions] | W167: [[Not something I value, 0], [A value of mine, but not an intrinisic value (I value it only because of what it causes), 1], [An intrinsic value of mine (I value it even if it causes nothing else), 2]] | Y167: 1 | Z167: 1 | AA167: 2 | AB167: 2 | AC167: 2 | AD167: 2 | AE167: 2 | AF167: 2 | AG167: 2 | AH167: 2 | AI167: 2 | AJ167: 2 | AK167: 2 | AL167: 2 | AM167: 2 | AN167: 2 | AO167: 2 | AP167: 2 | AQ167: 2 | AR167: 2 | AS167: 2 | AT167: 2 | AU167: 2 | AV167: 2 | AW167: 2 | AX167: 2 | AY167: 2 | AZ167: 2 | BA167: 2 | BB167: 1 | BC167: 2 | BD167: 2 | BE167: 2 | BF167: 2 | BG167: 2 | BH167: 2 | BI167: 2 | BJ167: 2 | BK167: 2 | BL167: 2 | BM167: 2 | BN167: 2 | BO167: 2 | BP167: 0 | BQ167: 2 | BR167: 2 | BS167: 1 | BT167: 2 | BU167: 2 | BV167: 2 | BW167: 2 | BX167: 2 | BY167: 2 | BZ167: 2 | CA167: 2 | CB167: 2 | CC167: 2 | CD167: 2 | CE167: 1 | CF167: 2 | CG167: 43212.562 | CJ167: 2 | CK167: 0 | CO167: Moderately Left-leaning | CP167: Moderately Left-leaning | CQ167: 4 | CR167: &Politics_PoliticalSelfPosition_Score=4 | CS167: something that is valuable even when it doesn't lead to anything happen | CT167: 1 | CY167: 1 | CZ167: Yes | DA167: 0 | DB167: Yes | DC167: 1 | DD167: No | DE167: tfys9nh,3mo7qil,33ksqp9,duvf5i5,4udr0wf,9seol1h,we9zef6,prkoiue,oqwzncg,nnnikwl,zqv8d37,rytm9f6,yv4sxs9,uxw5h8v,rvjclrh,7fbh60h,rqiszcv,b6so6w4,ve67ryu,cl3xz2o,cnktu1l,tap7yp7,g7x30fr,pbg7jqy,ieuyv2e,p7miry7,6ye7hrk,th6zdg0,5p79zt1,cwljlbf,x34naaq,bz15rxo,lp32tzz,b3kxzzi,yjwwrlq,p0pattz,dy2r65d,7a2hyb1,tv60egf,r10kvni,d1rdeyt,m4j75ti,loyblsl,higviv5,6z35kho,tpc0o1f,8ztjo6s,eynzxu6,f6aoczu,ks3khiy,sjyi06d,8lc2rp7,ycvqx2r,e98cezb,s1ygz8e,yn9dzzq,chphkqo,ze3j4yw,9r1t3rh,q2ws20f,whml14c,9pj3mvf | DF167: 2 | DG167: 2 | DH167: 1 | DI167: 30 | DJ167: male | DK167: No, I do not recognize that phrase | DL167: 0 | DN167: 0
A168: 3188555 | B168: 73 | C168: 43212.771 | D168: 12.12 | E168: b5cslrl | G168: 1 | H168: 29 | L168: female | M168: 1 | T168: an object or experience that has value by virtue of its basic existence or occurrence and that does not result in some secondary or follow up benefit or result | U168: playing music,expressing love to someone I care about,showing kindness to others | V168: [playing music, expressing love to someone I care about, showing kindness to others] | W168: [[Not something I value, 0], [A value of mine, but not an intrinisic value (I value it only because of what it causes), 1], [An intrinsic value of mine (I value it even if it causes nothing else), 2]] | Y168: 1 | Z168: 2 | AA168: 1 | AB168: 1 | AC168: 2 | AD168: 1 | AE168: 2 | AF168: 2 | AG168: 1 | AH168: 1 | AI168: 2 | AJ168: 1 | AK168: 1 | AL168: 2 | AM168: 2 | AN168: 2 | AO168: 2 | AP168: 0 | AQ168: 1 | AR168: 1 | AS168: 1 | AT168: 0 | AU168: 1 | AV168: 1 | AW168: 1 | AX168: 1 | AY168: 2 | AZ168: 1 | BA168: 1 | BB168: 1 | BC168: 1 | BD168: 1 | BE168: 1 | BF168: 1 | BG168: 1 | BH168: 0 | BI168: 1 | BJ168: 0 | BK168: 1 | BL168: 1 | BM168: 1 | BN168: 1 | BO168: 1 | BP168: 1 | BQ168: 2 | BR168: 1 | BS168: 2 | BT168: 2 | BU168: 2 | BV168: 2 | BW168: 1 | BX168: 1 | BY168: 1 | BZ168: 1 | CA168: 0 | CB168: 1 | CC168: 0 | CD168: 1 | CE168: 1 | CF168: 1 | CG168: 43212.78 | CJ168: 2 | CK168: 0 | CO168: Moderately Left-leaning | CP168: Moderately Left-leaning | CQ168: 4 | CR168: &Politics_PoliticalSelfPosition_Score=4 | CS168: an object or experience that has value by virtue of its basic existence or occurrence and that does not result in some secondary or follow up benefit or result | CT168: 1 | CY168: 1 | CZ168: Yes | DA168: 0 | DB168: Yes | DC168: 1 | DD168: No | DE168: r10kvni,f6aoczu,uxw5h8v,ieuyv2e,b6so6w4,eynzxu6,cnktu1l,ks3khiy,tpc0o1f,p7miry7,tv60egf,7fbh60h,rytm9f6,7a2hyb1,cwljlbf,p0pattz,b3kxzzi,yn9dzzq,5p79zt1,whml14c,s1ygz8e,prkoiue,yv4sxs9,e98cezb,8ztjo6s,m4j75ti,8lc2rp7,loyblsl,cl3xz2o,nnnikwl,higviv5,zqv8d37,g7x30fr,yjwwrlq,tfys9nh,sjyi06d,q2ws20f,rqiszcv,x34naaq,lp32tzz,pbg7jqy,6ye7hrk,th6zdg0,dy2r65d,chphkqo,rvjclrh,ze3j4yw,ve67ryu,d1rdeyt,6z35kho,we9zef6,duvf5i5,bz15rxo,3mo7qil,ycvqx2r,9r1t3rh,4udr0wf,oqwzncg,tap7yp7,9seol1h,33ksqp9,9pj3mvf | DF168: 1 | DG168: 1 | DH168: 1 | DI168: 29 | DJ168: female | DK168: No, I do not recognize that phrase | DL168: 0 | DN168: 0
A169: 3188563 | B169: 73 | C169: 43212.778 | D169: 21.22 | E169: b5cslrl | G169: 1 | H169: 27 | L169: male | M169: 0 | T169: Stand alone importance | U169: Travel,Learning | V169: [Travel, Learning] | W169: [[Not something I value, 0], [A value of mine, but not an intrinisic value (I value it only because of what it causes), 1], [An intrinsic value of mine (I value it even if it causes nothing else), 2]] | Y169: 2 | Z169: 2 | AA169: 2 | AB169: 1 | AC169: 1 | AD169: 1 | AE169: 2 | AF169: 2 | AG169: 1 | AH169: 1 | AI169: 2 | AJ169: 2 | AK169: 2 | AL169: 2 | AM169: 1 | AN169: 2 | AO169: 2 | AP169: 2 | AQ169: 2 | AR169: 2 | AS169: 2 | AT169: 1 | AU169: 1 | AV169: 2 | AW169: 1 | AX169: 1 | AY169: 1 | AZ169: 2 | BA169: 1 | BB169: 2 | BC169: 2 | BD169: 2 | BE169: 2 | BF169: 2 | BG169: 1 | BH169: 1 | BI169: 2 | BJ169: 1 | BK169: 1 | BL169: 1 | BM169: 1 | BN169: 2 | BO169: 2 | BP169: 1 | BQ169: 2 | BR169: 1 | BS169: 1 | BT169: 2 | BU169: 1 | BV169: 1 | BW169: 1 | BX169: 2 | BY169: 1 | BZ169: 2 | CA169: 1 | CB169: 2 | CC169: 1 | CD169: 2 | CE169: 1 | CF169: 1 | CG169: 43212.793 | CJ169: 2 | CK169: 0 | CO169: Moderately Left-leaning | CP169: Moderately Left-leaning | CQ169: 4 | CR169: &Politics_PoliticalSelfPosition_Score=4 | CS169: Stand alone importance | CT169: 1 | CY169: 1 | CZ169: Yes | DA169: 0 | DB169: Yes | DC169: 1 | DD169: No | DE169: oqwzncg,zqv8d37,nnnikwl,b6so6w4,8lc2rp7,th6zdg0,ieuyv2e,yjwwrlq,p0pattz,yn9dzzq,pbg7jqy,prkoiue,chphkqo,ve67ryu,tv60egf,5p79zt1,7fbh60h,f6aoczu,lp32tzz,eynzxu6,e98cezb,ycvqx2r,9seol1h,9r1t3rh,yv4sxs9,tap7yp7,6z35kho,g7x30fr,we9zef6,cwljlbf,q2ws20f,ks3khiy,6ye7hrk,whml14c,p7miry7,loyblsl,sjyi06d,higviv5,d1rdeyt,tfys9nh,ze3j4yw,3mo7qil,4udr0wf,rvjclrh,7a2hyb1,33ksqp9,dy2r65d,duvf5i5,8ztjo6s,m4j75ti,uxw5h8v,tpc0o1f,s1ygz8e,bz15rxo,r10kvni,b3kxzzi,rytm9f6,x34naaq,cl3xz2o,cnktu1l,9pj3mvf,rqiszcv | DF169: 0 | DG169: 0 | DH169: 1 | DI169: 27 | DJ169: male | DK169: No, I do not recognize that phrase | DL169: 0 | DN169: 0
A170: 3186154 | B170: 53 | C170: 43210.951 | D170: 4.93 | E170: l63lzmy | G170: 1 | H170: 31 | I170: 1987 | J170: Completed bachelor's degree (BA, AB, BS or other) | K170: 5 | L170: male | M170: 0 | N170: $60,000 to $84,999 | O170: 4 | P170: 72500 | Q170: United States | R170: desktop | S170: 43210.783 | T170: value that that thing has ‚Äúin itself | U170: house | V170: [house] | W170: [[Not something I value, 0], [A value of mine, but not an intrinisic value (I value it only because of what it causes), 1], [An intrinsic value of mine (I value it even if it causes nothing else), 2]] | X170: 6ye7hrk,eynzxu6,5p79zt1,g7x30fr,3mo7qil,ze3j4yw,ieuyv2e,b3kxzzi,m4j75ti,tv60egf,rytm9f6,7fbh60h,whml14c,tfys9nh,bz15rxo,pbg7jqy,r10kvni,8lc2rp7,9seol1h,cwljlbf,cl3xz2o,nnnikwl,cnktu1l,prkoiue,ycvqx2r,ve67ryu,higviv5,oqwzncg,yv4sxs9,tap7yp7,yjwwrlq,dy2r65d,zqv8d37,d1rdeyt,7a2hyb1,rqiszcv,e98cezb,chphkqo,uxw5h8v,33ksqp9,loyblsl,ks3khiy,8ztjo6s,6z35kho,p7miry7,s1ygz8e,duvf5i5,tpc0o1f,b6so6w4,4udr0wf,sjyi06d,p0pattz,rvjclrh,lp32tzz,yn9dzzq,we9zef6,th6zdg0,9pj3mvf,q2ws20f,f6aoczu | Y170: 1 | Z170: 1 | AA170: 1 | AB170: 1 | AC170: 1 | AD170: 1 | AE170: 1 | AF170: 1 | AG170: 1 | AH170: 1 | AI170: 1 | AJ170: 1 | AK170: 1 | AL170: 1 | AM170: 1 | AN170: 1 | AO170: 1 | AP170: 1 | AQ170: 1 | AR170: 1 | AS170: 1 | AT170: 2 | AU170: 1 | AV170: 1 | AW170: 1 | AX170: 1 | AY170: 1 | AZ170: 1 | BA170: 1 | BB170: 1 | BC170: 1 | BD170: 1 | BE170: 1 | BF170: 1 | BG170: 1 | BH170: 1 | BI170: 1 | BJ170: 1 | BK170: 1 | BL170: 1 | BM170: 1 | BN170: 1 | BO170: 1 | BP170: 1 | BQ170: 1 | BR170: 1 | BS170: 1 | BT170: 1 | BU170: 1 | BV170: 1 | BW170: 1 | BX170: 1 | BY170: 1 | BZ170: 1 | CA170: 1 | CB170: 1 | CC170: 1 | CD170: 1 | CE170: 1 | CF170: 1 | CG170: 43210.955 | CJ170: 2 | CK170: 0 | CO170: Left | CP170: Left | CQ170: 3 | CR170: &Politics_PoliticalSelfPosition_Score=3 | CS170: value that that thing has ‚Äúin itself | CT170: 1 | CX170: No | CY170: 1 | CZ170: No | DA170: 1 | DB170: No | DC170: 0 | DN170: 0
A171: 3186136 | B171: 53 | C171: 43210.95 | D171: 7.85 | E171: l63lzmy | G171: 1 | H171: 36 | I171: 1982 | J171: Completed master's degree (MA, MS, MEng, MEd, MBA, or other) | K171: 6 | L171: female | M171: 1 | N171: $40,000 to $59,999 | O171: 3 | P171: 50000 | Q171: United States | R171: desktop | S171: 43210.783 | T171: something that has value even if nothing occurs as a result of that thing | U171: knowledge,love,movies,laughter | V171: [knowledge, love, movies, laughter] | W171: [[Not something I value, 0], [A value of mine, but not an intrinisic value (I value it only because of what it causes), 1], [An intrinsic value of mine (I value it even if it causes nothing else), 2]] | X171: 8lc2rp7,cl3xz2o,prkoiue,yn9dzzq,b6so6w4,5p79zt1,p7miry7,p0pattz,m4j75ti,6ye7hrk,tv60egf,ieuyv2e,tap7yp7,4udr0wf,rvjclrh,cnktu1l,loyblsl,9seol1h,e98cezb,9pj3mvf,ze3j4yw,s1ygz8e,r10kvni,8ztjo6s,q2ws20f,pbg7jqy,eynzxu6,ycvqx2r,zqv8d37,yjwwrlq,dy2r65d,f6aoczu,tpc0o1f,6z35kho,whml14c,ks3khiy,sjyi06d,tfys9nh,uxw5h8v,lp32tzz,yv4sxs9,7fbh60h,oqwzncg,d1rdeyt,33ksqp9,higviv5,chphkqo,ve67ryu,nnnikwl,3mo7qil,th6zdg0,7a2hyb1,bz15rxo,duvf5i5,rqiszcv,b3kxzzi,rytm9f6,g7x30fr,we9zef6,cwljlbf | Y171: 1 | Z171: 1 | AA171: 1 | AB171: 1 | AC171: 0 | AD171: 0 | AE171: 2 | AF171: 1 | AG171: 2 | AH171: 0 | AI171: 2 | AJ171: 1 | AK171: 2 | AL171: 2 | AM171: 1 | AN171: 2 | AO171: 1 | AP171: 0 | AQ171: 2 | AR171: 2 | AS171: 1 | AT171: 0 | AU171: 2 | AV171: 2 | AW171: 2 | AX171: 2 | AY171: 0 | AZ171: 1 | BA171: 2 | BB171: 1 | BC171: 2 | BD171: 1 | BE171: 2 | BF171: 1 | BG171: 2 | BH171: 2 | BI171: 2 | BJ171: 1 | BK171: 1 | BL171: 1 | BM171: 2 | BN171: 2 | BO171: 1 | BP171: 1 | BQ171: 2 | BR171: 1 | BS171: 0 | BT171: 2 | BU171: 0 | BV171: 0 | BW171: 2 | BX171: 2 | BY171: 0 | BZ171: 2 | CA171: 0 | CB171: 2 | CC171: 1 | CD171: 2 | CE171: 2 | CF171: 2 | CG171: 43210.955 | CJ171: 2 | CK171: 0 | CO171: Very Left | CP171: Very Left | CQ171: 2 | CR171: &Politics_PoliticalSelfPosition_Score=2 | CS171: something that has value even if nothing occurs as a result of that thing | CT171: 1 | CX171: No | CY171: 1 | CZ171: Yes | DA171: 0 | DB171: Yes | DC171: 1 | DN171: 0
A172: 3186152 | B172: 53 | C172: 43210.951 | D172: 5.05 | E172: l63lzmy | G172: 3 | H172: 37 | I172: 1981 | J172: Completed trade/technical/vocational training | K172: 3 | L172: male | M172: 0 | N172: $40,000 to $59,999 | O172: 3 | P172: 50000 | Q172: United States | R172: desktop | S172: 43210.784 | T172: something that has value connected to someone personally but may not have value to someone else | U172: photograph of my deceased father,necklace from my mother,my pet dog,my music collection | V172: [photograph of my deceased father, necklace from my mother, my pet dog, my music collection] | W172: [[Not something I value, 0], [A value of mine, but not an intrinisic value (I value it only because of what it causes), 1], [An intrinsic value of mine (I value it even if it causes nothing else), 2]] | X172: duvf5i5,rqiszcv,uxw5h8v,cwljlbf,p0pattz,b6so6w4,dy2r65d,ycvqx2r,tap7yp7,we9zef6,th6zdg0,eynzxu6,ks3khiy,ze3j4yw,nnnikwl,8lc2rp7,6z35kho,rytm9f6,lp32tzz,sjyi06d,yjwwrlq,zqv8d37,8ztjo6s,f6aoczu,yn9dzzq,cl3xz2o,pbg7jqy,p7miry7,r10kvni,e98cezb,6ye7hrk,cnktu1l,g7x30fr,oqwzncg,ieuyv2e,loyblsl,s1ygz8e,chphkqo,3mo7qil,bz15rxo,prkoiue,q2ws20f,yv4sxs9,rvjclrh,9seol1h,7fbh60h,4udr0wf,d1rdeyt,m4j75ti,tv60egf,tfys9nh,7a2hyb1,higviv5,5p79zt1,9pj3mvf,33ksqp9,whml14c,ve67ryu,b3kxzzi,tpc0o1f | Y172: 0 | Z172: 1 | AA172: 1 | AB172: 0 | AC172: 1 | AD172: 0 | AE172: 1 | AF172: 1 | AG172: 1 | AH172: 0 | AI172: 0 | AJ172: 1 | AK172: 2 | AL172: 1 | AM172: 0 | AN172: 1 | AO172: 2 | AP172: 0 | AQ172: 1 | AR172: 1 | AS172: 1 | AT172: 0 | AU172: 0 | AV172: 0 | AW172: 1 | AX172: 0 | AY172: 1 | AZ172: 1 | BA172: 0 | BB172: 1 | BC172: 1 | BD172: 0 | BE172: 1 | BF172: 2 | BG172: 1 | BH172: 1 | BI172: 0 | BJ172: 1 | BK172: 1 | BL172: 0 | BM172: 0 | BN172: 1 | BO172: 1 | BP172: 0 | BQ172: 2 | BR172: 1 | BS172: 1 | BT172: 0 | BU172: 1 | BV172: 2 | BW172: 1 | BX172: 1 | BY172: 0 | BZ172: 0 | CA172: 1 | CB172: 1 | CC172: 1 | CD172: 2 | CE172: 2 | CF172: 1 | CG172: 43210.955 | CJ172: 3 | CK172: 0 | CO172: Very Right | CP172: Very Right | CQ172: 9 | CR172: &Politics_PoliticalSelfPosition_Score=9 | CS172: something that has value connected to someone personally but may not have value to someone else | CT172: 1 | CX172: No | CY172: 1 | CZ172: No | DA172: 1 | DB172: Yes | DC172: 1 | DN172: 0
A173: 3186176 | B173: 55 | C173: 43210.956 | D173: 6.35 | E173: l63lzmy | G173: 3 | H173: 30 | I173: 1988 | J173: Completed bachelor's degree (BA, AB, BS or other) | K173: 5 | L173: male | M173: 0 | N173: $40,000 to $59,999 | O173: 3 | P173: 50000 | Q173: India | R173: desktop | S173: 43210.787 | T173: something even if there is no possible positive outcome but still has value for us | U173: relationship | V173: [relationship] | W173: [[Not something I value, 0], [A value of mine, but not an intrinisic value (I value it only because of what it causes), 1], [An intrinsic value of mine (I value it even if it causes nothing else), 2]] | X173: rvjclrh,duvf5i5,tpc0o1f,ks3khiy,b6so6w4,8lc2rp7,7a2hyb1,b3kxzzi,cl3xz2o,ieuyv2e,f6aoczu,8ztjo6s,higviv5,r10kvni,3mo7qil,rytm9f6,4udr0wf,dy2r65d,uxw5h8v,p7miry7,nnnikwl,lp32tzz,pbg7jqy,cnktu1l,oqwzncg,ve67ryu,m4j75ti,cwljlbf,zqv8d37,g7x30fr,tfys9nh,6ye7hrk,yv4sxs9,sjyi06d,loyblsl,th6zdg0,eynzxu6,d1rdeyt,prkoiue,chphkqo,yn9dzzq,ze3j4yw,6z35kho,7fbh60h,we9zef6,p0pattz,tap7yp7,whml14c,ycvqx2r,s1ygz8e,33ksqp9,q2ws20f,bz15rxo,yjwwrlq,9pj3mvf,tv60egf,9seol1h,rqiszcv,5p79zt1,e98cezb | Y173: 0 | Z173: 1 | AA173: 1 | AB173: 1 | AC173: 1 | AD173: 1 | AE173: 2 | AF173: 1 | AG173: 2 | AH173: 2 | AI173: 2 | AJ173: 1 | AK173: 2 | AL173: 1 | AM173: 2 | AN173: 0 | AO173: 2 | AP173: 0 | AQ173: 1 | AR173: 2 | AS173: 2 | AT173: 0 | AU173: 1 | AV173: 1 | AW173: 1 | AX173: 1 | AY173: 2 | AZ173: 2 | BA173: 1 | BB173: 0 | BC173: 2 | BD173: 0 | BE173: 1 | BF173: 2 | BG173: 2 | BH173: 1 | BI173: 2 | BJ173: 1 | BK173: 1 | BL173: 0 | BM173: 1 | BN173: 1 | BO173: 2 | BP173: 2 | BQ173: 2 | BR173: 1 | BS173: 1 | BT173: 1 | BU173: 2 | BV173: 1 | BW173: 2 | BX173: 2 | BY173: 1 | BZ173: 1 | CA173: 2 | CB173: 2 | CC173: 1 | CD173: 2 | CE173: 2 | CF173: 2 | CG173: 43210.96 | CJ173: 3 | CK173: 0 | CO173: Left | CP173: Left | CQ173: 3 | CR173: &Politics_PoliticalSelfPosition_Score=3 | CS173: something even if there is no possible positive outcome but still has value for us | CT173: 1 | CX173: No | CY173: 1 | CZ173: No | DA173: 1 | DB173: Yes | DC173: 1 | DN173: 0
A174: 3186181 | B174: 55 | C174: 43210.958 | D174: 8.47 | E174: l63lzmy | G174: 3 | H174: 56 | I174: 1962 | J174: Completed bachelor's degree (BA, AB, BS or other) | K174: 5 | L174: female | M174: 1 | N174: $85,000 to $114,999 | O174: 5 | P174: 100000 | Q174: United States | R174: desktop | S174: 43210.79 | T174: Something that is important or valuable to a person; it is something they value that has meaning. | U174: I value strong family ties, health, philanthropy, honesty and trust. | V174: [I value strong family ties, health, philanthropy, honesty and trust.] | W174: [[Not something I value, 0], [A value of mine, but not an intrinisic value (I value it only because of what it causes), 1], [An intrinsic value of mine (I value it even if it causes nothing else), 2]] | X174: tv60egf,zqv8d37,ycvqx2r,loyblsl,th6zdg0,r10kvni,rqiszcv,m4j75ti,9pj3mvf,6z35kho,eynzxu6,8ztjo6s,oqwzncg,g7x30fr,ieuyv2e,yjwwrlq,bz15rxo,whml14c,lp32tzz,rvjclrh,ve67ryu,yn9dzzq,7fbh60h,yv4sxs9,tfys9nh,b6so6w4,d1rdeyt,b3kxzzi,9seol1h,p7miry7,p0pattz,s1ygz8e,tpc0o1f,prkoiue,tap7yp7,e98cezb,rytm9f6,7a2hyb1,5p79zt1,cl3xz2o,pbg7jqy,6ye7hrk,uxw5h8v,q2ws20f,3mo7qil,dy2r65d,f6aoczu,4udr0wf,ks3khiy,cnktu1l,ze3j4yw,higviv5,8lc2rp7,chphkqo,sjyi06d,duvf5i5,33ksqp9,nnnikwl,cwljlbf,we9zef6 | Y174: 1 | Z174: 1 | AA174: 1 | AB174: 2 | AC174: 1 | AD174: 2 | AE174: 2 | AF174: 2 | AG174: 1 | AH174: 2 | AI174: 1 | AJ174: 2 | AK174: 2 | AL174: 2 | AM174: 2 | AN174: 2 | AO174: 2 | AP174: 1 | AQ174: 2 | AR174: 2 | AS174: 2 | AT174: 0 | AU174: 2 | AV174: 0 | AW174: 2 | AX174: 2 | AY174: 2 | AZ174: 2 | BA174: 2 | BB174: 2 | BC174: 2 | BD174: 2 | BE174: 1 | BF174: 2 | BG174: 2 | BH174: 1 | BI174: 1 | BJ174: 2 | BK174: 2 | BL174: 1 | BM174: 1 | BN174: 2 | BO174: 0 | BP174: 1 | BQ174: 2 | BR174: 2 | BS174: 1 | BT174: 2 | BU174: 2 | BV174: 1 | BW174: 2 | BX174: 1 | BY174: 1 | BZ174: 0 | CA174: 2 | CB174: 2 | CC174: 0 | CD174: 1 | CE174: 2 | CF174: 0 | CG174: 43210.964 | CJ174: 3 | CK174: 0 | CO174: Center | CP174: Center | CQ174: 5.5 | CR174: &Politics_PoliticalSelfPosition_Score=5.5 | CS174: Something that is important or valuable to a person; it is something they value that has meaning. | CT174: 1 | CX174: No | CY174: 1 | CZ174: No | DA174: 1 | DB174: Yes | DC174: 1 | DN174: 0
A175: 3186184 | B175: 55 | C175: 43210.961 | D175: 7.35 | E175: l63lzmy | G175: 3 | H175: 36 | I175: 1982 | J175: Completed bachelor's degree (BA, AB, BS or other) | K175: 5 | L175: male | M175: 0 | N175: $10,000 to $24,999 | O175: 1 | P175: 17500 | Q175: United States | R175: desktop | S175: 43210.793 | T175: something that has value for someone by itself, even if nothing else happens as a result of it. | U175: my family,love,hope,friendship,pleasure,satisfaction,peace,serenity,my friends | V175: [my family, love, hope, friendship, pleasure, satisfaction, peace, serenity, my friends] | W175: [[Not something I value, 0], [A value of mine, but not an intrinisic value (I value it only because of what it causes), 1], [An intrinsic value of mine (I value it even if it causes nothing else), 2]] | X175: yn9dzzq,p0pattz,b3kxzzi,8ztjo6s,duvf5i5,bz15rxo,g7x30fr,m4j75ti,s1ygz8e,tap7yp7,eynzxu6,cwljlbf,3mo7qil,ieuyv2e,th6zdg0,loyblsl,pbg7jqy,b6so6w4,uxw5h8v,ks3khiy,6ye7hrk,6z35kho,d1rdeyt,p7miry7,yv4sxs9,8lc2rp7,q2ws20f,cnktu1l,ycvqx2r,rqiszcv,9seol1h,e98cezb,whml14c,f6aoczu,prkoiue,tfys9nh,oqwzncg,zqv8d37,tpc0o1f,7a2hyb1,5p79zt1,higviv5,7fbh60h,33ksqp9,tv60egf,rytm9f6,ze3j4yw,ve67ryu,9pj3mvf,rvjclrh,r10kvni,nnnikwl,cl3xz2o,lp32tzz,yjwwrlq,we9zef6,4udr0wf,dy2r65d,sjyi06d,chphkqo | Y175: 0 | Z175: 1 | AA175: 2 | AB175: 2 | AC175: 2 | AD175: 0 | AE175: 2 | AF175: 2 | AG175: 2 | AH175: 0 | AI175: 2 | AJ175: 1 | AK175: 2 | AL175: 1 | AM175: 2 | AN175: 0 | AO175: 2 | AP175: 0 | AQ175: 2 | AR175: 1 | AS175: 1 | AT175: 0 | AU175: 2 | AV175: 0 | AW175: 1 | AX175: 2 | AY175: 0 | AZ175: 2 | BA175: 0 | BB175: 1 | BC175: 2 | BD175: 1 | BE175: 0 | BF175: 2 | BG175: 2 | BH175: 0 | BI175: 1 | BJ175: 0 | BK175: 0 | BL175: 1 | BM175: 1 | BN175: 1 | BO175: 1 | BP175: 2 | BQ175: 2 | BR175: 2 | BS175: 0 | BT175: 2 | BU175: 0 | BV175: 1 | BW175: 2 | BX175: 0 | BY175: 0 | BZ175: 0 | CA175: 0 | CB175: 2 | CC175: 0 | CD175: 1 | CE175: 1 | CF175: 2 | CG175: 43210.966 | CJ175: 3 | CK175: 0 | CO175: Very Left | CP175: Very Left | CQ175: 2 | CR175: &Politics_PoliticalSelfPosition_Score=2 | CS175: something that has value for someone by itself, even if nothing else happens as a result of it. | CT175: 1 | CX175: No | CY175: 1 | CZ175: No | DA175: 1 | DB175: Yes | DC175: 1 | DN175: 0
A176: 3186209 | B176: 55 | C176: 43210.967 | D176: 9.37 | E176: l63lzmy | G176: 3 | H176: 22 | I176: 1996 | J176: Completed only high school or the equivalent (for example: GED), no college | K176: 2 | L176: female | M176: 1 | N176: $40,000 to $59,999 | O176: 3 | P176: 50000 | Q176: United States | R176: desktop | S176: 43210.799 | T176: something that people care about even if nothing happens from it; they care about it for its own sake | U176: kindness,hope,morality,courage,health,compassion,significant life events,family,love | V176: [kindness, hope, morality, courage, health, compassion, significant life events, family, love] | W176: [[Not something I value, 0], [A value of mine, but not an intrinisic value (I value it only because of what it causes), 1], [An intrinsic value of mine (I value it even if it causes nothing else), 2]] | X176: ks3khiy,p0pattz,higviv5,whml14c,loyblsl,yv4sxs9,oqwzncg,s1ygz8e,m4j75ti,eynzxu6,zqv8d37,we9zef6,q2ws20f,rytm9f6,e98cezb,7fbh60h,nnnikwl,chphkqo,f6aoczu,g7x30fr,d1rdeyt,5p79zt1,prkoiue,tv60egf,cwljlbf,yn9dzzq,ieuyv2e,9pj3mvf,r10kvni,lp32tzz,rqiszcv,ze3j4yw,9seol1h,cnktu1l,3mo7qil,th6zdg0,p7miry7,bz15rxo,7a2hyb1,b3kxzzi,uxw5h8v,6ye7hrk,ve67ryu,tfys9nh,tpc0o1f,b6so6w4,ycvqx2r,pbg7jqy,sjyi06d,tap7yp7,4udr0wf,8lc2rp7,33ksqp9,6z35kho,8ztjo6s,dy2r65d,cl3xz2o,duvf5i5,rvjclrh,yjwwrlq | Y176: 0 | Z176: 0 | AA176: 0 | AB176: 2 | AC176: 2 | AD176: 1 | AE176: 2 | AF176: 2 | AG176: 2 | AH176: 2 | AI176: 2 | AJ176: 2 | AK176: 2 | AL176: 2 | AM176: 0 | AN176: 2 | AO176: 2 | AP176: 1 | AQ176: 2 | AR176: 1 | AS176: 1 | AT176: 1 | AU176: 2 | AV176: 1 | AW176: 2 | AX176: 2 | AY176: 2 | AZ176: 2 | BA176: 2 | BB176: 2 | BC176: 2 | BD176: 2 | BE176: 2 | BF176: 2 | BG176: 2 | BH176: 2 | BI176: 1 | BJ176: 0 | BK176: 0 | BL176: 1 | BM176: 1 | BN176: 2 | BO176: 2 | BP176: 2 | BQ176: 1 | BR176: 2 | BS176: 0 | BT176: 2 | BU176: 1 | BV176: 2 | BW176: 2 | BX176: 2 | BY176: 2 | BZ176: 2 | CA176: 2 | CB176: 2 | CC176: 2 | CD176: 2 | CE176: 2 | CF176: 2 | CG176: 43210.974 | CJ176: 3 | CK176: 0 | CO176: Moderately Left-leaning | CP176: Moderately Left-leaning | CQ176: 4 | CR176: &Politics_PoliticalSelfPosition_Score=4 | CS176: something that people care about even if nothing happens from it; they care about it for its own sake | CT176: 1 | CX176: No | CY176: 1 | CZ176: No | DA176: 1 | DB176: Yes | DC176: 1 | DN176: 0
A177: 3186210 | B177: 55 | C177: 43210.968 | D177: 9.7 | E177: l63lzmy | G177: 3 | H177: 71 | I177: 1947 | J177: Completed master's degree (MA, MS, MEng, MEd, MBA, or other) | K177: 6 | L177: female | M177: 1 | N177: $85,000 to $114,999 | O177: 5 | P177: 100000 | Q177: United States | R177: desktop | S177: 43210.8 | T177: What I value from within not externally. | U177: children, husband, religion, friends, health, | V177: [children, husband, religion, friends, health,] | W177: [[Not something I value, 0], [A value of mine, but not an intrinisic value (I value it only because of what it causes), 1], [An intrinsic value of mine (I value it even if it causes nothing else), 2]] | X177: higviv5,9pj3mvf,e98cezb,8ztjo6s,p7miry7,chphkqo,tfys9nh,pbg7jqy,8lc2rp7,5p79zt1,cnktu1l,g7x30fr,rqiszcv,r10kvni,6ye7hrk,ieuyv2e,33ksqp9,s1ygz8e,lp32tzz,yv4sxs9,7a2hyb1,ze3j4yw,yn9dzzq,bz15rxo,nnnikwl,tpc0o1f,p0pattz,oqwzncg,m4j75ti,eynzxu6,6z35kho,7fbh60h,cwljlbf,whml14c,dy2r65d,duvf5i5,ve67ryu,loyblsl,th6zdg0,9seol1h,rytm9f6,yjwwrlq,tap7yp7,q2ws20f,3mo7qil,tv60egf,ks3khiy,b3kxzzi,zqv8d37,prkoiue,cl3xz2o,4udr0wf,rvjclrh,d1rdeyt,we9zef6,ycvqx2r,b6so6w4,uxw5h8v,f6aoczu,sjyi06d | Y177: 1 | Z177: 1 | AA177: 1 | AB177: 1 | AC177: 2 | AD177: 1 | AE177: 2 | AF177: 2 | AG177: 1 | AH177: 2 | AI177: 2 | AJ177: 2 | AK177: 2 | AL177: 2 | AM177: 2 | AN177: 2 | AO177: 2 | AP177: 2 | AQ177: 2 | AR177: 1 | AS177: 2 | AT177: 2 | AU177: 1 | AV177: 0 | AW177: 2 | AX177: 1 | AY177: 2 | AZ177: 2 | BA177: 0 | BB177: 2 | BC177: 2 | BD177: 1 | BE177: 1 | BF177: 2 | BG177: 1 | BH177: 2 | BI177: 1 | BJ177: 1 | BK177: 0 | BL177: 1 | BM177: 1 | BN177: 2 | BO177: 1 | BP177: 1 | BQ177: 1 | BR177: 1 | BS177: 0 | BT177: 2 | BU177: 2 | BV177: 2 | BW177: 2 | BX177: 1 | BY177: 0 | BZ177: 1 | CA177: 2 | CB177: 2 | CC177: 1 | CD177: 1 | CE177: 1 | CF177: 1 | CG177: 43210.975 | CJ177: 3 | CK177: 0 | CO177: Far Right | CP177: Far Right | CQ177: 10 | CR177: &Politics_PoliticalSelfPosition_Score=10 | CS177: What I value from within not externally. | CT177: 1 | CX177: No | CY177: 1 | CZ177: No | DA177: 1 | DB177: Yes | DC177: 1 | DN177: 0
A178: 3186255 | B178: 64 | C178: 43210.989 | D178: 5.5 | E178: l63lzmy | G178: 1 | H178: 29 | I178: 1989 | J178: Completed bachelor's degree (BA, AB, BS or other) | K178: 5 | L178: female | M178: 1 | N178: $200,000 or more | O178: 8 | P178: 225000 | Q178: United States | R178: desktop | S178: 43210.822 | T178: a value that I enjoy even if it doesn't give me any other benefits. | U178: spending time with my family,spending time with my friends,going to the beach,going to the zoo | V178: [spending time with my family, spending time with my friends, going to the beach, going to the zoo] | W178: [[Not something I value, 0], [A value of mine, but not an intrinisic value (I value it only because of what it causes), 1], [An intrinsic value of mine (I value it even if it causes nothing else), 2]] | X178: rqiszcv,cnktu1l,9pj3mvf,ycvqx2r,q2ws20f,yn9dzzq,th6zdg0,tap7yp7,g7x30fr,sjyi06d,rytm9f6,33ksqp9,s1ygz8e,3mo7qil,we9zef6,cl3xz2o,6z35kho,higviv5,zqv8d37,yjwwrlq,f6aoczu,b3kxzzi,pbg7jqy,chphkqo,eynzxu6,uxw5h8v,tv60egf,rvjclrh,p7miry7,5p79zt1,duvf5i5,7fbh60h,d1rdeyt,8ztjo6s,6ye7hrk,nnnikwl,8lc2rp7,tpc0o1f,lp32tzz,m4j75ti,dy2r65d,9seol1h,ze3j4yw,yv4sxs9,oqwzncg,tfys9nh,bz15rxo,ieuyv2e,ks3khiy,whml14c,cwljlbf,4udr0wf,b6so6w4,prkoiue,p0pattz,e98cezb,7a2hyb1,r10kvni,loyblsl,ve67ryu | Y178: 0 | Z178: 2 | AA178: 2 | AB178: 0 | AC178: 2 | AD178: 1 | AE178: 1 | AF178: 2 | AG178: 2 | AH178: 1 | AI178: 2 | AJ178: 2 | AK178: 2 | AL178: 2 | AM178: 2 | AN178: 1 | AO178: 2 | AP178: 0 | AQ178: 2 | AR178: 1 | AS178: 2 | AT178: 2 | AU178: 2 | AV178: 2 | AW178: 2 | AX178: 1 | AY178: 2 | AZ178: 2 | BA178: 0 | BB178: 2 | BC178: 2 | BD178: 2 | BE178: 0 | BF178: 2 | BG178: 2 | BH178: 0 | BI178: 2 | BJ178: 2 | BK178: 1 | BL178: 1 | BM178: 1 | BN178: 2 | BO178: 1 | BP178: 2 | BQ178: 2 | BR178: 2 | BS178: 0 | BT178: 2 | BU178: 2 | BV178: 1 | BW178: 1 | BX178: 2 | BY178: 2 | BZ178: 0 | CA178: 2 | CB178: 2 | CC178: 0 | CD178: 2 | CE178: 2 | CF178: 2 | CG178: 43210.993 | CJ178: 2 | CK178: 0 | CO178: Far Right | CP178: Far Right | CQ178: 10 | CR178: &Politics_PoliticalSelfPosition_Score=10 | CS178: a value that I enjoy even if it doesn't give me any other benefits. | CT178: 1 | CY178: 1 | CZ178: No | DA178: 1 | DB178: No | DC178: 0 | DD178: No | DN178: 0
A179: 3186249 | B179: 64 | C179: 43210.988 | D179: 7.97 | E179: l63lzmy | G179: 1 | H179: 40 | I179: 1978 | J179: Completed bachelor's degree (BA, AB, BS or other) | K179: 5 | L179: male | M179: 0 | N179: $10,000 to $24,999 | O179: 1 | P179: 17500 | Q179: United States | R179: desktop | S179: 43210.822 | T179: something that is valuable in and of itself | U179: pleasurable experiences,life | V179: [pleasurable experiences, life] | W179: [[Not something I value, 0], [A value of mine, but not an intrinisic value (I value it only because of what it causes), 1], [An intrinsic value of mine (I value it even if it causes nothing else), 2]] | X179: cnktu1l,8ztjo6s,m4j75ti,7fbh60h,6ye7hrk,ve67ryu,rvjclrh,9pj3mvf,ze3j4yw,d1rdeyt,bz15rxo,b3kxzzi,yv4sxs9,3mo7qil,ks3khiy,rqiszcv,nnnikwl,yjwwrlq,8lc2rp7,ieuyv2e,cwljlbf,duvf5i5,zqv8d37,6z35kho,f6aoczu,e98cezb,33ksqp9,s1ygz8e,b6so6w4,tpc0o1f,r10kvni,tfys9nh,chphkqo,9seol1h,loyblsl,oqwzncg,q2ws20f,dy2r65d,7a2hyb1,ycvqx2r,higviv5,p0pattz,g7x30fr,lp32tzz,pbg7jqy,th6zdg0,tv60egf,yn9dzzq,5p79zt1,p7miry7,uxw5h8v,rytm9f6,tap7yp7,eynzxu6,cl3xz2o,we9zef6,whml14c,4udr0wf,prkoiue,sjyi06d | Y179: 2 | Z179: 2 | AA179: 2 | AB179: 1 | AC179: 1 | AD179: 1 | AE179: 2 | AF179: 2 | AG179: 2 | AH179: 1 | AI179: 2 | AJ179: 2 | AK179: 2 | AL179: 2 | AM179: 1 | AN179: 2 | AO179: 2 | AP179: 2 | AQ179: 1 | AR179: 2 | AS179: 1 | AT179: 0 | AU179: 1 | AV179: 2 | AW179: 2 | AX179: 2 | AY179: 0 | AZ179: 2 | BA179: 2 | BB179: 2 | BC179: 2 | BD179: 1 | BE179: 2 | BF179: 2 | BG179: 2 | BH179: 1 | BI179: 1 | BJ179: 0 | BK179: 1 | BL179: 2 | BM179: 2 | BN179: 2 | BO179: 2 | BP179: 1 | BQ179: 1 | BR179: 2 | BS179: 0 | BT179: 2 | BU179: 0 | BV179: 1 | BW179: 2 | BX179: 2 | BY179: 2 | BZ179: 1 | CA179: 1 | CB179: 2 | CC179: 1 | CD179: 1 | CE179: 2 | CF179: 2 | CG179: 43210.994 | CJ179: 2 | CK179: 0 | CO179: Very Left | CP179: Very Left | CQ179: 2 | CR179: &Politics_PoliticalSelfPosition_Score=2 | CS179: something that is valuable in and of itself | CT179: 1 | CY179: 1 | CZ179: Yes | DA179: 0 | DB179: Yes | DC179: 1 | DD179: No | DN179: 0
A180: 3186282 | B180: 64 | C180: 43210.99 | D180: 5.67 | E180: l63lzmy | G180: 1 | H180: 49 | I180: 1969 | J180: Completed bachelor's degree (BA, AB, BS or other) | K180: 5 | L180: female | M180: 1 | N180: $85,000 to $114,999 | O180: 5 | P180: 100000 | Q180: United States | R180: desktop | S180: 43210.823 | T180: something that is a value by itself without any other use | U180: family,love,happiness,peace,vacations | V180: [family, love, happiness, peace, vacations] | W180: [[Not something I value, 0], [A value of mine, but not an intrinisic value (I value it only because of what it causes), 1], [An intrinsic value of mine (I value it even if it causes nothing else), 2]] | X180: ze3j4yw,ks3khiy,s1ygz8e,tv60egf,6ye7hrk,zqv8d37,ve67ryu,q2ws20f,ieuyv2e,4udr0wf,bz15rxo,ycvqx2r,higviv5,r10kvni,8lc2rp7,oqwzncg,rqiszcv,chphkqo,f6aoczu,yjwwrlq,rytm9f6,p0pattz,b6so6w4,pbg7jqy,rvjclrh,cwljlbf,e98cezb,sjyi06d,p7miry7,b3kxzzi,d1rdeyt,6z35kho,tpc0o1f,eynzxu6,7a2hyb1,we9zef6,th6zdg0,9pj3mvf,7fbh60h,lp32tzz,yv4sxs9,3mo7qil,g7x30fr,tap7yp7,8ztjo6s,dy2r65d,m4j75ti,9seol1h,nnnikwl,duvf5i5,cl3xz2o,loyblsl,cnktu1l,uxw5h8v,5p79zt1,prkoiue,33ksqp9,whml14c,yn9dzzq,tfys9nh | Y180: 0 | Z180: 2 | AA180: 2 | AB180: 0 | AC180: 2 | AD180: 0 | AE180: 1 | AF180: 2 | AG180: 2 | AH180: 2 | AI180: 2 | AJ180: 2 | AK180: 2 | AL180: 2 | AM180: 0 | AN180: 2 | AO180: 2 | AP180: 0 | AQ180: 1 | AR180: 1 | AS180: 2 | AT180: 2 | AU180: 1 | AV180: 0 | AW180: 2 | AX180: 0 | AY180: 2 | AZ180: 2 | BA180: 0 | BB180: 2 | BC180: 2 | BD180: 0 | BE180: 0 | BF180: 2 | BG180: 2 | BH180: 0 | BI180: 2 | BJ180: 0 | BK180: 1 | BL180: 0 | BM180: 0 | BN180: 0 | BO180: 1 | BP180: 2 | BQ180: 2 | BR180: 0 | BS180: 0 | BT180: 2 | BU180: 2 | BV180: 2 | BW180: 1 | BX180: 0 | BY180: 1 | BZ180: 0 | CA180: 2 | CB180: 2 | CC180: 0 | CD180: 2 | CE180: 2 | CF180: 1 | CG180: 43210.994 | CJ180: 2 | CK180: 0 | CO180: Far Right | CP180: Far Right | CQ180: 10 | CR180: &Politics_PoliticalSelfPosition_Score=10 | CS180: something that is a value by itself without any other use | CT180: 1 | CY180: 1 | CZ180: Yes | DA180: 0 | DB180: Yes | DC180: 1 | DD180: No | DN180: 0
A181: 3186264 | B181: 64 | C181: 43210.989 | D181: 8.65 | E181: l63lzmy | G181: 1 | H181: 31 | I181: 1987 | J181: Completed bachelor's degree (BA, AB, BS or other) | K181: 5 | L181: male | M181: 0 | N181: $40,000 to $59,999 | O181: 3 | P181: 50000 | Q181: United States | R181: desktop | S181: 43210.822 | T181: The acutal value of something devoid of other things. | U181: food,travel,family,fun,relaxing,music | V181: [food, travel, family, fun, relaxing, music] | W181: [[Not something I value, 0], [A value of mine, but not an intrinisic value (I value it only because of what it causes), 1], [An intrinsic value of mine (I value it even if it causes nothing else), 2]] | X181: loyblsl,cwljlbf,dy2r65d,th6zdg0,4udr0wf,p7miry7,8ztjo6s,nnnikwl,5p79zt1,3mo7qil,9pj3mvf,ycvqx2r,cnktu1l,f6aoczu,zqv8d37,yn9dzzq,s1ygz8e,chphkqo,d1rdeyt,7a2hyb1,m4j75ti,b3kxzzi,eynzxu6,we9zef6,ve67ryu,yv4sxs9,e98cezb,cl3xz2o,sjyi06d,7fbh60h,6z35kho,higviv5,duvf5i5,q2ws20f,ze3j4yw,tpc0o1f,oqwzncg,lp32tzz,prkoiue,pbg7jqy,rqiszcv,8lc2rp7,tap7yp7,6ye7hrk,g7x30fr,uxw5h8v,ieuyv2e,33ksqp9,9seol1h,rytm9f6,rvjclrh,yjwwrlq,r10kvni,p0pattz,tfys9nh,b6so6w4,tv60egf,ks3khiy,bz15rxo,whml14c | Y181: 1 | Z181: 2 | AA181: 2 | AB181: 2 | AC181: 2 | AD181: 2 | AE181: 1 | AF181: 2 | AG181: 2 | AH181: 0 | AI181: 2 | AJ181: 1 | AK181: 1 | AL181: 2 | AM181: 1 | AN181: 2 | AO181: 1 | AP181: 2 | AQ181: 1 | AR181: 2 | AS181: 2 | AT181: 0 | AU181: 2 | AV181: 2 | AW181: 1 | AX181: 2 | AY181: 1 | AZ181: 1 | BA181: 1 | BB181: 2 | BC181: 2 | BD181: 2 | BE181: 2 | BF181: 1 | BG181: 2 | BH181: 1 | BI181: 2 | BJ181: 1 | BK181: 1 | BL181: 2 | BM181: 2 | BN181: 2 | BO181: 2 | BP181: 2 | BQ181: 1 | BR181: 2 | BS181: 1 | BT181: 2 | BU181: 0 | BV181: 2 | BW181: 1 | BX181: 2 | BY181: 2 | BZ181: 1 | CA181: 2 | CB181: 2 | CC181: 0 | CD181: 1 | CE181: 2 | CF181: 1 | CG181: 43210.995 | CJ181: 2 | CK181: 0 | CO181: Right of Center | CP181: Right of Center | CQ181: 6 | CR181: &Politics_PoliticalSelfPosition_Score=6 | CS181: The acutal value of something devoid of other things. | CT181: 1 | CY181: 0 | CZ181: No | DA181: 1 | DB181: Yes | DC181: 1 | DD181: Yes | DN181: 0
A182: 3186313 | B182: 64 | C182: 43210.992 | D182: 5.87 | E182: l63lzmy | G182: 1 | H182: 30 | I182: 1988 | J182: Completed master's degree (MA, MS, MEng, MEd, MBA, or other) | K182: 6 | L182: male | M182: 0 | N182: $25,000 to $39,999 | O182: 2 | P182: 32500 | Q182: United States | R182: desktop | S182: 43210.824 | T182: something intangible value | U182: Ego friendly | V182: [Ego friendly] | W182: [[Not something I value, 0], [A value of mine, but not an intrinisic value (I value it only because of what it causes), 1], [An intrinsic value of mine (I value it even if it causes nothing else), 2]] | X182: cnktu1l,b3kxzzi,e98cezb,d1rdeyt,rqiszcv,duvf5i5,q2ws20f,th6zdg0,9seol1h,f6aoczu,p7miry7,tpc0o1f,r10kvni,we9zef6,s1ygz8e,rytm9f6,7a2hyb1,bz15rxo,higviv5,5p79zt1,cl3xz2o,6ye7hrk,ze3j4yw,ycvqx2r,pbg7jqy,dy2r65d,ieuyv2e,lp32tzz,tv60egf,chphkqo,m4j75ti,cwljlbf,b6so6w4,p0pattz,ks3khiy,rvjclrh,7fbh60h,9pj3mvf,yjwwrlq,sjyi06d,8lc2rp7,ve67ryu,nnnikwl,uxw5h8v,zqv8d37,tfys9nh,oqwzncg,6z35kho,prkoiue,loyblsl,33ksqp9,eynzxu6,whml14c,yn9dzzq,g7x30fr,8ztjo6s,yv4sxs9,3mo7qil,tap7yp7,4udr0wf | Y182: 1 | Z182: 1 | AA182: 1 | AB182: 2 | AC182: 2 | AD182: 1 | AE182: 0 | AF182: 1 | AG182: 2 | AH182: 2 | AI182: 1 | AJ182: 0 | AK182: 1 | AL182: 0 | AM182: 0 | AN182: 2 | AO182: 2 | AP182: 0 | AQ182: 0 | AR182: 2 | AS182: 1 | AT182: 2 | AU182: 2 | AV182: 2 | AW182: 1 | AX182: 2 | AY182: 2 | AZ182: 2 | BA182: 2 | BB182: 1 | BC182: 2 | BD182: 1 | BE182: 0 | BF182: 1 | BG182: 0 | BH182: 1 | BI182: 2 | BJ182: 1 | BK182: 2 | BL182: 0 | BM182: 1 | BN182: 1 | BO182: 1 | BP182: 0 | BQ182: 1 | BR182: 2 | BS182: 1 | BT182: 2 | BU182: 0 | BV182: 1 | BW182: 0 | BX182: 2 | BY182: 1 | BZ182: 1 | CA182: 2 | CB182: 1 | CC182: 2 | CD182: 1 | CE182: 1 | CF182: 0 | CG182: 43210.996 | CJ182: 2 | CK182: 0 | CO182: Very Left | CP182: Very Left | CQ182: 2 | CR182: &Politics_PoliticalSelfPosition_Score=2 | CS182: something intangible value | CT182: 1 | CY182: 1 | CZ182: Yes | DA182: 0 | DB182: Yes | DC182: 1 | DD182: No | DN182: 0
A183: 3186280 | B183: 64 | C183: 43210.99 | D183: 9.37 | E183: l63lzmy | G183: 1 | H183: 30 | I183: 1988 | J183: Completed associate degree only, no bachelor's degree (AA, AS or other) | K183: 4 | L183: male | M183: 0 | N183: $85,000 to $114,999 | O183: 5 | P183: 100000 | Q183: United States | R183: desktop | S183: 43210.822 | T183: It is a value people want even if nothing happens | U183: happiness, fun, adventure,fame,fun | V183: [happiness, fun, adventure, fame, fun] | W183: [[Not something I value, 0], [A value of mine, but not an intrinisic value (I value it only because of what it causes), 1], [An intrinsic value of mine (I value it even if it causes nothing else), 2]] | X183: s1ygz8e,oqwzncg,th6zdg0,b6so6w4,nnnikwl,yjwwrlq,bz15rxo,yn9dzzq,5p79zt1,8lc2rp7,p0pattz,ycvqx2r,tfys9nh,7fbh60h,7a2hyb1,eynzxu6,whml14c,ieuyv2e,yv4sxs9,f6aoczu,rytm9f6,chphkqo,dy2r65d,d1rdeyt,ks3khiy,higviv5,cwljlbf,6ye7hrk,4udr0wf,tv60egf,8ztjo6s,6z35kho,sjyi06d,rvjclrh,loyblsl,p7miry7,m4j75ti,tpc0o1f,tap7yp7,prkoiue,rqiszcv,q2ws20f,ze3j4yw,9seol1h,we9zef6,uxw5h8v,cnktu1l,lp32tzz,b3kxzzi,33ksqp9,3mo7qil,pbg7jqy,e98cezb,cl3xz2o,zqv8d37,g7x30fr,ve67ryu,duvf5i5,9pj3mvf,r10kvni | Y183: 0 | Z183: 1 | AA183: 1 | AB183: 0 | AC183: 2 | AD183: 0 | AE183: 2 | AF183: 2 | AG183: 2 | AH183: 2 | AI183: 2 | AJ183: 2 | AK183: 2 | AL183: 2 | AM183: 1 | AN183: 0 | AO183: 2 | AP183: 1 | AQ183: 1 | AR183: 1 | AS183: 1 | AT183: 1 | AU183: 1 | AV183: 1 | AW183: 1 | AX183: 1 | AY183: 2 | AZ183: 1 | BA183: 1 | BB183: 1 | BC183: 2 | BD183: 1 | BE183: 1 | BF183: 2 | BG183: 1 | BH183: 0 | BI183: 0 | BJ183: 0 | BK183: 0 | BL183: 1 | BM183: 1 | BN183: 2 | BO183: 1 | BP183: 1 | BQ183: 1 | BR183: 1 | BS183: 0 | BT183: 2 | BU183: 1 | BV183: 1 | BW183: 1 | BX183: 1 | BY183: 0 | BZ183: 0 | CA183: 1 | CB183: 2 | CC183: 1 | CD183: 1 | CE183: 0 | CF183: 1 | CG183: 43210.996 | CJ183: 2 | CK183: 0 | CO183: Left of Center | CP183: Left of Center | CQ183: 5 | CR183: &Politics_PoliticalSelfPosition_Score=5 | CS183: It is a value people want even if nothing happens | CT183: 1 | CY183: 0 | CZ183: No | DA183: 1 | DB183: Yes | DC183: 1 | DD183: Yes | DN183: 0
A184: 3186254 | B184: 64 | C184: 43210.989 | D184: 13.13 | E184: l63lzmy | G184: 1 | H184: 63 | I184: 1955 | J184: Completed associate degree only, no bachelor's degree (AA, AS or other) | K184: 4 | L184: male | M184: 0 | N184: $60,000 to $84,999 | O184: 4 | P184: 72500 | Q184: United States | R184: desktop | S184: 43210.822 | T184: An intrinsic value is something that if nothing else happens has value other than a material benefit. | U184: Love,Relationships,Nature,Wildlife,spirituality,beauty,grace,humanity,manners,friendships | V184: [Love, Relationships, Nature, Wildlife, spirituality, beauty, grace, humanity, manners, friendships] | W184: [[Not something I value, 0], [A value of mine, but not an intrinisic value (I value it only because of what it causes), 1], [An intrinsic value of mine (I value it even if it causes nothing else), 2]] | X184: yn9dzzq,9pj3mvf,8ztjo6s,d1rdeyt,b6so6w4,rytm9f6,uxw5h8v,33ksqp9,cl3xz2o,lp32tzz,f6aoczu,rqiszcv,nnnikwl,9seol1h,p0pattz,whml14c,6z35kho,chphkqo,g7x30fr,cwljlbf,prkoiue,q2ws20f,s1ygz8e,cnktu1l,duvf5i5,th6zdg0,r10kvni,rvjclrh,8lc2rp7,higviv5,7a2hyb1,we9zef6,4udr0wf,5p79zt1,3mo7qil,zqv8d37,tv60egf,eynzxu6,tfys9nh,bz15rxo,m4j75ti,oqwzncg,ks3khiy,6ye7hrk,dy2r65d,ze3j4yw,ycvqx2r,yv4sxs9,ieuyv2e,loyblsl,b3kxzzi,tpc0o1f,p7miry7,pbg7jqy,tap7yp7,ve67ryu,e98cezb,sjyi06d,yjwwrlq,7fbh60h | Y184: 1 | Z184: 2 | AA184: 1 | AB184: 1 | AC184: 1 | AD184: 1 | AE184: 1 | AF184: 2 | AG184: 1 | AH184: 1 | AI184: 2 | AJ184: 2 | AK184: 1 | AL184: 2 | AM184: 1 | AN184: 1 | AO184: 2 | AP184: 2 | AQ184: 2 | AR184: 2 | AS184: 1 | AT184: 0 | AU184: 1 | AV184: 1 | AW184: 1 | AX184: 0 | AY184: 1 | AZ184: 1 | BA184: 1 | BB184: 1 | BC184: 2 | BD184: 1 | BE184: 0 | BF184: 2 | BG184: 1 | BH184: 1 | BI184: 1 | BJ184: 1 | BK184: 1 | BL184: 2 | BM184: 1 | BN184: 1 | BO184: 1 | BP184: 1 | BQ184: 2 | BR184: 1 | BS184: 1 | BT184: 2 | BU184: 0 | BV184: 1 | BW184: 1 | BX184: 1 | BY184: 1 | BZ184: 0 | CA184: 1 | CB184: 2 | CC184: 0 | CD184: 1 | CE184: 2 | CF184: 1 | CG184: 43210.998 | CJ184: 2 | CK184: 0 | CO184: Left | CP184: Left | CQ184: 3 | CR184: &Politics_PoliticalSelfPosition_Score=3 | CS184: An intrinsic value is something that if nothing else happens has value other than a material benefit. | CT184: 1 | CY184: 1 | CZ184: Yes | DA184: 0 | DB184: Yes | DC184: 1 | DD184: No | DN184: 0
A185: 3186350 | B185: 64 | C185: 43210.994 | D185: 6.42 | E185: l63lzmy | G185: 1 | H185: 64 | I185: 1954 | J185: Completed trade/technical/vocational training | K185: 3 | L185: male | M185: 0 | N185: $25,000 to $39,999 | O185: 2 | P185: 32500 | Q185: United States | R185: desktop | S185: 43210.827 | T185: something that is personally valuable | U185: family,love,health | V185: [family, love, health] | W185: [[Not something I value, 0], [A value of mine, but not an intrinisic value (I value it only because of what it causes), 1], [An intrinsic value of mine (I value it even if it causes nothing else), 2]] | X185: yjwwrlq,b3kxzzi,nnnikwl,duvf5i5,eynzxu6,rytm9f6,9pj3mvf,6z35kho,7a2hyb1,33ksqp9,ks3khiy,rqiszcv,prkoiue,yn9dzzq,m4j75ti,6ye7hrk,cwljlbf,f6aoczu,zqv8d37,dy2r65d,loyblsl,ve67ryu,cl3xz2o,tpc0o1f,uxw5h8v,ieuyv2e,g7x30fr,e98cezb,r10kvni,tfys9nh,higviv5,4udr0wf,rvjclrh,3mo7qil,whml14c,th6zdg0,ze3j4yw,p7miry7,tv60egf,9seol1h,ycvqx2r,b6so6w4,7fbh60h,lp32tzz,q2ws20f,p0pattz,tap7yp7,pbg7jqy,cnktu1l,8ztjo6s,bz15rxo,sjyi06d,oqwzncg,chphkqo,d1rdeyt,s1ygz8e,yv4sxs9,8lc2rp7,5p79zt1,we9zef6 | Y185: 2 | Z185: 2 | AA185: 2 | AB185: 2 | AC185: 2 | AD185: 2 | AE185: 2 | AF185: 2 | AG185: 2 | AH185: 2 | AI185: 2 | AJ185: 2 | AK185: 2 | AL185: 2 | AM185: 2 | AN185: 2 | AO185: 2 | AP185: 0 | AQ185: 1 | AR185: 2 | AS185: 2 | AT185: 0 | AU185: 2 | AV185: 0 | AW185: 2 | AX185: 2 | AY185: 0 | AZ185: 2 | BA185: 2 | BB185: 2 | BC185: 2 | BD185: 0 | BE185: 0 | BF185: 2 | BG185: 2 | BH185: 0 | BI185: 2 | BJ185: 2 | BK185: 2 | BL185: 0 | BM185: 2 | BN185: 2 | BO185: 2 | BP185: 2 | BQ185: 2 | BR185: 0 | BS185: 2 | BT185: 2 | BU185: 0 | BV185: 2 | BW185: 2 | BX185: 2 | BY185: 0 | BZ185: 0 | CA185: 2 | CB185: 2 | CC185: 2 | CD185: 2 | CE185: 2 | CF185: 2 | CG185: 43210.999 | CJ185: 2 | CK185: 0 | CO185: Far Left | CP185: Far Left | CQ185: 1 | CR185: &Politics_PoliticalSelfPosition_Score=1 | CS185: something that is personally valuable | CT185: 1 | CY185: 0 | CZ185: No | DA185: 1 | DB185: Yes | DC185: 1 | DD185: Yes | DN185: 0
A186: 3186351 | B186: 64 | C186: 43210.994 | D186: 7.45 | E186: l63lzmy | G186: 1 | H186: 24 | I186: 1994 | J186: Completed associate degree only, no bachelor's degree (AA, AS or other) | K186: 4 | L186: female | M186: 1 | N186: $25,000 to $39,999 | O186: 2 | P186: 32500 | Q186: United States | R186: desktop | S186: 43210.827 | T186: Something that is in itself valuable. | U186: joy,excitement,hope | V186: [joy, excitement, hope] | W186: [[Not something I value, 0], [A value of mine, but not an intrinisic value (I value it only because of what it causes), 1], [An intrinsic value of mine (I value it even if it causes nothing else), 2]] | X186: f6aoczu,b3kxzzi,oqwzncg,9pj3mvf,pbg7jqy,dy2r65d,rvjclrh,yv4sxs9,yn9dzzq,we9zef6,tv60egf,33ksqp9,9seol1h,q2ws20f,6z35kho,4udr0wf,m4j75ti,nnnikwl,7fbh60h,tpc0o1f,g7x30fr,sjyi06d,p7miry7,prkoiue,cl3xz2o,ve67ryu,e98cezb,duvf5i5,uxw5h8v,zqv8d37,higviv5,7a2hyb1,yjwwrlq,d1rdeyt,lp32tzz,5p79zt1,rytm9f6,chphkqo,r10kvni,6ye7hrk,b6so6w4,cwljlbf,p0pattz,eynzxu6,tap7yp7,cnktu1l,loyblsl,ieuyv2e,3mo7qil,th6zdg0,ks3khiy,ycvqx2r,bz15rxo,tfys9nh,8ztjo6s,rqiszcv,ze3j4yw,whml14c,s1ygz8e,8lc2rp7 | Y186: 2 | Z186: 1 | AA186: 2 | AB186: 2 | AC186: 1 | AD186: 0 | AE186: 2 | AF186: 2 | AG186: 1 | AH186: 0 | AI186: 0 | AJ186: 1 | AK186: 2 | AL186: 2 | AM186: 0 | AN186: 2 | AO186: 2 | AP186: 2 | AQ186: 2 | AR186: 2 | AS186: 2 | AT186: 0 | AU186: 2 | AV186: 0 | AW186: 2 | AX186: 2 | AY186: 0 | AZ186: 2 | BA186: 0 | BB186: 1 | BC186: 2 | BD186: 2 | BE186: 1 | BF186: 2 | BG186: 2 | BH186: 2 | BI186: 2 | BJ186: 1 | BK186: 2 | BL186: 1 | BM186: 2 | BN186: 2 | BO186: 2 | BP186: 0 | BQ186: 1 | BR186: 1 | BS186: 0 | BT186: 2 | BU186: 0 | BV186: 1 | BW186: 2 | BX186: 2 | BY186: 2 | BZ186: 0 | CA186: 0 | CB186: 2 | CC186: 0 | CD186: 2 | CE186: 2 | CF186: 2 | CG186: 43211 | CJ186: 2 | CK186: 0 | CO186: Far Left | CP186: Far Left | CQ186: 1 | CR186: &Politics_PoliticalSelfPosition_Score=1 | CS186: Something that is in itself valuable. | CT186: 1 | CY186: 1 | CZ186: Yes | DA186: 0 | DB186: Yes | DC186: 1 | DD186: No | DN186: 0
A187: 3186356 | B187: 64 | C187: 43210.995 | D187: 6.73 | E187: l63lzmy | G187: 1 | H187: 36 | I187: 1982 | J187: Completed only high school or the equivalent (for example: GED), no college | K187: 2 | L187: male | M187: 0 | N187: $10,000 to $24,999 | O187: 1 | P187: 17500 | Q187: United States | R187: desktop | S187: 43210.828 | T187: something that alone without causing any other effects is still valuable. | U187: Love | V187: [Love] | W187: [[Not something I value, 0], [A value of mine, but not an intrinisic value (I value it only because of what it causes), 1], [An intrinsic value of mine (I value it even if it causes nothing else), 2]] | X187: r10kvni,rytm9f6,6z35kho,4udr0wf,yn9dzzq,zqv8d37,higviv5,d1rdeyt,b3kxzzi,f6aoczu,th6zdg0,9seol1h,uxw5h8v,9pj3mvf,loyblsl,yjwwrlq,cl3xz2o,m4j75ti,tv60egf,7a2hyb1,dy2r65d,tpc0o1f,cwljlbf,p0pattz,q2ws20f,p7miry7,yv4sxs9,cnktu1l,ze3j4yw,tfys9nh,bz15rxo,3mo7qil,rqiszcv,we9zef6,pbg7jqy,tap7yp7,6ye7hrk,5p79zt1,prkoiue,chphkqo,ieuyv2e,7fbh60h,sjyi06d,rvjclrh,lp32tzz,33ksqp9,nnnikwl,e98cezb,ycvqx2r,b6so6w4,g7x30fr,oqwzncg,ks3khiy,ve67ryu,duvf5i5,s1ygz8e,8lc2rp7,8ztjo6s,whml14c,eynzxu6 | Y187: 0 | Z187: 2 | AA187: 1 | AB187: 1 | AC187: 2 | AD187: 0 | AE187: 1 | AF187: 1 | AG187: 1 | AH187: 0 | AI187: 1 | AJ187: 0 | AK187: 1 | AL187: 1 | AM187: 1 | AN187: 1 | AO187: 1 | AP187: 1 | AQ187: 1 | AR187: 1 | AS187: 1 | AT187: 0 | AU187: 1 | AV187: 0 | AW187: 1 | AX187: 2 | AY187: 0 | AZ187: 1 | BA187: 1 | BB187: 0 | BC187: 1 | BD187: 1 | BE187: 0 | BF187: 1 | BG187: 1 | BH187: 0 | BI187: 1 | BJ187: 1 | BK187: 0 | BL187: 0 | BM187: 0 | BN187: 1 | BO187: 1 | BP187: 0 | BQ187: 2 | BR187: 1 | BS187: 0 | BT187: 1 | BU187: 0 | BV187: 1 | BW187: 1 | BX187: 1 | BY187: 0 | BZ187: 1 | CA187: 0 | CB187: 1 | CC187: 0 | CD187: 1 | CE187: 1 | CF187: 1 | CG187: 43211 | CJ187: 2 | CK187: 0 | CO187: Left of Center | CP187: Left of Center | CQ187: 5 | CR187: &Politics_PoliticalSelfPosition_Score=5 | CS187: something that alone without causing any other effects is still valuable. | CT187: 1 | CY187: 1 | CZ187: Yes | DA187: 0 | DB187: Yes | DC187: 1 | DD187: No | DN187: 0
A188: 3186253 | B188: 64 | C188: 43210.989 | D188: 16.53 | E188: l63lzmy | G188: 1 | H188: 35 | I188: 1983 | J188: Completed trade/technical/vocational training | K188: 3 | L188: male | M188: 0 | N188: $40,000 to $59,999 | O188: 3 | P188: 50000 | Q188: United States | R188: desktop | S188: 43210.822 | T188: something that is valued in and of itself. If nothing else happens as a result of it, it is still valued by itself for its own sake of having existed. | U188: consciousness,wisdom,freedom,compassion,knowledge | V188: [consciousness, wisdom, freedom, compassion, knowledge] | W188: [[Not something I value, 0], [A value of mine, but not an intrinisic value (I value it only because of what it causes), 1], [An intrinsic value of mine (I value it even if it causes nothing else), 2]] | X188: uxw5h8v,oqwzncg,cl3xz2o,b6so6w4,lp32tzz,th6zdg0,tpc0o1f,eynzxu6,yjwwrlq,yv4sxs9,33ksqp9,whml14c,cnktu1l,higviv5,6ye7hrk,r10kvni,ieuyv2e,p7miry7,tap7yp7,ve67ryu,p0pattz,zqv8d37,duvf5i5,8ztjo6s,prkoiue,s1ygz8e,6z35kho,ks3khiy,q2ws20f,nnnikwl,rqiszcv,sjyi06d,f6aoczu,dy2r65d,9seol1h,7fbh60h,tv60egf,rytm9f6,ycvqx2r,ze3j4yw,we9zef6,4udr0wf,m4j75ti,loyblsl,cwljlbf,yn9dzzq,8lc2rp7,tfys9nh,b3kxzzi,3mo7qil,rvjclrh,d1rdeyt,pbg7jqy,7a2hyb1,9pj3mvf,chphkqo,5p79zt1,e98cezb,bz15rxo,g7x30fr | Y188: 1 | Z188: 2 | AA188: 1 | AB188: 2 | AC188: 2 | AD188: 0 | AE188: 0 | AF188: 2 | AG188: 1 | AH188: 2 | AI188: 2 | AJ188: 1 | AK188: 1 | AL188: 1 | AM188: 2 | AN188: 2 | AO188: 2 | AP188: 1 | AQ188: 1 | AR188: 2 | AS188: 2 | AT188: 0 | AU188: 1 | AV188: 1 | AW188: 2 | AX188: 2 | AY188: 0 | AZ188: 1 | BA188: 2 | BB188: 1 | BC188: 2 | BD188: 2 | BE188: 1 | BF188: 2 | BG188: 1 | BH188: 1 | BI188: 0 | BJ188: 2 | BK188: 1 | BL188: 1 | BM188: 2 | BN188: 1 | BO188: 1 | BP188: 0 | BQ188: 2 | BR188: 1 | BS188: 2 | BT188: 2 | BU188: 0 | BV188: 1 | BW188: 1 | BX188: 2 | BY188: 2 | BZ188: 1 | CA188: 1 | CB188: 2 | CC188: 0 | CD188: 2 | CE188: 2 | CF188: 1 | CG188: 43211 | CJ188: 2 | CK188: 0 | CO188: Moderately Left-leaning | CP188: Moderately Left-leaning | CQ188: 4 | CR188: &Politics_PoliticalSelfPosition_Score=4 | CS188: something that is valued in and of itself. If nothing else happens as a result of it, it is still valued by itself for its own sake of having existed. | CT188: 1 | CY188: 1 | CZ188: Yes | DA188: 0 | DB188: Yes | DC188: 1 | DD188: No | DN188: 0
A189: 3186357 | B189: 64 | C189: 43210.995 | D189: 7.23 | E189: l63lzmy | G189: 1 | H189: 40 | I189: 1978 | J189: Completed doctorate degree (PhD, PsyD, EdD or other.) | K189: 8 | L189: male | M189: 0 | N189: $40,000 to $59,999 | O189: 3 | P189: 50000 | Q189: United States | R189: desktop | S189: 43210.828 | T189: something that has value regardless of external factors. | U189: love,sex,joy,travel | V189: [love, sex, joy, travel] | W189: [[Not something I value, 0], [A value of mine, but not an intrinisic value (I value it only because of what it causes), 1], [An intrinsic value of mine (I value it even if it causes nothing else), 2]] | X189: d1rdeyt,uxw5h8v,s1ygz8e,lp32tzz,we9zef6,9seol1h,q2ws20f,ks3khiy,8ztjo6s,rvjclrh,tv60egf,yjwwrlq,tap7yp7,yv4sxs9,g7x30fr,tfys9nh,higviv5,dy2r65d,4udr0wf,eynzxu6,5p79zt1,7a2hyb1,3mo7qil,cnktu1l,duvf5i5,e98cezb,whml14c,p0pattz,rqiszcv,cwljlbf,ve67ryu,cl3xz2o,loyblsl,yn9dzzq,ycvqx2r,th6zdg0,ieuyv2e,f6aoczu,tpc0o1f,m4j75ti,7fbh60h,ze3j4yw,6z35kho,pbg7jqy,p7miry7,sjyi06d,33ksqp9,9pj3mvf,bz15rxo,b3kxzzi,6ye7hrk,8lc2rp7,prkoiue,nnnikwl,chphkqo,zqv8d37,b6so6w4,oqwzncg,rytm9f6,r10kvni | Y189: 0 | Z189: 2 | AA189: 1 | AB189: 2 | AC189: 2 | AD189: 0 | AE189: 1 | AF189: 2 | AG189: 1 | AH189: 0 | AI189: 2 | AJ189: 2 | AK189: 2 | AL189: 2 | AM189: 2 | AN189: 2 | AO189: 2 | AP189: 1 | AQ189: 2 | AR189: 1 | AS189: 2 | AT189: 0 | AU189: 1 | AV189: 0 | AW189: 2 | AX189: 2 | AY189: 0 | AZ189: 2 | BA189: 2 | BB189: 1 | BC189: 1 | BD189: 2 | BE189: 1 | BF189: 1 | BG189: 2 | BH189: 1 | BI189: 2 | BJ189: 1 | BK189: 1 | BL189: 1 | BM189: 2 | BN189: 1 | BO189: 1 | BP189: 1 | BQ189: 2 | BR189: 1 | BS189: 1 | BT189: 1 | BU189: 0 | BV189: 1 | BW189: 1 | BX189: 1 | BY189: 2 | BZ189: 0 | CA189: 1 | CB189: 2 | CC189: 1 | CD189: 2 | CE189: 2 | CF189: 1 | CG189: 43211 | CJ189: 2 | CK189: 0 | CO189: Far Left | CP189: Far Left | CQ189: 1 | CR189: &Politics_PoliticalSelfPosition_Score=1 | CS189: something that has value regardless of external factors. | CT189: 1 | CY189: 1 | CZ189: Yes | DA189: 0 | DB189: Yes | DC189: 1 | DD189: No | DN189: 0
... A221: 3186444 | B221: 64 | C221: 43211.022 | D221: 18.73 | E221: l63lzmy | G221: 3 | H221: 53 | I221: 1965 | J221: Completed master's degree (MA, MS, MEng, MEd, MBA, or other) | K221: 6 | L221: female | M221: 1 | N221: $40,000 to $59,999 | O221: 3 | P221: 50000 | Q221: United States | R221: desktop | S221: 43210.854 | T221: something that is valued innately and has not external 'value.' | U221: love,family,compassion,honesty,forgiveness,art,beauty,honor,dignity,sacrifice,commitment,fortitude,bravery | V221: [love, family, compassion, honesty, forgiveness, art, beauty, honor, dignity, sacrifice, commitment, fortitude, bravery] | W221: [[Not something I value, 0], [A value of mine, but not an intrinisic value (I value it only because of what it causes), 1], [An intrinsic value of mine (I value it even if it causes nothing else), 2]] | X221: m4j75ti,higviv5,rqiszcv,ve67ryu,nnnikwl,zqv8d37,33ksqp9,7fbh60h,cnktu1l,f6aoczu,9pj3mvf,ks3khiy,p7miry7,pbg7jqy,rvjclrh,tfys9nh,whml14c,b6so6w4,dy2r65d,6z35kho,yv4sxs9,sjyi06d,d1rdeyt,8lc2rp7,bz15rxo,tv60egf,p0pattz,loyblsl,cwljlbf,b3kxzzi,we9zef6,q2ws20f,duvf5i5,cl3xz2o,oqwzncg,lp32tzz,4udr0wf,r10kvni,rytm9f6,yn9dzzq,tap7yp7,6ye7hrk,prkoiue,th6zdg0,s1ygz8e,5p79zt1,yjwwrlq,ze3j4yw,chphkqo,9seol1h,eynzxu6,3mo7qil,ieuyv2e,uxw5h8v,8ztjo6s,7a2hyb1,ycvqx2r,g7x30fr,e98cezb,tpc0o1f | Y221: 2 | Z221: 0 | AA221: 1 | AB221: 2 | AC221: 1 | AD221: 1 | AE221: 1 | AF221: 2 | AG221: 2 | AH221: 2 | AI221: 2 | AJ221: 1 | AK221: 1 | AL221: 2 | AM221: 2 | AN221: 2 | AO221: 2 | AP221: 2 | AQ221: 2 | AR221: 2 | AS221: 2 | AT221: 0 | AU221: 1 | AV221: 1 | AW221: 2 | AX221: 2 | AY221: 1 | AZ221: 2 | BA221: 1 | BB221: 1 | BC221: 2 | BD221: 2 | BE221: 2 | BF221: 2 | BG221: 2 | BH221: 2 | BI221: 1 | BJ221: 1 | BK221: 1 | BL221: 1 | BM221: 1 | BN221: 2 | BO221: 1 | BP221: 1 | BQ221: 2 | BR221: 1 | BS221: 1 | BT221: 1 | BU221: 0 | BV221: 0 | BW221: 2 | BX221: 1 | BY221: 2 | BZ221: 0 | CA221: 0 | CB221: 2 | CC221: 1 | CD221: 1 | CE221: 2 | CF221: 1 | CG221: 43211.035 | CJ221: 3 | CK221: 0 | CO221: Far Left | CP221: Far Left | CQ221: 1 | CR221: &Politics_PoliticalSelfPosition_Score=1 | CS221: something that is valued innately and has not external 'value.' | CT221: 1 | CY221: 1 | CZ221: No | DA221: 1 | DB221: Yes | DC221: 1 | DD221: No | DN221: 0
A222: 3186476 | B222: 70 | C222: 43211.047 | D222: 13.4 | E222: l63lzmy | G222: 1 | H222: 50 | I222: 1968 | J222: Completed trade/technical/vocational training | K222: 3 | L222: female | M222: 1 | N222: $10,000 to $24,999 | O222: 1 | P222: 17500 | Q222: United States | R222: desktop | S222: 43210.875 | T222: Something that matters even if nothing else comes from it. | U222: Days off from work,Time with my husband,Talking to my mom,Painting a picture | V222: [Days off from work, Time with my husband, Talking to my mom, Painting a picture] | W222: [[Not something I value, 0], [A value of mine, but not an intrinisic value (I value it only because of what it causes), 1], [An intrinsic value of mine (I value it even if it causes nothing else), 2]] | Y222: 0 | Z222: 0 | AA222: 2 | AB222: 2 | AC222: 2 | AD222: 1 | AE222: 1 | AF222: 2 | AG222: 2 | AH222: 0 | AI222: 2 | AJ222: 1 | AK222: 1 | AL222: 1 | AM222: 2 | AN222: 1 | AO222: 2 | AP222: 1 | AQ222: 1 | AR222: 1 | AS222: 2 | AT222: 2 | AU222: 2 | AV222: 2 | AW222: 1 | AX222: 2 | AY222: 2 | AZ222: 1 | BA222: 2 | BB222: 1 | BC222: 2 | BD222: 0 | BE222: 0 | BF222: 2 | BG222: 2 | BH222: 2 | BI222: 2 | BJ222: 1 | BK222: 0 | BL222: 2 | BM222: 1 | BN222: 2 | BO222: 2 | BP222: 2 | BQ222: 1 | BR222: 1 | BS222: 2 | BT222: 1 | BU222: 1 | BV222: 1 | BW222: 1 | BX222: 2 | BY222: 2 | BZ222: 1 | CA222: 2 | CB222: 2 | CC222: 0 | CD222: 0 | CE222: 1 | CF222: 2 | CG222: 43211.056 | CJ222: 2 | CK222: 0 | CO222: Right of Center | CP222: Right of Center | CQ222: 6 | CR222: &Politics_PoliticalSelfPosition_Score=6 | CS222: Something that matters even if nothing else comes from it. | CT222: 1 | CY222: 0 | CZ222: No | DA222: 1 | DB222: Yes | DC222: 1 | DD222: Yes | DE222: tap7yp7,9seol1h,33ksqp9,g7x30fr,q2ws20f,yjwwrlq,b6so6w4,cnktu1l,9r1t3rh,nnnikwl,cwljlbf,bz15rxo,sjyi06d,d1rdeyt,ycvqx2r,b3kxzzi,cl3xz2o,higviv5,tv60egf,4udr0wf,p7miry7,lp32tzz,duvf5i5,m4j75ti,ieuyv2e,yn9dzzq,tpc0o1f,p0pattz,x34naaq,tfys9nh,dy2r65d,7a2hyb1,we9zef6,rqiszcv,3mo7qil,ze3j4yw,prkoiue,s1ygz8e,chphkqo,eynzxu6,ve67ryu,5p79zt1,pbg7jqy,9pj3mvf,th6zdg0,6ye7hrk,r10kvni,8ztjo6s,rvjclrh,8lc2rp7,6z35kho,loyblsl,oqwzncg,7fbh60h,whml14c,uxw5h8v,zqv8d37,f6aoczu,rytm9f6,e98cezb,yv4sxs9,ks3khiy | DF222: 1 | DG222: 1 | DN222: 0

Sheet intrinsic values only
A1: Regression coefficients (normalized data):
A2: normalized Politics_PoliticalSelfPosition_Score_Rightness | B2: -0.037376 | C2: -0.037230335 | D2: 0.0097738714 | E2: -0.02921404 | F2: 0.0083685117 | G2: 0.0084785914 | H2: -0.060806585 | I2: -0.020750798 | J2: -0.028464153 | K2: 0.033573865 | L2: -0.0010607638 | M2: 0.028086235 | N2: 0.018331056 | O2: -0.0468741 | P2: 0.0089863348 | Q2: -0.107382 | R2: -0.01653249 | S2: -0.053019638 | T2: -0.019695918 | U2: -0.083218124 | V2: -0.045904831 | W2: 0.04934409 | X2: 0.020536655 | Y2: 0.045790368 | Z2: -0.087076955 | AA2: -0.078722672 | AB2: 0.061994598 | AC2: -0.029774622 | AD2: -0.075424795 | AE2: -0.0073068818 | AF2: -0.0021307796 | AG2: -0.049628959 | AH2: -0.052948357 | AI2: 0.00058524088 | AJ2: -0.075691019 | AK2: -0.073857871 | AL2: 0.0078854404 | AM2: 0.052563897 | AN2: -0.0226915 | AO2: 0.011317652 | AP2: -0.070347162 | AQ2: -0.062313351 | AR2: 0.0079689135 | AS2: 0.018116018 | AT2: -0.051345766 | AU2: -0.010623576 | AV2: -0.016420875 | AW2: -0.0080651279 | AX2: 0.057986419 | AY2: -0.0047899892 | AZ2: -0.066556697 | BA2: -0.023885166 | BB2: 0.013267175 | BC2: -0.0036865919 | BD2: 0.034816138 | BE2: -0.0017600149 | BF2: -0.01027456 | BG2: -0.028957309 | BH2: -0.02673768 | BI2: -0.054303823
A3: normalized age | B3: -0.0030527 | C3: 0.03209192 | D3: 0.0059993609 | E3: -0.012302048 | F3: -0.00078554342 | G3: 0.07668672 | H3: -0.026500919 | I3: 0.049757353 | J3: 0.056903499 | K3: 0.047641509 | L3: 0.058909742 | M3: 0.10596828 | N3: 0.00087803359 | O3: 0.071273922 | P3: 0.095336445 | Q3: 0.011151706 | R3: 0.043264006 | S3: 0.033809458 | T3: 0.035451511 | U3: 0.061811639 | V3: 0.070200637 | W3: 0.030201811 | X3: 0.0027105827 | Y3: 0.0022578653 | Z3: -0.015407002 | AA3: -0.0090958296 | AB3: 0.07293951 | AC3: 0.077084095 | AD3: 0.042058666 | AE3: 0.053166652 | AF3: 0.1168203 | AG3: -0.029653396 | AH3: 0.0093848648 | AI3: 0.10590405 | AJ3: 0.080844053 | AK3: -0.0071545342 | AL3: 0.031760742 | AM3: 0.027722133 | AN3: 0.023616342 | AO3: 0.06913747 | AP3: 0.019405449 | AQ3: 0.027519721 | AR3: -0.028922905 | AS3: -0.0064762605 | AT3: 0.051513571 | AU3: 0.030624434 | AV3: 0.052334455 | AW3: 0.047059448 | AX3: 0.068362326 | AY3: 0.045155431 | AZ3: 0.0088511643 | BA3: -0.038023214 | BB3: -0.042808392 | BC3: 0.016018646 | BD3: 0.076630605 | BE3: 0.051538845 | BF3: -0.039389674 | BG3: 0.023394325 | BH3: 0.076113099 | BI3: -0.016430985
A4: normalized femaleAs1MaleAs0 | B4: 0.03953493 | C4: 0.018357453 | D4: 0.037452832 | E4: 0.022048131 | F4: 0.030405621 | G4: 0.05018658 | H4: -0.015671072 | I4: 0.092382186 | J4: -0.030865072 | K4: 0.048663082 | L4: 0.079267581 | M4: -0.0020773485 | N4: 0.022593119 | O4: 0.12470815 | P4: 0.022971694 | Q4: -0.021730159 | R4: 0.088206133 | S4: -0.003070356 | T4: 0.062721725 | U4: 0.030011009 | V4: 0.033717309 | W4: 0.04345159 | X4: 0.080985138 | Y4: 0.0075017415 | Z4: 0.02209442 | AA4: 0.010938812 | AB4: 0.053546857 | AC4: 0.056351899 | AD4: 0.12081905 | AE4: 0.061353596 | AF4: 0.039797479 | AG4: 0.024526487 | AH4: -0.02236014 | AI4: 0.079412922 | AJ4: 0.066523031 | AK4: 0.02880449 | AL4: 0.017046701 | AM4: -0.019800959 | AN4: 0.036604931 | AO4: 0.05200941 | AP4: 0.034067159 | AQ4: 0.039837502 | AR4: -0.044065839 | AS4: 0.024501187 | AT4: 0.0085894447 | AU4: 0.062000147 | AV4: -0.0052038349 | AW4: 0.073265104 | AX4: 0.037036733 | AY4: 0.041935258 | AZ4: 0.056348873 | BA4: -0.026744673 | BB4: 0.051877369 | BC4: 0.082828277 | BD4: 0.013024261 | BE4: 0.0077288831 | BF4: 0.015087137 | BG4: 0.092777968 | BH4: 0.099306591 | BI4: -0.059638864
A5: normalized effectiveAltruist | B5: 0.01357051 | C5: -0.066146447 | D5: -0.022946477 | E5: -0.032414022 | F5: -0.09277101 | G5: -0.038094853 | H5: 0.077236171 | I5: -0.13263843 | J5: -0.0034721667 | K5: -0.093532511 | L5: -0.10294952 | M5: -0.021595516 | N5: 0.035154536 | O5: -0.063953329 | P5: -0.090220279 | Q5: 0.088260269 | R5: -0.157639 | S5: 0.041734696 | T5: -0.070842896 | U5: -0.11934034 | V5: -0.010901011 | W5: -0.071753553 | X5: -0.048415835 | Y5: -0.047486747 | Z5: 0.12915406 | AA5: 0.14813004 | AB5: -0.12669891 | AC5: -0.028615079 | AD5: -0.061397584 | AE5: 0.020829512 | AF5: -0.059314383 | AG5: 0.018075737 | AH5: 0.21020862 | AI5: -0.098486156 | AJ5: -0.056230121 | AK5: 0.17361635 | AL5: -0.09059611 | AM5: -0.074571948 | AN5: 0.034281009 | AO5: 0.065852913 | AP5: -0.049632811 | AQ5: 0.17262238 | AR5: -0.037194154 | AS5: -0.015332522 | AT5: -0.051157847 | AU5: -0.0059095889 | AV5: -0.042900047 | AW5: -0.097035629 | AX5: -0.064212299 | AY5: -0.05546567 | AZ5: 0.12881567 | BA5: 0.10624514 | BB5: -0.075649076 | BC5: 0.019135205 | BD5: -0.077495339 | BE5: 0.090082387 | BF5: -0.069323242 | BG5: -0.062028575 | BH5: -0.03865365 | BI5: 0.068886395
A7: individual correlations:
A8: correlation with age: | B8: =CORREL(B13:B227, $BL13:$BL227) -> -0.0091206969 | C8: =CORREL(C13:C227, $BL13:$BL227) -> 0.13065993 | D8: =CORREL(D13:D227, $BL13:$BL227) -> 0.06993725 | E8: =CORREL(E13:E227, $BL13:$BL227) -> 0.012873391 | F8: =CORREL(F13:F227, $BL13:$BL227) -> 0.11683171 | G8: =CORREL(G13:G227, $BL13:$BL227) -> 0.35289811 | H8: =CORREL(H13:H227, $BL13:$BL227) -> -0.16826528 | I8: =CORREL(I13:I227, $BL13:$BL227) -> 0.27954259 | ... BI8: =CORREL(BI13:BI227, $BL13:$BL227) -> -0.15600494
A9: correlation with femaleness: | B9: =CORREL(B13:B227, $BM13:$BM227) -> 0.087260776 | C9: =CORREL(C13:C227, $BM13:$BM227) -> 0.082842214 | D9: =CORREL(D13:D227, $BM13:$BM227) -> 0.10011357 | E9: =CORREL(E13:E227, $BM13:$BM227) -> 0.054768367 | F9: =CORREL(F13:F227, $BM13:$BM227) -> 0.095025457 | G9: =CORREL(G13:G227, $BM13:$BM227) -> 0.24658423 | H9: =CORREL(H13:H227, $BM13:$BM227) -> -0.068547748 | I9: =CORREL(I13:I227, $BM13:$BM227) -> 0.26095192 | ... BI9: =CORREL(BI13:BI227, $BM13:$BM227) -> -0.14834785
A10: correlation with politically right score: | B10: =CORREL(B13:B227, $BK13:$BK227) -> -0.095242867 | C10: =CORREL(C13:C227, $BK13:$BK227) -> -0.04892915 | D10: =CORREL(D13:D227, $BK13:$BK227) -> 0.026483936 | E10: =CORREL(E13:E227, $BK13:$BK227) -> -0.058287244 | F10: =CORREL(F13:F227, $BK13:$BK227) -> 0.040328281 | G10: =CORREL(G13:G227, $BK13:$BK227) -> 0.067416485 | H10: =CORREL(H13:H227, $BK13:$BK227) -> -0.15922812 | I10: =CORREL(I13:I227, $BK13:$BK227) -> -0.0026540081 | ... BI10: =CORREL(BI13:BI227, $BK13:$BK227) -> -0.12776564
A11: correlation with effectiveAltruist: | B11: =CORREL(B13:B227, $BN13:$BN227) -> 0.030538634 | C11: =CORREL(C13:C227, $BN13:$BN227) -> -0.1601693 | D11: =CORREL(D13:D227, $BN13:$BN227) -> -0.079869142 | E11: =CORREL(E13:E227, $BN13:$BN227) -> -0.053849165 | F11: =CORREL(F13:F227, $BN13:$BN227) -> -0.20618562 | G11: =CORREL(G13:G227, $BN13:$BN227) -> -0.27486127 | H11: =CORREL(H13:H227, $BN13:$BN227) -> 0.21806133 | I11: =CORREL(I13:I227, $BN13:$BN227) -> -0.3407336 | ... BI11: =CORREL(BI13:BI227, $BN13:$BN227) -> 0.19557806
B12: ='all data'!Y7 -> That people I don't know live longer than they normally would (3mo7qil) | C12: ='all data'!Z7 -> That I increase my understanding of the nature of reality beyond my current understanding (rytm9f6) | D12: ='all data'!AA7 -> That I myself live longer than I normally would (q2ws20f) | E12: ='all data'!AB7 -> That humanity continues to makes progress discovering things that weren't previously known (sjyi06d) | F12: ='all data'!AC7 -> That I don't become less intelligent than I am now (f6aoczu) | G12: ='all data'!AD7 -> That the nature of what humans are is not one day radically altered by advanced technology (cl3xz2o) | H12: ='all data'!AE7 -> That I myself suffer less than I do normally (p7miry7) | I12: ='all data'!AF7 -> That I continue to care about other people (duvf5i5) | ... BI12: ='all data'!CF7 -> That I myself experience more pleasure than I do normally (pbg7jqy) | BK12: ='all data'!CQ7 -> Politics_PoliticalSelfPosition_Score | BL12: ='all data'!H7 -> age | BM12: ='all data'!M7 -> femaleAs1MaleAs0 | BN12: ='all data'!DN7 -> effectiveAltruist | BP12: ="normalized " & BK12 -> normalized Politics_PoliticalSelfPosition_Score | BQ12: ="normalized " & BL12 -> normalized age | BR12: ="normalized " & BM12 -> normalized femaleAs1MaleAs0 | BS12: ="normalized " & BN12 -> normalized effectiveAltruist
B13: =IF('all data'!Y8=2, 1,0) -> 0 | C13: =IF('all data'!Z8=2, 1,0) -> 1 | D13: =IF('all data'!AA8=2, 1,0) -> 1 | E13: =IF('all data'!AB8=2, 1,0) -> 0 | F13: =IF('all data'!AC8=2, 1,0) -> 1 | G13: =IF('all data'!AD8=2, 1,0) -> 0 | H13: =IF('all data'!AE8=2, 1,0) -> 1 | I13: =IF('all data'!AF8=2, 1,0) -> 1 | ... BI13: =IF('all data'!CF8=2, 1,0) -> 0 | BK13: ='all data'!CQ8 -> 2 | BL13: ='all data'!H8 -> 22 | BM13: ='all data'!M8 -> 1 | BN13: ='all data'!DN8 -> 1 | BP13: =(BK13 - AVERAGE(BK$13:BK$227)) / _xlfn.STDEV.S(BK$13:BK$227) -> -1.0202684 | BQ13: =(BL13 - AVERAGE(BL$13:BL$227)) / _xlfn.STDEV.S(BL$13:BL$227) -> -0.85179056 | BR13: =(BM13 - AVERAGE(BM$13:BM$227)) / _xlfn.STDEV.S(BM$13:BM$227) -> 1.2960136 | BS13: =(BN13 - AVERAGE(BN$13:BN$227)) / _xlfn.STDEV.S(BN$13:BN$227) -> 1.1289514
B14: =IF('all data'!Y9=2, 1,0) -> 1 | C14: =IF('all data'!Z9=2, 1,0) -> 1 | D14: =IF('all data'!AA9=2, 1,0) -> 1 | E14: =IF('all data'!AB9=2, 1,0) -> 1 | F14: =IF('all data'!AC9=2, 1,0) -> 1 | G14: =IF('all data'!AD9=2, 1,0) -> 0 | H14: =IF('all data'!AE9=2, 1,0) -> 1 | I14: =IF('all data'!AF9=2, 1,0) -> 0 | ... BI14: =IF('all data'!CF9=2, 1,0) -> 1 | BK14: ='all data'!CQ9 -> 2 | BL14: ='all data'!H9 -> 26 | BM14: ='all data'!M9 -> 1 | BN14: ='all data'!DN9 -> 1 | BP14: =(BK14 - AVERAGE(BK$13:BK$227)) / _xlfn.STDEV.S(BK$13:BK$227) -> -1.0202684 | BQ14: =(BL14 - AVERAGE(BL$13:BL$227)) / _xlfn.STDEV.S(BL$13:BL$227) -> -0.48734286 | BR14: =(BM14 - AVERAGE(BM$13:BM$227)) / _xlfn.STDEV.S(BM$13:BM$227) -> 1.2960136 | BS14: =(BN14 - AVERAGE(BN$13:BN$227)) / _xlfn.STDEV.S(BN$13:BN$227) -> 1.1289514
B15: =IF('all data'!Y10=2, 1,0) -> 0 | C15: =IF('all data'!Z10=2, 1,0) -> 1 | D15: =IF('all data'!AA10=2, 1,0) -> 0 | E15: =IF('all data'!AB10=2, 1,0) -> 0 | F15: =IF('all data'!AC10=2, 1,0) -> 1 | G15: =IF('all data'!AD10=2, 1,0) -> 0 | H15: =IF('all data'!AE10=2, 1,0) -> 0 | I15: =IF('all data'!AF10=2, 1,0) -> 0 | ... BI15: =IF('all data'!CF10=2, 1,0) -> 0 | BK15: ='all data'!CQ10 -> 3 | BL15: ='all data'!H10 -> 25 | BM15: ='all data'!M10 -> 0 | BN15: ='all data'!DN10 -> 1 | BP15: =(BK15 - AVERAGE(BK$13:BK$227)) / _xlfn.STDEV.S(BK$13:BK$227) -> -0.50169227 | BQ15: =(BL15 - AVERAGE(BL$13:BL$227)) / _xlfn.STDEV.S(BL$13:BL$227) -> -0.57845478 | BR15: =(BM15 - AVERAGE(BM$13:BM$227)) / _xlfn.STDEV.S(BM$13:BM$227) -> -0.76800804 | BS15: =(BN15 - AVERAGE(BN$13:BN$227)) / _xlfn.STDEV.S(BN$13:BN$227) -> 1.1289514
B16: =IF('all data'!Y11=2, 1,0) -> 0 | C16: =IF('all data'!Z11=2, 1,0) -> 0 | D16: =IF('all data'!AA11=2, 1,0) -> 0 | E16: =IF('all data'!AB11=2, 1,0) -> 0 | F16: =IF('all data'!AC11=2, 1,0) -> 0 | G16: =IF('all data'!AD11=2, 1,0) -> 0 | H16: =IF('all data'!AE11=2, 1,0) -> 0 | I16: =IF('all data'!AF11=2, 1,0) -> 1 | ... BI16: =IF('all data'!CF11=2, 1,0) -> 0 | BK16: ='all data'!CQ11 -> 5.5 | BL16: ='all data'!H11 -> 30 | BM16: ='all data'!M11 -> 1 | BN16: ='all data'!DN11 -> 1 | BP16: =(BK16 - AVERAGE(BK$13:BK$227)) / _xlfn.STDEV.S(BK$13:BK$227) -> 0.79474809 | BQ16: =(BL16 - AVERAGE(BL$13:BL$227)) / _xlfn.STDEV.S(BL$13:BL$227) -> -0.12289516 | BR16: =(BM16 - AVERAGE(BM$13:BM$227)) / _xlfn.STDEV.S(BM$13:BM$227) -> 1.2960136 | BS16: =(BN16 - AVERAGE(BN$13:BN$227)) / _xlfn.STDEV.S(BN$13:BN$227) -> 1.1289514
B17: =IF('all data'!Y12=2, 1,0) -> 1 | C17: =IF('all data'!Z12=2, 1,0) -> 1 | D17: =IF('all data'!AA12=2, 1,0) -> 1 | E17: =IF('all data'!AB12=2, 1,0) -> 1 | F17: =IF('all data'!AC12=2, 1,0) -> 1 | G17: =IF('all data'!AD12=2, 1,0) -> 0 | H17: =IF('all data'!AE12=2, 1,0) -> 1 | I17: =IF('all data'!AF12=2, 1,0) -> 1 | ... BI17: =IF('all data'!CF12=2, 1,0) -> 1 | BK17: ='all data'!CQ12 -> 1 | BL17: ='all data'!H12 -> 19 | BM17: ='all data'!M12 -> 0 | BN17: ='all data'!DN12 -> 1 | BP17: =(BK17 - AVERAGE(BK$13:BK$227)) / _xlfn.STDEV.S(BK$13:BK$227) -> -1.5388446 | BQ17: =(BL17 - AVERAGE(BL$13:BL$227)) / _xlfn.STDEV.S(BL$13:BL$227) -> -1.1251263 | BR17: =(BM17 - AVERAGE(BM$13:BM$227)) / _xlfn.STDEV.S(BM$13:BM$227) -> -0.76800804 | BS17: =(BN17 - AVERAGE(BN$13:BN$227)) / _xlfn.STDEV.S(BN$13:BN$227) -> 1.1289514
B18: =IF('all data'!Y13=2, 1,0) -> 0 | C18: =IF('all data'!Z13=2, 1,0) -> 1 | D18: =IF('all data'!AA13=2, 1,0) -> 1 | E18: =IF('all data'!AB13=2, 1,0) -> 1 | F18: =IF('all data'!AC13=2, 1,0) -> 1 | G18: =IF('all data'!AD13=2, 1,0) -> 0 | H18: =IF('all data'!AE13=2, 1,0) -> 1 | I18: =IF('all data'!AF13=2, 1,0) -> 1 | ... BI18: =IF('all data'!CF13=2, 1,0) -> 1 | BK18: ='all data'!CQ13 -> 2 | BL18: ='all data'!H13 -> 26 | BM18: ='all data'!M13 -> 1 | BN18: ='all data'!DN13 -> 1 | BP18: =(BK18 - AVERAGE(BK$13:BK$227)) / _xlfn.STDEV.S(BK$13:BK$227) -> -1.0202684 | BQ18: =(BL18 - AVERAGE(BL$13:BL$227)) / _xlfn.STDEV.S(BL$13:BL$227) -> -0.48734286 | BR18: =(BM18 - AVERAGE(BM$13:BM$227)) / _xlfn.STDEV.S(BM$13:BM$227) -> 1.2960136 | BS18: =(BN18 - AVERAGE(BN$13:BN$227)) / _xlfn.STDEV.S(BN$13:BN$227) -> 1.1289514
B19: =IF('all data'!Y14=2, 1,0) -> 0 | C19: =IF('all data'!Z14=2, 1,0) -> 0 | D19: =IF('all data'!AA14=2, 1,0) -> 0 | E19: =IF('all data'!AB14=2, 1,0) -> 0 | F19: =IF('all data'!AC14=2, 1,0) -> 0 | G19: =IF('all data'!AD14=2, 1,0) -> 0 | H19: =IF('all data'!AE14=2, 1,0) -> 0 | I19: =IF('all data'!AF14=2, 1,0) -> 0 | ... BI19: =IF('all data'!CF14=2, 1,0) -> 0 | BK19: ='all data'!CQ14 -> 6 | BL19: ='all data'!H14 -> 22 | BM19: ='all data'!M14 -> 1 | BN19: ='all data'!DN14 -> 1 | BP19: =(BK19 - AVERAGE(BK$13:BK$227)) / _xlfn.STDEV.S(BK$13:BK$227) -> 1.0540362 | BQ19: =(BL19 - AVERAGE(BL$13:BL$227)) / _xlfn.STDEV.S(BL$13:BL$227) -> -0.85179056 | BR19: =(BM19 - AVERAGE(BM$13:BM$227)) / _xlfn.STDEV.S(BM$13:BM$227) -> 1.2960136 | BS19: =(BN19 - AVERAGE(BN$13:BN$227)) / _xlfn.STDEV.S(BN$13:BN$227) -> 1.1289514
B20: =IF('all data'!Y15=2, 1,0) -> 1 | C20: =IF('all data'!Z15=2, 1,0) -> 0 | D20: =IF('all data'!AA15=2, 1,0) -> 0 | E20: =IF('all data'!AB15=2, 1,0) -> 1 | F20: =IF('all data'!AC15=2, 1,0) -> 0 | G20: =IF('all data'!AD15=2, 1,0) -> 0 | H20: =IF('all data'!AE15=2, 1,0) -> 1 | I20: =IF('all data'!AF15=2, 1,0) -> 1 | ... BI20: =IF('all data'!CF15=2, 1,0) -> 1 | BK20: ='all data'!CQ15 -> 3 | BL20: ='all data'!H15 -> 24 | BM20: ='all data'!M15 -> 1 | BN20: ='all data'!DN15 -> 1 | BP20: =(BK20 - AVERAGE(BK$13:BK$227)) / _xlfn.STDEV.S(BK$13:BK$227) -> -0.50169227 | BQ20: =(BL20 - AVERAGE(BL$13:BL$227)) / _xlfn.STDEV.S(BL$13:BL$227) -> -0.66956671 | BR20: =(BM20 - AVERAGE(BM$13:BM$227)) / _xlfn.STDEV.S(BM$13:BM$227) -> 1.2960136 | BS20: =(BN20 - AVERAGE(BN$13:BN$227)) / _xlfn.STDEV.S(BN$13:BN$227) -> 1.1289514
B21: =IF('all data'!Y16=2, 1,0) -> 0 | C21: =IF('all data'!Z16=2, 1,0) -> 0 | D21: =IF('all data'!AA16=2, 1,0) -> 0 | E21: =IF('all data'!AB16=2, 1,0) -> 0 | F21: =IF('all data'!AC16=2, 1,0) -> 0 | G21: =IF('all data'!AD16=2, 1,0) -> 0 | H21: =IF('all data'!AE16=2, 1,0) -> 1 | I21: =IF('all data'!AF16=2, 1,0) -> 0 | ... BI21: =IF('all data'!CF16=2, 1,0) -> 1 | BK21: ='all data'!CQ16 -> 5.5 | BL21: ='all data'!H16 -> 27 | BM21: ='all data'!M16 -> 0 | BN21: ='all data'!DN16 -> 1 | BP21: =(BK21 - AVERAGE(BK$13:BK$227)) / _xlfn.STDEV.S(BK$13:BK$227) -> 0.79474809 | BQ21: =(BL21 - AVERAGE(BL$13:BL$227)) / _xlfn.STDEV.S(BL$13:BL$227) -> -0.39623093 | BR21: =(BM21 - AVERAGE(BM$13:BM$227)) / _xlfn.STDEV.S(BM$13:BM$227) -> -0.76800804 | BS21: =(BN21 - AVERAGE(BN$13:BN$227)) / _xlfn.STDEV.S(BN$13:BN$227) -> 1.1289514
B22: =IF('all data'!Y17=2, 1,0) -> 0 | C22: =IF('all data'!Z17=2, 1,0) -> 0 | D22: =IF('all data'!AA17=2, 1,0) -> 0 | E22: =IF('all data'!AB17=2, 1,0) -> 0 | F22: =IF('all data'!AC17=2, 1,0) -> 1 | G22: =IF('all data'!AD17=2, 1,0) -> 0 | H22: =IF('all data'!AE17=2, 1,0) -> 0 | I22: =IF('all data'!AF17=2, 1,0) -> 1 | ... BI22: =IF('all data'!CF17=2, 1,0) -> 0 | BK22: ='all data'!CQ17 -> 7 | BL22: ='all data'!H17 -> 24 | BM22: ='all data'!M17 -> 0 | BN22: ='all data'!DN17 -> 1 | BP22: =(BK22 - AVERAGE(BK$13:BK$227)) / _xlfn.STDEV.S(BK$13:BK$227) -> 1.5726123 | BQ22: =(BL22 - AVERAGE(BL$13:BL$227)) / _xlfn.STDEV.S(BL$13:BL$227) -> -0.66956671 | BR22: =(BM22 - AVERAGE(BM$13:BM$227)) / _xlfn.STDEV.S(BM$13:BM$227) -> -0.76800804 | BS22: =(BN22 - AVERAGE(BN$13:BN$227)) / _xlfn.STDEV.S(BN$13:BN$227) -> 1.1289514
B23: =IF('all data'!Y18=2, 1,0) -> 1 | C23: =IF('all data'!Z18=2, 1,0) -> 0 | D23: =IF('all data'!AA18=2, 1,0) -> 0 | E23: =IF('all data'!AB18=2, 1,0) -> 1 | F23: =IF('all data'!AC18=2, 1,0) -> 0 | G23: =IF('all data'!AD18=2, 1,0) -> 0 | H23: =IF('all data'!AE18=2, 1,0) -> 1 | I23: =IF('all data'!AF18=2, 1,0) -> 0 | ... BI23: =IF('all data'!CF18=2, 1,0) -> 1 | BK23: ='all data'!CQ18 -> 6 | BL23: ='all data'!H18 -> 29 | BM23: ='all data'!M18 -> 0 | BN23: ='all data'!DN18 -> 1 | BP23: =(BK23 - AVERAGE(BK$13:BK$227)) / _xlfn.STDEV.S(BK$13:BK$227) -> 1.0540362 | BQ23: =(BL23 - AVERAGE(BL$13:BL$227)) / _xlfn.STDEV.S(BL$13:BL$227) -> -0.21400708 | BR23: =(BM23 - AVERAGE(BM$13:BM$227)) / _xlfn.STDEV.S(BM$13:BM$227) -> -0.76800804 | BS23: =(BN23 - AVERAGE(BN$13:BN$227)) / _xlfn.STDEV.S(BN$13:BN$227) -> 1.1289514
B24: =IF('all data'!Y19=2, 1,0) -> 0 | C24: =IF('all data'!Z19=2, 1,0) -> 0 | D24: =IF('all data'!AA19=2, 1,0) -> 0 | E24: =IF('all data'!AB19=2, 1,0) -> 0 | F24: =IF('all data'!AC19=2, 1,0) -> 0 | G24: =IF('all data'!AD19=2, 1,0) -> 0 | H24: =IF('all data'!AE19=2, 1,0) -> 0 | I24: =IF('all data'!AF19=2, 1,0) -> 0 | ... BI24: =IF('all data'!CF19=2, 1,0) -> 0 | BK24: ='all data'!CQ19 -> 3 | BL24: ='all data'!H19 -> 25 | BM24: ='all data'!M19 -> 0 | BN24: ='all data'!DN19 -> 1 | BP24: =(BK24 - AVERAGE(BK$13:BK$227)) / _xlfn.STDEV.S(BK$13:BK$227) -> -0.50169227 | BQ24: =(BL24 - AVERAGE(BL$13:BL$227)) / _xlfn.STDEV.S(BL$13:BL$227) -> -0.57845478 | BR24: =(BM24 - AVERAGE(BM$13:BM$227)) / _xlfn.STDEV.S(BM$13:BM$227) -> -0.76800804 | BS24: =(BN24 - AVERAGE(BN$13:BN$227)) / _xlfn.STDEV.S(BN$13:BN$227) -> 1.1289514
... B227: =IF('all data'!Y222=2, 1,0) -> 0 | C227: =IF('all data'!Z222=2, 1,0) -> 0 | D227: =IF('all data'!AA222=2, 1,0) -> 1 | E227: =IF('all data'!AB222=2, 1,0) -> 1 | F227: =IF('all data'!AC222=2, 1,0) -> 1 | G227: =IF('all data'!AD222=2, 1,0) -> 0 | H227: =IF('all data'!AE222=2, 1,0) -> 0 | I227: =IF('all data'!AF222=2, 1,0) -> 1 | ... BI227: =IF('all data'!CF222=2, 1,0) -> 1 | BK227: ='all data'!CQ222 -> 6 | BL227: ='all data'!H222 -> 50 | BM227: ='all data'!M222 -> 1 | BN227: ='all data'!DN222 -> 0 | BP227: =(BK227 - AVERAGE(BK$13:BK$227)) / _xlfn.STDEV.S(BK$13:BK$227) -> 1.0540362 | BQ227: =(BL227 - AVERAGE(BL$13:BL$227)) / _xlfn.STDEV.S(BL$13:BL$227) -> 1.6993434 | BR227: =(BM227 - AVERAGE(BM$13:BM$227)) / _xlfn.STDEV.S(BM$13:BM$227) -> 1.2960136 | BS227: =(BN227 - AVERAGE(BN$13:BN$227)) / _xlfn.STDEV.S(BN$13:BN$227) -> -1.274262

Sheet pivot table counts
A3: Row Labels | B3: Count of effectiveAltruist | C3: Count of effectiveAltruist2
A4: 0 | B4: 68 | C4: 0.31627907
A5: 0.5 | B5: 66 | C5: 0.30697674
A6: 1 | B6: 81 | C6: 0.37674419
A7: (blank) | C7: 0
A8: Grand Total | B8: 215 | C8: 1
A15: Row Labels | B15: Count of gender | C15: Count of gender2
A16: female | B16: 105 | C16: 0.39772727
A17: male | B17: 155 | C17: 0.58712121
A18: other | B18: 4 | C18: 0.015151515
A19: (blank) | C19: 0
A20: Grand Total | B20: 264 | C20: 1
